Index of /checkResults/3.19/bioc-LATEST/alabaster.schemas/raw-results/lconway

[ICO]NameLast modifiedSizeDescription

[DIR]Parent Directory  -  
[TXT]buildbin-out.txt12-Jun-2024 03:41 1.2K 
[   ]buildbin-summary.dcf12-Jun-2024 03:41 586  
[TXT]buildsrc-out.txt12-Jun-2024 03:41 855  
[   ]buildsrc-summary.dcf12-Jun-2024 03:41 454  
[TXT]checksrc-out.txt12-Jun-2024 03:41 2.5K 
[   ]checksrc-summary.dcf12-Jun-2024 03:41 481  
[TXT]install-out.txt12-Jun-2024 03:41 1.0K 
[   ]install-summary.dcf12-Jun-2024 03:41 288