Index of /checkResults/3.19/bioc-LATEST/alabaster.schemas/raw-results/kjohnson3

[ICO]NameLast modifiedSizeDescription

[DIR]Parent Directory  -  
[TXT]buildbin-out.txt12-Jun-2024 03:43 1.2K 
[   ]buildbin-summary.dcf12-Jun-2024 03:43 586  
[TXT]buildsrc-out.txt12-Jun-2024 03:43 855  
[   ]buildsrc-summary.dcf12-Jun-2024 03:43 454  
[TXT]checksrc-out.txt12-Jun-2024 03:43 2.5K 
[   ]checksrc-summary.dcf12-Jun-2024 03:43 481  
[TXT]install-out.txt12-Jun-2024 03:43 1.0K 
[   ]install-summary.dcf12-Jun-2024 03:43 287