Index of /checkResults/3.19/bioc-LATEST/airpart/raw-results/palomino3

[ICO]NameLast modifiedSizeDescription

[DIR]Parent Directory  -  
[TXT]buildbin-out.txt29-Jun-2024 06:40 1.1K 
[   ]buildbin-summary.dcf29-Jun-2024 06:40 515  
[TXT]buildsrc-out.txt29-Jun-2024 06:40 839  
[   ]buildsrc-summary.dcf29-Jun-2024 06:40 451  
[TXT]checksrc-out.txt29-Jun-2024 06:40 5.0K 
[   ]checksrc-summary.dcf29-Jun-2024 06:40 447  
[TXT]install-out.txt29-Jun-2024 06:40 962  
[   ]install-summary.dcf29-Jun-2024 06:40 268