Index of /checkResults/3.19/bioc-LATEST/airpart/raw-results/merida1

[ICO]NameLast modifiedSizeDescription

[DIR]Parent Directory  -  
[TXT]buildbin-out.txt20-Jul-2024 06:39 1.1K 
[   ]buildbin-summary.dcf20-Jul-2024 06:39 530  
[TXT]buildsrc-out.txt20-Jul-2024 06:39 816  
[   ]buildsrc-summary.dcf20-Jul-2024 06:39 428  
[TXT]checksrc-out.txt20-Jul-2024 06:39 5.0K 
[   ]checksrc-summary.dcf20-Jul-2024 06:39 444  
[TXT]install-out.txt20-Jul-2024 06:39 1.0K 
[   ]install-summary.dcf20-Jul-2024 06:39 269