Index of /checkResults/3.19/bioc-LATEST/a4Core/raw-results

[ICO]NameLast modifiedSizeDescription

[DIR]Parent Directory  -  
[   ]info.dcf21-May-2024 00:34 282  
[DIR]kunpeng2/10-May-2024 00:40 -  
[DIR]lconway/21-May-2024 00:37 -  
[DIR]merida1/05-Mar-2024 01:38 -  
[DIR]nebbiolo1/21-May-2024 00:35 -  
[DIR]palomino3/21-May-2024 00:36 -