Index of /checkResults/3.19/bioc-LATEST/a4Classif/raw-results/palomino3

[ICO]NameLast modifiedSizeDescription

[DIR]Parent Directory  -  
[TXT]buildbin-out.txt29-Jun-2024 06:40 1.1K 
[   ]buildbin-summary.dcf29-Jun-2024 06:40 527  
[TXT]buildsrc-out.txt29-Jun-2024 06:40 849  
[   ]buildsrc-summary.dcf29-Jun-2024 06:40 460  
[TXT]checksrc-out.txt29-Jun-2024 06:40 3.6K 
[   ]checksrc-summary.dcf29-Jun-2024 06:40 454  
[TXT]install-out.txt29-Jun-2024 06:40 968  
[   ]install-summary.dcf29-Jun-2024 06:40 272