Index of /checkResults/3.19/bioc-LATEST/a4Classif/raw-results/nebbiolo1

[ICO]NameLast modifiedSizeDescription

[DIR]Parent Directory  -  
[TXT]buildsrc-out.txt20-Jul-2024 06:37 814  
[   ]buildsrc-summary.dcf20-Jul-2024 06:37 423  
[TXT]checksrc-out.txt20-Jul-2024 06:37 3.6K 
[   ]checksrc-summary.dcf20-Jul-2024 06:37 421  
[TXT]install-out.txt20-Jul-2024 06:37 958  
[   ]install-summary.dcf20-Jul-2024 06:37 262