Index of /checkResults/3.19/bioc-LATEST/a4Classif/raw-results/lconway

[ICO]NameLast modifiedSizeDescription

[DIR]Parent Directory  -  
[TXT]buildbin-out.txt12-Jun-2024 03:41 1.2K 
[   ]buildbin-summary.dcf12-Jun-2024 03:41 542  
[TXT]buildsrc-out.txt12-Jun-2024 03:41 824  
[   ]buildsrc-summary.dcf12-Jun-2024 03:41 433  
[TXT]checksrc-out.txt12-Jun-2024 03:41 3.6K 
[   ]checksrc-summary.dcf12-Jun-2024 03:41 451  
[TXT]install-out.txt12-Jun-2024 03:41 1.0K 
[   ]install-summary.dcf12-Jun-2024 03:41 272