Index of /checkResults/3.19/bioc-LATEST/a4Classif/raw-results/kunpeng2

[ICO]NameLast modifiedSizeDescription

[DIR]Parent Directory  -  
[TXT]buildsrc-out.txt10-May-2024 00:40 825  
[   ]buildsrc-summary.dcf10-May-2024 00:40 434  
[TXT]checksrc-out.txt10-May-2024 00:40 3.7K 
[   ]checksrc-summary.dcf10-May-2024 00:40 459  
[TXT]install-out.txt10-May-2024 00:40 1.0K 
[   ]install-summary.dcf10-May-2024 00:40 273