Index of /checkResults/3.19/bioc-LATEST/a4Classif/raw-results/kjohnson3

[ICO]NameLast modifiedSizeDescription

[DIR]Parent Directory  -  
[TXT]buildbin-out.txt12-Jun-2024 03:43 1.2K 
[   ]buildbin-summary.dcf12-Jun-2024 03:43 540  
[TXT]buildsrc-out.txt12-Jun-2024 03:43 824  
[   ]buildsrc-summary.dcf12-Jun-2024 03:43 433  
[TXT]checksrc-out.txt12-Jun-2024 03:43 3.6K 
[   ]checksrc-summary.dcf12-Jun-2024 03:43 452  
[TXT]install-out.txt12-Jun-2024 03:43 1.0K 
[   ]install-summary.dcf12-Jun-2024 03:43 273