Index of /checkResults/3.19/bioc-LATEST/a4/raw-results/nebbiolo1

[ICO]NameLast modifiedSizeDescription

[DIR]Parent Directory  -  
[TXT]buildsrc-out.txt20-Jul-2024 06:37 786  
[   ]buildsrc-summary.dcf20-Jul-2024 06:37 403  
[TXT]checksrc-out.txt20-Jul-2024 06:37 3.1K 
[   ]checksrc-summary.dcf20-Jul-2024 06:37 394  
[TXT]install-out.txt20-Jul-2024 06:37 1.0K 
[   ]install-summary.dcf20-Jul-2024 06:37 249