Index of /checkResults/3.19/bioc-LATEST/a4/raw-results

[ICO]NameLast modifiedSizeDescription

[DIR]Parent Directory  -  
[   ]info.dcf12-Jun-2024 03:37 274  
[DIR]kjohnson3/12-Jun-2024 03:43 -  
[DIR]kunpeng2/10-May-2024 00:40 -  
[DIR]lconway/12-Jun-2024 03:41 -  
[DIR]merida1/05-Mar-2024 01:38 -  
[DIR]nebbiolo1/12-Jun-2024 03:39 -  
[DIR]palomino3/12-Jun-2024 03:40 -