Back to Multiple platform build/check report for BioC 3.19:   simplified   long
[A]BCDEFGHIJKLMNOPQRSTUVWXYZ

This page was generated on 2024-05-20 11:37:39 -0400 (Mon, 20 May 2024).

HostnameOSArch (*)R versionInstalled pkgs
nebbiolo1Linux (Ubuntu 22.04.3 LTS)x86_644.4.0 (2024-04-24) -- "Puppy Cup" 4751
palomino3Windows Server 2022 Datacenterx644.4.0 (2024-04-24 ucrt) -- "Puppy Cup" 4485
lconwaymacOS 12.7.1 Montereyx86_644.4.0 (2024-04-24) -- "Puppy Cup" 4515
Click on any hostname to see more info about the system (e.g. compilers)      (*) as reported by 'uname -p', except on Windows and Mac OS X

Package 1/2300HostnameOS / ArchINSTALLBUILDCHECKBUILD BIN
a4 1.52.0  (landing page)
Laure Cougnaud
Snapshot Date: 2024-05-19 14:00:13 -0400 (Sun, 19 May 2024)
git_url: https://git.bioconductor.org/packages/a4
git_branch: RELEASE_3_19
git_last_commit: 1270e4d
git_last_commit_date: 2024-04-30 10:24:21 -0400 (Tue, 30 Apr 2024)
nebbiolo1Linux (Ubuntu 22.04.3 LTS) / x86_64  OK    OK    OK  UNNEEDED, same version is already published
palomino3Windows Server 2022 Datacenter / x64  OK    OK    OK    OK  UNNEEDED, same version is already published
lconwaymacOS 12.7.1 Monterey / x86_64  OK    OK    OK    OK  UNNEEDED, same version is already published
kjohnson3macOS 13.6.5 Ventura / arm64see weekly results here

BUILD BIN results for a4 on lconway


To the developers/maintainers of the a4 package:
- Allow up to 24 hours (and sometimes 48 hours) for your latest push to git@git.bioconductor.org:packages/a4.git to reflect on this report. See Troubleshooting Build Report for more information.
- Use the following Renviron settings to reproduce errors and warnings.
- If 'R CMD check' started to fail recently on the Linux builder(s) over a missing dependency, add the missing dependency to 'Suggests:' in your DESCRIPTION file. See Renviron.bioc for more information.

raw results


Summary

Package: a4
Version: 1.52.0
Command: rm -rf a4.buildbin-libdir && mkdir a4.buildbin-libdir && /Users/biocbuild/BBS/utils/build-universal.sh a4_1.52.0.tar.gz /Library/Frameworks/R.framework/Resources/bin/R a4.buildbin-libdir
StartedAt: 2024-05-20 01:07:06 -0400 (Mon, 20 May 2024)
EndedAt: 2024-05-20 01:07:35 -0400 (Mon, 20 May 2024)
EllapsedTime: 29.9 seconds
RetCode: 0
Status:   OK  
PackageFile: a4_1.52.0.tgz
PackageFileSize: 1.185 MiB

Command output

##############################################################################
##############################################################################
###
### Running command:
###
###   rm -rf a4.buildbin-libdir && mkdir a4.buildbin-libdir && /Users/biocbuild/BBS/utils/build-universal.sh a4_1.52.0.tar.gz /Library/Frameworks/R.framework/Resources/bin/R a4.buildbin-libdir
###
##############################################################################
##############################################################################


>>>>>>> 
>>>>>>> INSTALLATION WITH 'R CMD INSTALL --preclean --no-multiarch --library=a4.buildbin-libdir a4_1.52.0.tar.gz'
>>>>>>> 

* installing *source* package ‘a4’ ...
** using staged installation
** R
** inst
** byte-compile and prepare package for lazy loading
** help
No man pages found in package  ‘a4’ 
*** installing help indices
** building package indices
** installing vignettes
** testing if installed package can be loaded from temporary location
** testing if installed package can be loaded from final location
** testing if installed package keeps a record of temporary installation path
* DONE (a4)