Back to Multiple platform build/check report for BioC 3.19:   simplified   long
ABCDEFGHIJKLMNOPQRSTU[V]WXYZ

This page was generated on 2024-05-21 11:37:40 -0400 (Tue, 21 May 2024).

HostnameOSArch (*)R versionInstalled pkgs
nebbiolo1Linux (Ubuntu 22.04.3 LTS)x86_644.4.0 (2024-04-24) -- "Puppy Cup" 4751
palomino3Windows Server 2022 Datacenterx644.4.0 (2024-04-24 ucrt) -- "Puppy Cup" 4485
lconwaymacOS 12.7.1 Montereyx86_644.4.0 (2024-04-24) -- "Puppy Cup" 4515
Click on any hostname to see more info about the system (e.g. compilers)      (*) as reported by 'uname -p', except on Windows and Mac OS X

Package 2267/2300HostnameOS / ArchINSTALLBUILDCHECKBUILD BIN
Voyager 1.6.0  (landing page)
Lambda Moses
Snapshot Date: 2024-05-20 14:00:15 -0400 (Mon, 20 May 2024)
git_url: https://git.bioconductor.org/packages/Voyager
git_branch: RELEASE_3_19
git_last_commit: 230f4ab
git_last_commit_date: 2024-04-30 11:45:12 -0400 (Tue, 30 Apr 2024)
nebbiolo1Linux (Ubuntu 22.04.3 LTS) / x86_64  OK    OK    OK  UNNEEDED, same version is already published
palomino3Windows Server 2022 Datacenter / x64  OK    OK    OK    OK  UNNEEDED, same version is already published
lconwaymacOS 12.7.1 Monterey / x86_64  OK    OK    ERROR    OK  
kjohnson3macOS 13.6.5 Ventura / arm64see weekly results here

BUILD BIN results for Voyager on palomino3


To the developers/maintainers of the Voyager package:
- Allow up to 24 hours (and sometimes 48 hours) for your latest push to git@git.bioconductor.org:packages/Voyager.git to reflect on this report. See Troubleshooting Build Report for more information.
- Use the following Renviron settings to reproduce errors and warnings.
- If 'R CMD check' started to fail recently on the Linux builder(s) over a missing dependency, add the missing dependency to 'Suggests:' in your DESCRIPTION file. See Renviron.bioc for more information.

raw results


Summary

Package: Voyager
Version: 1.6.0
Command: rm -rf Voyager.buildbin-libdir && mkdir Voyager.buildbin-libdir && F:\biocbuild\bbs-3.19-bioc\R\bin\R.exe CMD INSTALL --build --library=Voyager.buildbin-libdir Voyager_1.6.0.tar.gz
StartedAt: 2024-05-21 09:19:30 -0400 (Tue, 21 May 2024)
EndedAt: 2024-05-21 09:20:42 -0400 (Tue, 21 May 2024)
EllapsedTime: 72.8 seconds
RetCode: 0
Status:   OK  
PackageFile: Voyager_1.6.0.zip
PackageFileSize: 2.858 MiB

Command output

##############################################################################
##############################################################################
###
### Running command:
###
###   rm -rf Voyager.buildbin-libdir && mkdir Voyager.buildbin-libdir && F:\biocbuild\bbs-3.19-bioc\R\bin\R.exe CMD INSTALL --build --library=Voyager.buildbin-libdir Voyager_1.6.0.tar.gz
###
##############################################################################
##############################################################################


* installing *source* package 'Voyager' ...
** using staged installation
** R
** data
** inst
** byte-compile and prepare package for lazy loading
** help
*** installing help indices
** building package indices
** installing vignettes
** testing if installed package can be loaded from temporary location
** testing if installed package can be loaded from final location
** testing if installed package keeps a record of temporary installation path
* MD5 sums
packaged installation of 'Voyager' as Voyager_1.6.0.zip
* DONE (Voyager)