Back to Multiple platform build/check report for BioC 3.19:   simplified   long
ABCDEFGHIJKLMNOPQRSTU[V]WXYZ

This page was generated on 2024-05-20 11:37:37 -0400 (Mon, 20 May 2024).

HostnameOSArch (*)R versionInstalled pkgs
nebbiolo1Linux (Ubuntu 22.04.3 LTS)x86_644.4.0 (2024-04-24) -- "Puppy Cup" 4751
palomino3Windows Server 2022 Datacenterx644.4.0 (2024-04-24 ucrt) -- "Puppy Cup" 4485
lconwaymacOS 12.7.1 Montereyx86_644.4.0 (2024-04-24) -- "Puppy Cup" 4515
Click on any hostname to see more info about the system (e.g. compilers)      (*) as reported by 'uname -p', except on Windows and Mac OS X

Package 2251/2300HostnameOS / ArchINSTALLBUILDCHECKBUILD BIN
VariantFiltering 1.40.0  (landing page)
Robert Castelo
Snapshot Date: 2024-05-19 14:00:13 -0400 (Sun, 19 May 2024)
git_url: https://git.bioconductor.org/packages/VariantFiltering
git_branch: RELEASE_3_19
git_last_commit: 4fd2f0f
git_last_commit_date: 2024-04-30 10:36:09 -0400 (Tue, 30 Apr 2024)
nebbiolo1Linux (Ubuntu 22.04.3 LTS) / x86_64  OK    OK    OK  UNNEEDED, same version is already published
palomino3Windows Server 2022 Datacenter / x64  OK    OK    OK    OK  UNNEEDED, same version is already published
lconwaymacOS 12.7.1 Monterey / x86_64  OK    OK    OK    OK  UNNEEDED, same version is already published
kjohnson3macOS 13.6.5 Ventura / arm64see weekly results here

BUILD BIN results for VariantFiltering on palomino3


To the developers/maintainers of the VariantFiltering package:
- Allow up to 24 hours (and sometimes 48 hours) for your latest push to git@git.bioconductor.org:packages/VariantFiltering.git to reflect on this report. See Troubleshooting Build Report for more information.
- Use the following Renviron settings to reproduce errors and warnings.
- If 'R CMD check' started to fail recently on the Linux builder(s) over a missing dependency, add the missing dependency to 'Suggests:' in your DESCRIPTION file. See Renviron.bioc for more information.

raw results


Summary

Package: VariantFiltering
Version: 1.40.0
Command: rm -rf VariantFiltering.buildbin-libdir && mkdir VariantFiltering.buildbin-libdir && F:\biocbuild\bbs-3.19-bioc\R\bin\R.exe CMD INSTALL --build --library=VariantFiltering.buildbin-libdir VariantFiltering_1.40.0.tar.gz
StartedAt: 2024-05-20 09:19:11 -0400 (Mon, 20 May 2024)
EndedAt: 2024-05-20 09:20:42 -0400 (Mon, 20 May 2024)
EllapsedTime: 91.4 seconds
RetCode: 0
Status:   OK  
PackageFile: VariantFiltering_1.40.0.zip
PackageFileSize: 4.16 MiB

Command output

##############################################################################
##############################################################################
###
### Running command:
###
###   rm -rf VariantFiltering.buildbin-libdir && mkdir VariantFiltering.buildbin-libdir && F:\biocbuild\bbs-3.19-bioc\R\bin\R.exe CMD INSTALL --build --library=VariantFiltering.buildbin-libdir VariantFiltering_1.40.0.tar.gz
###
##############################################################################
##############################################################################


* installing *source* package 'VariantFiltering' ...
** using staged installation
** libs
using C compiler: 'gcc.exe (GCC) 13.2.0'
gcc  -I"F:/biocbuild/bbs-3.19-bioc/R/include" -DNDEBUG  -I'F:/biocbuild/bbs-3.19-bioc/R/library/S4Vectors/include' -I'F:/biocbuild/bbs-3.19-bioc/R/library/IRanges/include' -I'F:/biocbuild/bbs-3.19-bioc/R/library/XVector/include' -I'F:/biocbuild/bbs-3.19-bioc/R/library/Biostrings/include'   -I"C:/rtools44/x86_64-w64-mingw32.static.posix/include"     -O2 -Wall  -mfpmath=sse -msse2 -mstackrealign  -c Biostrings_stubs.c -o Biostrings_stubs.o
gcc  -I"F:/biocbuild/bbs-3.19-bioc/R/include" -DNDEBUG  -I'F:/biocbuild/bbs-3.19-bioc/R/library/S4Vectors/include' -I'F:/biocbuild/bbs-3.19-bioc/R/library/IRanges/include' -I'F:/biocbuild/bbs-3.19-bioc/R/library/XVector/include' -I'F:/biocbuild/bbs-3.19-bioc/R/library/Biostrings/include'   -I"C:/rtools44/x86_64-w64-mingw32.static.posix/include"     -O2 -Wall  -mfpmath=sse -msse2 -mstackrealign  -c R_init_VariantFiltering.c -o R_init_VariantFiltering.o
gcc  -I"F:/biocbuild/bbs-3.19-bioc/R/include" -DNDEBUG  -I'F:/biocbuild/bbs-3.19-bioc/R/library/S4Vectors/include' -I'F:/biocbuild/bbs-3.19-bioc/R/library/IRanges/include' -I'F:/biocbuild/bbs-3.19-bioc/R/library/XVector/include' -I'F:/biocbuild/bbs-3.19-bioc/R/library/Biostrings/include'   -I"C:/rtools44/x86_64-w64-mingw32.static.posix/include"     -O2 -Wall  -mfpmath=sse -msse2 -mstackrealign  -c methods-WeightMatrix.c -o methods-WeightMatrix.o
gcc -shared -s -static-libgcc -o VariantFiltering.dll tmp.def Biostrings_stubs.o R_init_VariantFiltering.o methods-WeightMatrix.o -LC:/rtools44/x86_64-w64-mingw32.static.posix/lib/x64 -LC:/rtools44/x86_64-w64-mingw32.static.posix/lib -LF:/biocbuild/bbs-3.19-bioc/R/bin/x64 -lR
installing to F:/biocbuild/bbs-3.19-bioc/meat/VariantFiltering.buildbin-libdir/00LOCK-VariantFiltering/00new/VariantFiltering/libs/x64
** R
** inst
** byte-compile and prepare package for lazy loading
** help
*** installing help indices
** building package indices
** installing vignettes
** testing if installed package can be loaded from temporary location
** testing if installed package can be loaded from final location
** testing if installed package keeps a record of temporary installation path
* MD5 sums
packaged installation of 'VariantFiltering' as VariantFiltering_1.40.0.zip
* DONE (VariantFiltering)