Index of /checkResults/3.19/bioc-LATEST/VariantExperiment/raw-results/palomino3

[ICO]NameLast modifiedSizeDescription

[DIR]Parent Directory  -  
[TXT]buildbin-out.txt15-Feb-2024 03:20 1.1K 
[   ]buildbin-summary.dcf15-Feb-2024 03:20 575  
[TXT]buildsrc-out.txt29-Jun-2024 06:42 1.2K 
[   ]buildsrc-summary.dcf29-Jun-2024 06:42 398  
[TXT]checksrc-out.txt15-Feb-2024 03:20 3.7K 
[   ]checksrc-summary.dcf15-Feb-2024 03:20 493  
[TXT]install-out.txt29-Jun-2024 06:42 1.0K 
[   ]install-summary.dcf29-Jun-2024 06:42 288