Index of /checkResults/3.19/bioc-LATEST/VariantExperiment/raw-results/merida1

[ICO]NameLast modifiedSizeDescription

[DIR]Parent Directory  -  
[TXT]buildbin-out.txt09-Feb-2024 02:54 1.2K 
[   ]buildbin-summary.dcf09-Feb-2024 02:54 588  
[TXT]buildsrc-out.txt20-Jul-2024 06:40 1.1K 
[   ]buildsrc-summary.dcf20-Jul-2024 06:40 363  
[TXT]checksrc-out.txt15-Feb-2024 03:21 3.9K 
[   ]checksrc-summary.dcf15-Feb-2024 03:21 490  
[TXT]install-out.txt20-Jul-2024 06:40 1.0K 
[   ]install-summary.dcf20-Jul-2024 06:40 289