Index of /checkResults/3.19/bioc-LATEST/VariantExperiment/raw-results/kunpeng2

[ICO]NameLast modifiedSizeDescription

[DIR]Parent Directory  -  
[TXT]buildsrc-out.txt10-May-2024 00:41 857  
[   ]buildsrc-summary.dcf10-May-2024 00:41 458  
[TXT]checksrc-out.txt09-May-2024 00:41 3.7K 
[   ]checksrc-summary.dcf09-May-2024 00:41 491  
[TXT]install-out.txt10-May-2024 00:41 1.0K 
[   ]install-summary.dcf10-May-2024 00:41 290