Index of /checkResults/3.19/bioc-LATEST/TEKRABber/raw-results/nebbiolo1

[ICO]NameLast modifiedSizeDescription

[DIR]Parent Directory  -  
[TXT]buildsrc-out.txt20-Jul-2024 06:38 906  
[   ]buildsrc-summary.dcf20-Jul-2024 06:38 421  
[TXT]checksrc-out.txt20-Jul-2024 06:38 7.8K 
[   ]checksrc-summary.dcf20-Jul-2024 06:38 421  
[TXT]install-out.txt20-Jul-2024 06:38 1.9K 
[   ]install-summary.dcf20-Jul-2024 06:38 262