Back to Multiple platform build/check report for BioC 3.19:   simplified   long
ABCDEFGHIJKLMNOPQRS[T]UVWXYZ

This page was generated on 2024-05-29 11:35:10 -0400 (Wed, 29 May 2024).

HostnameOSArch (*)R versionInstalled pkgs
nebbiolo1Linux (Ubuntu 22.04.3 LTS)x86_644.4.0 (2024-04-24) -- "Puppy Cup" 4753
lconwaymacOS 12.7.1 Montereyx86_644.4.0 (2024-04-24) -- "Puppy Cup" 4518
Click on any hostname to see more info about the system (e.g. compilers)      (*) as reported by 'uname -p', except on Windows and Mac OS X

Package 2143/2300HostnameOS / ArchINSTALLBUILDCHECKBUILD BIN
TEKRABber 1.8.0  (landing page)
Yao-Chung Chen
Snapshot Date: 2024-05-28 14:00:10 -0400 (Tue, 28 May 2024)
git_url: https://git.bioconductor.org/packages/TEKRABber
git_branch: RELEASE_3_19
git_last_commit: a0f7fd4
git_last_commit_date: 2024-04-30 11:40:20 -0400 (Tue, 30 Apr 2024)
nebbiolo1Linux (Ubuntu 22.04.3 LTS) / x86_64  OK    OK    OK  UNNEEDED, same version is already published
lconwaymacOS 12.7.1 Monterey / x86_64  OK    OK    OK    OK  UNNEEDED, same version is already published
kjohnson3macOS 13.6.5 Ventura / arm64see weekly results here

CHECK results for TEKRABber on nebbiolo1


To the developers/maintainers of the TEKRABber package:
- Allow up to 24 hours (and sometimes 48 hours) for your latest push to git@git.bioconductor.org:packages/TEKRABber.git to reflect on this report. See Troubleshooting Build Report for more information.
- Use the following Renviron settings to reproduce errors and warnings.
- If 'R CMD check' started to fail recently on the Linux builder(s) over a missing dependency, add the missing dependency to 'Suggests:' in your DESCRIPTION file. See Renviron.bioc for more information.

raw results


Summary

Package: TEKRABber
Version: 1.8.0
Command: /home/biocbuild/bbs-3.19-bioc/R/bin/R CMD check --install=check:TEKRABber.install-out.txt --library=/home/biocbuild/bbs-3.19-bioc/R/site-library --timings TEKRABber_1.8.0.tar.gz
StartedAt: 2024-05-29 03:10:38 -0400 (Wed, 29 May 2024)
EndedAt: 2024-05-29 03:30:25 -0400 (Wed, 29 May 2024)
EllapsedTime: 1186.2 seconds
RetCode: 0
Status:   OK  
CheckDir: TEKRABber.Rcheck
Warnings: 0

Command output

##############################################################################
##############################################################################
###
### Running command:
###
###   /home/biocbuild/bbs-3.19-bioc/R/bin/R CMD check --install=check:TEKRABber.install-out.txt --library=/home/biocbuild/bbs-3.19-bioc/R/site-library --timings TEKRABber_1.8.0.tar.gz
###
##############################################################################
##############################################################################


* using log directory ‘/home/biocbuild/bbs-3.19-bioc/meat/TEKRABber.Rcheck’
* using R version 4.4.0 (2024-04-24)
* using platform: x86_64-pc-linux-gnu
* R was compiled by
    gcc (Ubuntu 11.4.0-1ubuntu1~22.04) 11.4.0
    GNU Fortran (Ubuntu 11.4.0-1ubuntu1~22.04) 11.4.0
* running under: Ubuntu 22.04.4 LTS
* using session charset: UTF-8
* checking for file ‘TEKRABber/DESCRIPTION’ ... OK
* checking extension type ... Package
* this is package ‘TEKRABber’ version ‘1.8.0’
* package encoding: UTF-8
* checking package namespace information ... OK
* checking package dependencies ... OK
* checking if this is a source package ... OK
* checking if there is a namespace ... OK
* checking for hidden files and directories ... OK
* checking for portable file names ... OK
* checking for sufficient/correct file permissions ... OK
* checking whether package ‘TEKRABber’ can be installed ... OK
* used C++ compiler: ‘g++ (Ubuntu 11.4.0-1ubuntu1~22.04) 11.4.0’
* checking installed package size ... OK
* checking package directory ... OK
* checking ‘build’ directory ... OK
* checking DESCRIPTION meta-information ... OK
* checking top-level files ... OK
* checking for left-over files ... OK
* checking index information ... OK
* checking package subdirectories ... NOTE
Problems with news in ‘NEWS.md’:
No news entries found.
* checking code files for non-ASCII characters ... OK
* checking R files for syntax errors ... OK
* checking whether the package can be loaded ... OK
* checking whether the package can be loaded with stated dependencies ... OK
* checking whether the package can be unloaded cleanly ... OK
* checking whether the namespace can be loaded with stated dependencies ... OK
* checking whether the namespace can be unloaded cleanly ... OK
* checking loading without being on the library search path ... OK
* checking whether startup messages can be suppressed ... OK
* checking dependencies in R code ... OK
* checking S3 generic/method consistency ... OK
* checking replacement functions ... OK
* checking foreign function calls ... OK
* checking R code for possible problems ... NOTE
File ‘TEKRABber/R/zzz.R’:
  .onLoad calls:
    packageStartupMessage(paste(messages, collapse = "\n"))

See section ‘Good practice’ in '?.onAttach'.

appTEKRABber: no visible global function definition for ‘grid_page’
appTEKRABber: no visible global function definition for
  ‘grid_card_text’
appTEKRABber: no visible global function definition for ‘grid_card’
appTEKRABber: no visible global function definition for ‘card_header’
appTEKRABber: no visible global function definition for ‘card_body’
appTEKRABber: no visible global function definition for
  ‘selectizeInput’
appTEKRABber: no visible global function definition for ‘actionButton’
appTEKRABber: no visible global function definition for ‘plotlyOutput’
appTEKRABber: no visible global function definition for ‘plotOutput’
appTEKRABber : server: no visible global function definition for
  ‘renderPlotly’
appTEKRABber : server: no visible global function definition for
  ‘plot_ly’
appTEKRABber : server: no visible global function definition for
  ‘observeEvent’
appTEKRABber : server: no visible global function definition for
  ‘renderPlot’
appTEKRABber : server: no visible global function definition for
  ‘ggplot’
appTEKRABber : server: no visible global function definition for ‘aes’
appTEKRABber : server: no visible binding for global variable ‘gene’
appTEKRABber : server: no visible binding for global variable ‘TE’
appTEKRABber : server: no visible global function definition for
  ‘geom_point’
appTEKRABber : server: no visible global function definition for ‘labs’
appTEKRABber : server: no visible global function definition for
  ‘geom_smooth’
appTEKRABber : server: no visible global function definition for
  ‘theme_bw’
appTEKRABber : server: no visible global function definition for
  ‘ggtitle’
appTEKRABber : server: no visible global function definition for
  ‘ggviolin’
appTEKRABber : server: no visible global function definition for ‘ylab’
appTEKRABber : server: no visible global function definition for ‘xlab’
appTEKRABber : server: no visible global function definition for
  ‘theme’
appTEKRABber: no visible global function definition for ‘shinyApp’
corrOrthologTE: no visible binding for global variable ‘i’
corrOrthologTE: no visible binding for global variable ‘j’
corrOrthologTE: no visible global function definition for ‘cor.test’
orthologScale: no visible global function definition for ‘desc’
orthologScale: no visible binding for global variable
  ‘orthologyConfidence’
orthologScale: no visible binding for global variable ‘refLength’
orthologScale: no visible binding for global variable ‘compareLength’
orthologScale: no visible global function definition for ‘across’
orthologScale: no visible binding for global variable ‘refLen’
orthologScale: no visible binding for global variable ‘compareLen’
prepareRMSK: no visible binding for global variable ‘repEnd’
prepareRMSK: no visible binding for global variable ‘repStart’
prepareRMSK: no visible binding for global variable ‘repName’
prepareRMSK: no visible binding for global variable ‘repClass’
prepareRMSK: no visible binding for global variable ‘rLen’
prepareRMSK: no visible binding for global variable ‘cLen’
Undefined global functions or variables:
  TE across actionButton aes cLen card_body card_header compareLen
  compareLength cor.test desc gene geom_point geom_smooth ggplot
  ggtitle ggviolin grid_card grid_card_text grid_page i j labs
  observeEvent orthologyConfidence plotOutput plot_ly plotlyOutput rLen
  refLen refLength renderPlot renderPlotly repClass repEnd repName
  repStart selectizeInput shinyApp theme theme_bw xlab ylab
Consider adding
  importFrom("stats", "cor.test")
to your NAMESPACE file.
* checking Rd files ... OK
* checking Rd metadata ... OK
* checking Rd cross-references ... OK
* checking for missing documentation entries ... OK
* checking for code/documentation mismatches ... OK
* checking Rd \usage sections ... OK
* checking Rd contents ... OK
* checking for unstated dependencies in examples ... OK
* checking contents of ‘data’ directory ... OK
* checking data for non-ASCII characters ... OK
* checking data for ASCII and uncompressed saves ... OK
* checking line endings in C/C++/Fortran sources/headers ... OK
* checking compiled code ... NOTE
Note: information on .o files is not available
* checking files in ‘vignettes’ ... OK
* checking examples ... OK
Examples with CPU (user + system) or elapsed time > 5s
                  user system elapsed
prepareRMSK    232.619 23.714 570.260
DECorrInputs    38.185  1.389  50.911
orthologScale   33.677  0.952  46.550
corrOrthologTE  32.783  0.436  33.219
DEgeneTE        22.941  0.460  23.401
appTEKRABber    21.404  0.228  21.632
* checking for unstated dependencies in ‘tests’ ... OK
* checking tests ...
  Running ‘testthat.R’
 OK
* checking for unstated dependencies in vignettes ... OK
* checking package vignettes ... OK
* checking re-building of vignette outputs ... OK
* checking PDF version of manual ... OK
* DONE

Status: 3 NOTEs
See
  ‘/home/biocbuild/bbs-3.19-bioc/meat/TEKRABber.Rcheck/00check.log’
for details.


Installation output

TEKRABber.Rcheck/00install.out

##############################################################################
##############################################################################
###
### Running command:
###
###   /home/biocbuild/bbs-3.19-bioc/R/bin/R CMD INSTALL TEKRABber
###
##############################################################################
##############################################################################


* installing to library ‘/home/biocbuild/bbs-3.19-bioc/R/site-library’
* installing *source* package ‘TEKRABber’ ...
** using staged installation
** libs
using C++ compiler: ‘g++ (Ubuntu 11.4.0-1ubuntu1~22.04) 11.4.0’
g++ -std=gnu++17 -I"/home/biocbuild/bbs-3.19-bioc/R/include" -DNDEBUG  -I'/home/biocbuild/bbs-3.19-bioc/R/site-library/Rcpp/include' -I/usr/local/include    -fpic  -g -O2  -Wall  -c RcppExports.cpp -o RcppExports.o
g++ -std=gnu++17 -I"/home/biocbuild/bbs-3.19-bioc/R/include" -DNDEBUG  -I'/home/biocbuild/bbs-3.19-bioc/R/site-library/Rcpp/include' -I/usr/local/include    -fpic  -g -O2  -Wall  -c rcpp_corr.cpp -o rcpp_corr.o
rcpp_corr.cpp:23: warning: ignoring ‘#pragma omp parallel’ [-Wunknown-pragmas]
   23 |     #pragma omp parallel for
      | 
g++ -std=gnu++17 -shared -L/home/biocbuild/bbs-3.19-bioc/R/lib -L/usr/local/lib -o TEKRABber.so RcppExports.o rcpp_corr.o -L/home/biocbuild/bbs-3.19-bioc/R/lib -lR
installing to /home/biocbuild/bbs-3.19-bioc/R/site-library/00LOCK-TEKRABber/00new/TEKRABber/libs
** R
** data
** inst
** byte-compile and prepare package for lazy loading
** help
*** installing help indices
** building package indices
** installing vignettes
** testing if installed package can be loaded from temporary location
** checking absolute paths in shared objects and dynamic libraries
** testing if installed package can be loaded from final location
** testing if installed package keeps a record of temporary installation path
* DONE (TEKRABber)

Tests output

TEKRABber.Rcheck/tests/testthat.Rout


R version 4.4.0 (2024-04-24) -- "Puppy Cup"
Copyright (C) 2024 The R Foundation for Statistical Computing
Platform: x86_64-pc-linux-gnu

R is free software and comes with ABSOLUTELY NO WARRANTY.
You are welcome to redistribute it under certain conditions.
Type 'license()' or 'licence()' for distribution details.

R is a collaborative project with many contributors.
Type 'contributors()' for more information and
'citation()' on how to cite R or R packages in publications.

Type 'demo()' for some demos, 'help()' for on-line help, or
'help.start()' for an HTML browser interface to help.
Type 'q()' to quit R.

> library("testthat")
> library("TEKRABber")
Welcome to TEKRABber version 1.8.0
+ New function: prepareRMSK() for getting repeatmasker
+ New parameter: `numCore` in corrOrthologTE() for parallel computing
> test_check("TEKRABber")
[ FAIL 0 | WARN 0 | SKIP 1 | PASS 10 ]

══ Skipped tests (1) ═══════════════════════════════════════════════════════════
• On CRAN (1): 'test-corrOrthologTE.R:31:5'

[ FAIL 0 | WARN 0 | SKIP 1 | PASS 10 ]
> 
> proc.time()
   user  system elapsed 
113.421   2.785 134.243 

Example timings

TEKRABber.Rcheck/TEKRABber-Ex.timings

nameusersystemelapsed
DECorrInputs38.185 1.38950.911
DEgeneTE22.941 0.46023.401
appTEKRABber21.404 0.22821.632
corrOrthologTE32.783 0.43633.219
ctInputDE0.1370.0040.141
fetchDataHmChimp0.5720.6201.191
hg38_panTro6_rmsk0.0640.0000.064
orthologScale33.677 0.95246.550
prepareRMSK232.619 23.714570.260
speciesCounts0.2830.0080.291