Back to Multiple platform build/check report for BioC 3.19:   simplified   long
ABCDEFGHIJKLMNOPQR[S]TUVWXYZ

This page was generated on 2024-03-28 11:35:58 -0400 (Thu, 28 Mar 2024).

HostnameOSArch (*)R versionInstalled pkgs
nebbiolo1Linux (Ubuntu 22.04.3 LTS)x86_64R Under development (unstable) (2024-03-18 r86148) -- "Unsuffered Consequences" 4708
palomino3Windows Server 2022 Datacenterx64R Under development (unstable) (2024-03-16 r86144 ucrt) -- "Unsuffered Consequences" 4446
lconwaymacOS 12.7.1 Montereyx86_64R Under development (unstable) (2024-03-18 r86148) -- "Unsuffered Consequences" 4471
kunpeng2Linux (openEuler 22.03 LTS-SP1)aarch64R Under development (unstable) (2024-03-19 r86153) -- "Unsuffered Consequences" 4426
Click on any hostname to see more info about the system (e.g. compilers)      (*) as reported by 'uname -p', except on Windows and Mac OS X

All results for package SummarizedExperiment


To the developers/maintainers of the SummarizedExperiment package:
- Allow up to 24 hours (and sometimes 48 hours) for your latest push to git@git.bioconductor.org:packages/SummarizedExperiment.git to reflect on this report. See Troubleshooting Build Report for more information.
- Use the following Renviron settings to reproduce errors and warnings.
- If 'R CMD check' started to fail recently on the Linux builder(s) over a missing dependency, add the missing dependency to 'Suggests:' in your DESCRIPTION file. See Renviron.bioc for more information.

raw results

Package 2073/2270HostnameOS / ArchINSTALLBUILDCHECKBUILD BIN
SummarizedExperiment 1.33.3  (landing page)
Hervé Pagès
Snapshot Date: 2024-03-27 14:00:18 -0400 (Wed, 27 Mar 2024)
git_url: https://git.bioconductor.org/packages/SummarizedExperiment
git_branch: devel
git_last_commit: 6b32ed4
git_last_commit_date: 2024-01-22 18:49:52 -0400 (Mon, 22 Jan 2024)
nebbiolo1Linux (Ubuntu 22.04.3 LTS) / x86_64  OK    OK    OK  UNNEEDED, same version is already published
palomino3Windows Server 2022 Datacenter / x64  OK    OK    OK    OK  UNNEEDED, same version is already published
lconwaymacOS 12.7.1 Monterey / x86_64  OK    OK    OK    OK  UNNEEDED, same version is already published
kunpeng2Linux (openEuler 22.03 LTS-SP1) / aarch64  OK    OK    OK  

Results for Bioconductor software packages that depend directly on package SummarizedExperiment

QUICK STATSOS / ArchINSTALLBUILDCHECKBUILD BIN
nebbiolo1Linux (Ubuntu 22.04.3 LTS) / x86_64
00551
132518
12358436
palomino3Windows Server 2022 Datacenter / x64
02542
219523
1957456
00523
lconwaymacOS 12.7.1 Monterey / x86_64
03546
143505
11458432
00505
kunpeng2Linux (openEuler 22.03 LTS-SP1) / aarch64
04547
345503
13153418
Package 1/551HostnameOS / ArchINSTALLBUILDCHECKBUILD BIN
ADAM 1.19.0  (landing page)
Jose Luiz Rybarczyk Filho
git_last_commit: ca774f6
git_last_commit_date: 2023-10-24 11:09:37 -0400
nebbiolo1Linux (Ubuntu 22.04.3 LTS) / x86_64  OK    OK    OK  UNNEEDED, same version is already published
palomino3Windows Server 2022 Datacenter / x64  OK    OK    OK    OK  UNNEEDED, same version is already published
lconwaymacOS 12.7.1 Monterey / x86_64  OK    OK    OK    OK  UNNEEDED, same version is already published
kunpeng2Linux (openEuler 22.03 LTS-SP1) / aarch64  OK    OK    OK  
Package 2/551HostnameOS / ArchINSTALLBUILDCHECKBUILD BIN
ADImpute 1.13.0  (landing page)
Ana Carolina Leote
git_last_commit: d1f0199
git_last_commit_date: 2023-10-24 11:27:27 -0400
nebbiolo1Linux (Ubuntu 22.04.3 LTS) / x86_64  OK    OK    WARNINGS  UNNEEDED, same version is already published
palomino3Windows Server 2022 Datacenter / x64  OK    OK    WARNINGS    OK  UNNEEDED, same version is already published
lconwaymacOS 12.7.1 Monterey / x86_64  OK    OK    WARNINGS    OK  UNNEEDED, same version is already published
kunpeng2Linux (openEuler 22.03 LTS-SP1) / aarch64  OK    OK    WARNINGS  
Package 3/551HostnameOS / ArchINSTALLBUILDCHECKBUILD BIN
AffiXcan 1.21.0  (landing page)
Alessandro Lussana
git_last_commit: 6080458
git_last_commit_date: 2023-10-24 11:08:20 -0400
nebbiolo1Linux (Ubuntu 22.04.3 LTS) / x86_64  OK    OK    OK  UNNEEDED, same version is already published
palomino3Windows Server 2022 Datacenter / x64  OK    OK    OK    OK  UNNEEDED, same version is already published
lconwaymacOS 12.7.1 Monterey / x86_64  OK    OK    OK    OK  UNNEEDED, same version is already published
kunpeng2Linux (openEuler 22.03 LTS-SP1) / aarch64  OK    OK    OK  
Package 4/551HostnameOS / ArchINSTALLBUILDCHECKBUILD BIN
aggregateBioVar 1.13.0  (landing page)
Jason Ratcliff
git_last_commit: 018a5af
git_last_commit_date: 2023-10-24 11:26:05 -0400
nebbiolo1Linux (Ubuntu 22.04.3 LTS) / x86_64  OK    OK    OK  UNNEEDED, same version is already published
palomino3Windows Server 2022 Datacenter / x64  OK    OK    OK    OK  UNNEEDED, same version is already published
lconwaymacOS 12.7.1 Monterey / x86_64  OK    OK    OK    OK  UNNEEDED, same version is already published
kunpeng2Linux (openEuler 22.03 LTS-SP1) / aarch64  OK    OK    OK  
Package 5/551HostnameOS / ArchINSTALLBUILDCHECKBUILD BIN
airpart 1.11.0  (landing page)
Wancen Mu
git_last_commit: 3983727
git_last_commit_date: 2023-10-24 11:31:27 -0400
nebbiolo1Linux (Ubuntu 22.04.3 LTS) / x86_64  OK    OK    OK  UNNEEDED, same version is already published
palomino3Windows Server 2022 Datacenter / x64  OK    OK    OK    OK  UNNEEDED, same version is already published
lconwaymacOS 12.7.1 Monterey / x86_64  OK    OK    OK    OK  UNNEEDED, same version is already published
kunpeng2Linux (openEuler 22.03 LTS-SP1) / aarch64  OK    OK    OK  
Package 6/551HostnameOS / ArchINSTALLBUILDCHECKBUILD BIN
alabaster.se 1.3.4  (landing page)
Aaron Lun
git_last_commit: feb2578
git_last_commit_date: 2024-03-16 19:47:42 -0400
nebbiolo1Linux (Ubuntu 22.04.3 LTS) / x86_64  OK    OK    OK  UNNEEDED, same version is already published
palomino3Windows Server 2022 Datacenter / x64  OK    OK    OK    OK  UNNEEDED, same version is already published
lconwaymacOS 12.7.1 Monterey / x86_64  OK    OK    OK    OK  UNNEEDED, same version is already published
kunpeng2Linux (openEuler 22.03 LTS-SP1) / aarch64  OK    OK    OK  
Package 7/551HostnameOS / ArchINSTALLBUILDCHECKBUILD BIN
ALDEx2 1.35.0  (landing page)
Greg Gloor
git_last_commit: 9e689b5
git_last_commit_date: 2023-10-24 10:38:50 -0400
nebbiolo1Linux (Ubuntu 22.04.3 LTS) / x86_64  OK    OK    OK  UNNEEDED, same version is already published
palomino3Windows Server 2022 Datacenter / x64  OK    OK    OK    OK  UNNEEDED, same version is already published
lconwaymacOS 12.7.1 Monterey / x86_64  OK    OK    OK    OK  UNNEEDED, same version is already published
kunpeng2Linux (openEuler 22.03 LTS-SP1) / aarch64  OK    OK    OK  
Package 8/551HostnameOS / ArchINSTALLBUILDCHECKBUILD BIN
AllelicImbalance 1.41.0  (landing page)
Jesper R Gadin
git_last_commit: 13b7eae
git_last_commit_date: 2023-10-24 09:56:05 -0400
nebbiolo1Linux (Ubuntu 22.04.3 LTS) / x86_64  OK    OK    OK  UNNEEDED, same version is already published
palomino3Windows Server 2022 Datacenter / x64  OK    OK    OK    OK  UNNEEDED, same version is already published
lconwaymacOS 12.7.1 Monterey / x86_64  OK    OK    OK    OK  UNNEEDED, same version is already published
kunpeng2Linux (openEuler 22.03 LTS-SP1) / aarch64  OK    OK    OK  
Package 9/551HostnameOS / ArchINSTALLBUILDCHECKBUILD BIN
ANCOMBC 2.5.0  (landing page)
Huang Lin
git_last_commit: 3082bf2
git_last_commit_date: 2023-10-24 11:25:23 -0400
nebbiolo1Linux (Ubuntu 22.04.3 LTS) / x86_64  OK    ERROR  skipped
palomino3Windows Server 2022 Datacenter / x64  OK    OK    OK    OK  UNNEEDED, same version is already published
lconwaymacOS 12.7.1 Monterey / x86_64  OK    ERROR  skippedskipped
kunpeng2Linux (openEuler 22.03 LTS-SP1) / aarch64  OK    ERROR  skipped
Package 10/551HostnameOS / ArchINSTALLBUILDCHECKBUILD BIN
animalcules 1.19.2  (landing page)
Jessica McClintock
git_last_commit: 4a281cc
git_last_commit_date: 2024-02-01 16:08:59 -0400
nebbiolo1Linux (Ubuntu 22.04.3 LTS) / x86_64  OK    OK    OK  UNNEEDED, same version is already published
palomino3Windows Server 2022 Datacenter / x64  OK    OK    OK    OK  UNNEEDED, same version is already published
lconwaymacOS 12.7.1 Monterey / x86_64  OK    OK    OK    OK  UNNEEDED, same version is already published
kunpeng2Linux (openEuler 22.03 LTS-SP1) / aarch64  OK    OK    OK  
Package 11/551HostnameOS / ArchINSTALLBUILDCHECKBUILD BIN
anota2seq 1.25.0  (landing page)
Christian Oertlin , Ola Larsson
git_last_commit: c8d525d
git_last_commit_date: 2023-10-24 11:00:23 -0400
nebbiolo1Linux (Ubuntu 22.04.3 LTS) / x86_64  OK    OK    WARNINGS  UNNEEDED, same version is already published
palomino3Windows Server 2022 Datacenter / x64  OK    OK    OK    OK  UNNEEDED, same version is already published
lconwaymacOS 12.7.1 Monterey / x86_64  OK    OK    OK    OK  UNNEEDED, same version is already published
kunpeng2Linux (openEuler 22.03 LTS-SP1) / aarch64  OK    OK    OK  
Package 12/551HostnameOS / ArchINSTALLBUILDCHECKBUILD BIN
APAlyzer 1.17.0  (landing page)
Ruijia Wang
git_last_commit: 2686730
git_last_commit_date: 2023-10-24 11:15:41 -0400
nebbiolo1Linux (Ubuntu 22.04.3 LTS) / x86_64  OK    OK    WARNINGS  UNNEEDED, same version is already published
palomino3Windows Server 2022 Datacenter / x64  OK    OK    WARNINGS    OK  UNNEEDED, same version is already published
lconwaymacOS 12.7.1 Monterey / x86_64  OK    OK    WARNINGS    OK  UNNEEDED, same version is already published
kunpeng2Linux (openEuler 22.03 LTS-SP1) / aarch64  OK    OK    ERROR  
Package 13/551HostnameOS / ArchINSTALLBUILDCHECKBUILD BIN
apeglm 1.25.0  (landing page)
Anqi Zhu
git_last_commit: 1439add
git_last_commit_date: 2023-10-24 10:59:24 -0400
nebbiolo1Linux (Ubuntu 22.04.3 LTS) / x86_64  OK    OK    OK  UNNEEDED, same version is already published
palomino3Windows Server 2022 Datacenter / x64  OK    OK    OK    OK  UNNEEDED, same version is already published
lconwaymacOS 12.7.1 Monterey / x86_64  OK    OK    OK    OK  UNNEEDED, same version is already published
kunpeng2Linux (openEuler 22.03 LTS-SP1) / aarch64  OK    OK    OK  
Package 14/551HostnameOS / ArchINSTALLBUILDCHECKBUILD BIN
APL 1.7.4  (landing page)
Clemens Kohl
git_last_commit: 7621d1a
git_last_commit_date: 2024-03-08 11:42:12 -0400
nebbiolo1Linux (Ubuntu 22.04.3 LTS) / x86_64  OK    OK    OK  UNNEEDED, same version is already published
palomino3Windows Server 2022 Datacenter / x64  OK    OK    OK    OK  UNNEEDED, same version is already published
lconwaymacOS 12.7.1 Monterey / x86_64  OK    OK    OK    OK  UNNEEDED, same version is already published
kunpeng2Linux (openEuler 22.03 LTS-SP1) / aarch64  OK    ERROR  skipped
Package 15/551HostnameOS / ArchINSTALLBUILDCHECKBUILD BIN
appreci8R 1.21.6  (landing page)
Sarah Sandmann
git_last_commit: dd97042
git_last_commit_date: 2024-02-14 07:22:16 -0400
nebbiolo1Linux (Ubuntu 22.04.3 LTS) / x86_64  OK    OK    OK  UNNEEDED, same version is already published
palomino3Windows Server 2022 Datacenter / x64  OK    OK    OK    OK  UNNEEDED, same version is already published
lconwaymacOS 12.7.1 Monterey / x86_64  OK    OK    OK    OK  UNNEEDED, same version is already published
kunpeng2Linux (openEuler 22.03 LTS-SP1) / aarch64  OK    OK    OK  
Package 16/551HostnameOS / ArchINSTALLBUILDCHECKBUILD BIN
ASICS 2.19.1  (landing page)
Gaëlle Lefort
git_last_commit: 646680d
git_last_commit_date: 2024-03-05 03:49:05 -0400
nebbiolo1Linux (Ubuntu 22.04.3 LTS) / x86_64  OK    OK    OK  UNNEEDED, same version is already published
palomino3Windows Server 2022 Datacenter / x64  OK    OK    OK    OK  UNNEEDED, same version is already published
lconwaymacOS 12.7.1 Monterey / x86_64  OK    OK    OK    OK  UNNEEDED, same version is already published
kunpeng2Linux (openEuler 22.03 LTS-SP1) / aarch64  OK    OK    OK  
Package 17/551HostnameOS / ArchINSTALLBUILDCHECKBUILD BIN
ASURAT 1.7.0  (landing page)
Keita Iida
git_last_commit: f9a8169
git_last_commit_date: 2023-10-24 11:40:38 -0400
nebbiolo1Linux (Ubuntu 22.04.3 LTS) / x86_64  OK    OK    OK  UNNEEDED, same version is already published
palomino3Windows Server 2022 Datacenter / x64  OK    OK    OK    OK  UNNEEDED, same version is already published
lconwaymacOS 12.7.1 Monterey / x86_64  OK    OK    OK    OK  UNNEEDED, same version is already published
kunpeng2Linux (openEuler 22.03 LTS-SP1) / aarch64  OK    TIMEOUT  skipped
Package 18/551HostnameOS / ArchINSTALLBUILDCHECKBUILD BIN
ATACseqTFEA 1.5.1  (landing page)
Jianhong Ou
git_last_commit: bd2f07b
git_last_commit_date: 2024-02-05 17:31:24 -0400
nebbiolo1Linux (Ubuntu 22.04.3 LTS) / x86_64  OK    OK    OK  UNNEEDED, same version is already published
palomino3Windows Server 2022 Datacenter / x64  OK    OK    OK    OK  UNNEEDED, same version is already published
lconwaymacOS 12.7.1 Monterey / x86_64  OK    OK    OK    OK  UNNEEDED, same version is already published
kunpeng2Linux (openEuler 22.03 LTS-SP1) / aarch64  OK    OK    OK  
Package 19/551HostnameOS / ArchINSTALLBUILDCHECKBUILD BIN
atena 1.9.0  (landing page)
Beatriz Calvo-Serra
git_last_commit: db720af
git_last_commit_date: 2023-10-24 11:36:26 -0400
nebbiolo1Linux (Ubuntu 22.04.3 LTS) / x86_64  OK    OK    OK  UNNEEDED, same version is already published
palomino3Windows Server 2022 Datacenter / x64  OK    OK    OK    OK  UNNEEDED, same version is already published
lconwaymacOS 12.7.1 Monterey / x86_64  OK    OK    OK    OK  UNNEEDED, same version is already published
kunpeng2Linux (openEuler 22.03 LTS-SP1) / aarch64  OK    OK    OK  
Package 20/551HostnameOS / ArchINSTALLBUILDCHECKBUILD BIN
AUCell 1.25.2  (landing page)
Gert Hulselmans
git_last_commit: 91753b3
git_last_commit_date: 2024-03-09 05:16:53 -0400
nebbiolo1Linux (Ubuntu 22.04.3 LTS) / x86_64  OK    OK    OK  UNNEEDED, same version is already published
palomino3Windows Server 2022 Datacenter / x64  OK    OK    OK    OK  UNNEEDED, same version is already published
lconwaymacOS 12.7.1 Monterey / x86_64  OK    OK    OK    OK  UNNEEDED, same version is already published
kunpeng2Linux (openEuler 22.03 LTS-SP1) / aarch64  OK    OK    OK  
Package 21/551HostnameOS / ArchINSTALLBUILDCHECKBUILD BIN
autonomics 1.11.86  (landing page)
Aditya Bhagwat
git_last_commit: 9c061ac
git_last_commit_date: 2024-03-27 10:53:58 -0400
nebbiolo1Linux (Ubuntu 22.04.3 LTS) / x86_64  OK    ERROR  skipped
palomino3Windows Server 2022 Datacenter / x64  OK    ERROR  skippedskipped
lconwaymacOS 12.7.1 Monterey / x86_64  OK    ERROR  skippedskipped
kunpeng2Linux (openEuler 22.03 LTS-SP1) / aarch64  OK    ERROR  skipped
Package 22/551HostnameOS / ArchINSTALLBUILDCHECKBUILD BIN
awst 1.11.1  (landing page)
Davide Risso
git_last_commit: 5f4deab
git_last_commit_date: 2024-01-12 08:47:57 -0400
nebbiolo1Linux (Ubuntu 22.04.3 LTS) / x86_64  OK    OK    OK  UNNEEDED, same version is already published
palomino3Windows Server 2022 Datacenter / x64  OK    OK    OK    OK  UNNEEDED, same version is already published
lconwaymacOS 12.7.1 Monterey / x86_64  OK    OK    OK    OK  UNNEEDED, same version is already published
kunpeng2Linux (openEuler 22.03 LTS-SP1) / aarch64  OK    OK    OK  
Package 23/551HostnameOS / ArchINSTALLBUILDCHECKBUILD BIN
bambu 3.5.0  (landing page)
Ying Chen
git_last_commit: fed41f6
git_last_commit_date: 2023-10-24 11:27:04 -0400
nebbiolo1Linux (Ubuntu 22.04.3 LTS) / x86_64  OK    OK    OK  UNNEEDED, same version is already published
palomino3Windows Server 2022 Datacenter / x64  OK    OK    OK    OK  UNNEEDED, same version is already published
lconwaymacOS 12.7.1 Monterey / x86_64  OK    OK    OK    OK  UNNEEDED, same version is already published
kunpeng2Linux (openEuler 22.03 LTS-SP1) / aarch64  OK    OK    OK  
Package 24/551HostnameOS / ArchINSTALLBUILDCHECKBUILD BIN
Banksy 0.99.9  (landing page)
Joseph Lee
git_last_commit: 8d75150
git_last_commit_date: 2024-03-27 13:08:18 -0400
nebbiolo1Linux (Ubuntu 22.04.3 LTS) / x86_64  OK    ERROR  skipped
palomino3Windows Server 2022 Datacenter / x64  OK    ERROR  skippedskipped
lconwaymacOS 12.7.1 Monterey / x86_64  OK    ERROR  skippedskipped
kunpeng2Linux (openEuler 22.03 LTS-SP1) / aarch64  OK    ERROR  skipped
Package 25/551HostnameOS / ArchINSTALLBUILDCHECKBUILD BIN
barcodetrackR 1.11.0  (landing page)
Diego Alexander Espinoza
git_last_commit: c84c6c0
git_last_commit_date: 2023-10-24 11:31:32 -0400
nebbiolo1Linux (Ubuntu 22.04.3 LTS) / x86_64  OK    OK    OK  UNNEEDED, same version is already published
palomino3Windows Server 2022 Datacenter / x64  OK    OK    OK    OK  UNNEEDED, same version is already published
lconwaymacOS 12.7.1 Monterey / x86_64  OK    OK    OK    OK  UNNEEDED, same version is already published
kunpeng2Linux (openEuler 22.03 LTS-SP1) / aarch64  OK    OK    OK  
Package 26/551HostnameOS / ArchINSTALLBUILDCHECKBUILD BIN
BASiCS 2.15.5  (landing page)
Catalina Vallejos
git_last_commit: cc13376
git_last_commit_date: 2024-03-25 13:34:38 -0400
nebbiolo1Linux (Ubuntu 22.04.3 LTS) / x86_64  OK    OK    OK  UNNEEDED, same version is already published
palomino3Windows Server 2022 Datacenter / x64  OK    OK    OK    OK  UNNEEDED, same version is already published
lconwaymacOS 12.7.1 Monterey / x86_64  OK    OK    OK    OK  UNNEEDED, same version is already published
kunpeng2Linux (openEuler 22.03 LTS-SP1) / aarch64  OK    OK    OK  
Package 27/551HostnameOS / ArchINSTALLBUILDCHECKBUILD BIN
BASiCStan 1.5.1  (landing page)
Alan O'Callaghan
git_last_commit: 118c13a
git_last_commit_date: 2024-02-14 09:35:46 -0400
nebbiolo1Linux (Ubuntu 22.04.3 LTS) / x86_64  OK    OK    OK  UNNEEDED, same version is already published
palomino3Windows Server 2022 Datacenter / x64  OK    OK    OK    OK  UNNEEDED, same version is already published
lconwaymacOS 12.7.1 Monterey / x86_64  OK    OK    OK    OK  UNNEEDED, same version is already published
kunpeng2Linux (openEuler 22.03 LTS-SP1) / aarch64  OK    OK    OK  
Package 28/551HostnameOS / ArchINSTALLBUILDCHECKBUILD BIN
batchelor 1.19.1  (landing page)
Aaron Lun
git_last_commit: 2b4c10e
git_last_commit_date: 2023-12-27 13:57:13 -0400
nebbiolo1Linux (Ubuntu 22.04.3 LTS) / x86_64  OK    OK    OK  UNNEEDED, same version is already published
palomino3Windows Server 2022 Datacenter / x64  OK    OK    OK    OK  UNNEEDED, same version is already published
lconwaymacOS 12.7.1 Monterey / x86_64  OK    OK    OK    OK  UNNEEDED, same version is already published
kunpeng2Linux (openEuler 22.03 LTS-SP1) / aarch64  OK    OK    OK  
Package 29/551HostnameOS / ArchINSTALLBUILDCHECKBUILD BIN
BayesSpace 1.13.0  (landing page)
Matt Stone
git_last_commit: 66e4609
git_last_commit_date: 2023-10-24 11:26:25 -0400
nebbiolo1Linux (Ubuntu 22.04.3 LTS) / x86_64  OK    OK    OK  UNNEEDED, same version is already published
palomino3Windows Server 2022 Datacenter / x64  OK    OK    OK    OK  UNNEEDED, same version is already published
lconwaymacOS 12.7.1 Monterey / x86_64  OK    OK    OK    OK  UNNEEDED, same version is already published
kunpeng2Linux (openEuler 22.03 LTS-SP1) / aarch64  OK    OK    OK  
Package 30/551HostnameOS / ArchINSTALLBUILDCHECKBUILD BIN
bayNorm 1.21.0  (landing page)
Wenhao Tang
git_last_commit: ccdbc21
git_last_commit_date: 2023-10-24 11:08:36 -0400
nebbiolo1Linux (Ubuntu 22.04.3 LTS) / x86_64  OK    OK    OK  UNNEEDED, same version is already published
palomino3Windows Server 2022 Datacenter / x64  OK    OK    OK    OK  UNNEEDED, same version is already published
lconwaymacOS 12.7.1 Monterey / x86_64  OK    OK    OK    OK  UNNEEDED, same version is already published
kunpeng2Linux (openEuler 22.03 LTS-SP1) / aarch64  OK    OK    OK  
Package 31/551HostnameOS / ArchINSTALLBUILDCHECKBUILD BIN
BBCAnalyzer 1.33.0  (landing page)
Sarah Sandmann
git_last_commit: 074ba92
git_last_commit_date: 2023-10-24 10:44:49 -0400
nebbiolo1Linux (Ubuntu 22.04.3 LTS) / x86_64  OK    OK    OK  UNNEEDED, same version is already published
palomino3Windows Server 2022 Datacenter / x64  OK    OK    WARNINGS    OK  UNNEEDED, same version is already published
lconwaymacOS 12.7.1 Monterey / x86_64  OK    OK    OK    OK  UNNEEDED, same version is already published
kunpeng2Linux (openEuler 22.03 LTS-SP1) / aarch64  OK    OK    OK  
Package 32/551HostnameOS / ArchINSTALLBUILDCHECKBUILD BIN
BDMMAcorrect 1.21.1  (landing page)
ZHENWEI DAI
git_last_commit: bf6475a
git_last_commit_date: 2024-02-29 12:34:40 -0400
nebbiolo1Linux (Ubuntu 22.04.3 LTS) / x86_64  OK    OK    ERROR  
palomino3Windows Server 2022 Datacenter / x64  OK    OK    OK    OK  UNNEEDED, same version is already published
lconwaymacOS 12.7.1 Monterey / x86_64  OK    OK    OK    OK  UNNEEDED, same version is already published
kunpeng2Linux (openEuler 22.03 LTS-SP1) / aarch64  OK    OK    ERROR  
Package 33/551HostnameOS / ArchINSTALLBUILDCHECKBUILD BIN
beer 1.7.0  (landing page)
Athena Chen
git_last_commit: fa3d328
git_last_commit_date: 2023-10-24 11:39:32 -0400
nebbiolo1Linux (Ubuntu 22.04.3 LTS) / x86_64  OK    OK    OK  UNNEEDED, same version is already published
palomino3Windows Server 2022 Datacenter / x64  OK    OK    OK    OK  UNNEEDED, same version is already published
lconwaymacOS 12.7.1 Monterey / x86_64  OK    OK    OK    OK  UNNEEDED, same version is already published
kunpeng2Linux (openEuler 22.03 LTS-SP1) / aarch64  OK    OK    OK  
Package 34/551HostnameOS / ArchINSTALLBUILDCHECKBUILD BIN
benchdamic 1.9.4  (landing page)
Matteo Calgaro
git_last_commit: 84a8ab3
git_last_commit_date: 2024-03-07 06:18:20 -0400
nebbiolo1Linux (Ubuntu 22.04.3 LTS) / x86_64  OK    ERROR  skipped
palomino3Windows Server 2022 Datacenter / x64  OK    OK    OK    OK  UNNEEDED, same version is already published
lconwaymacOS 12.7.1 Monterey / x86_64  OK    ERROR  skippedskipped
kunpeng2Linux (openEuler 22.03 LTS-SP1) / aarch64  OK    ERROR  skipped
Package 35/551HostnameOS / ArchINSTALLBUILDCHECKBUILD BIN
BERT 0.99.16  (landing page)
Yannis Schumann
git_last_commit: 65b1ece
git_last_commit_date: 2024-02-28 02:41:28 -0400
nebbiolo1Linux (Ubuntu 22.04.3 LTS) / x86_64  OK    OK    OK  UNNEEDED, same version is already published
palomino3Windows Server 2022 Datacenter / x64  OK    OK    OK    OK  UNNEEDED, same version is already published
lconwaymacOS 12.7.1 Monterey / x86_64  OK    OK    OK    OK  UNNEEDED, same version is already published
kunpeng2Linux (openEuler 22.03 LTS-SP1) / aarch64  OK    OK    OK  
Package 36/551HostnameOS / ArchINSTALLBUILDCHECKBUILD BIN
betaHMM 0.99.5  (landing page)
Koyel Majumdar
git_last_commit: 2d33fb7
git_last_commit_date: 2023-12-01 05:32:29 -0400
nebbiolo1Linux (Ubuntu 22.04.3 LTS) / x86_64  OK    OK    OK  UNNEEDED, same version is already published
palomino3Windows Server 2022 Datacenter / x64  OK    OK    OK    OK  UNNEEDED, same version is already published
lconwaymacOS 12.7.1 Monterey / x86_64  OK    OK    OK    OK  UNNEEDED, same version is already published
kunpeng2Linux (openEuler 22.03 LTS-SP1) / aarch64  OK    OK    ERROR  
Package 37/551HostnameOS / ArchINSTALLBUILDCHECKBUILD BIN
bettr 0.99.3  (landing page)
Charlotte Soneson
git_last_commit: c4fe4cd
git_last_commit_date: 2024-03-24 12:31:19 -0400
nebbiolo1Linux (Ubuntu 22.04.3 LTS) / x86_64  OK    OK    OK  UNNEEDED, same version is already published
palomino3Windows Server 2022 Datacenter / x64  OK    OK    OK    OK  UNNEEDED, same version is already published
lconwaymacOS 12.7.1 Monterey / x86_64  OK    OK    OK    OK  UNNEEDED, same version is already published
kunpeng2Linux (openEuler 22.03 LTS-SP1) / aarch64  OK    OK    OK  
Package 38/551HostnameOS / ArchINSTALLBUILDCHECKBUILD BIN
BiocOncoTK 1.23.1  (landing page)
VJ Carey
git_last_commit: 02d07a2
git_last_commit_date: 2024-02-05 14:34:06 -0400
nebbiolo1Linux (Ubuntu 22.04.3 LTS) / x86_64  OK    OK    OK  UNNEEDED, same version is already published
palomino3Windows Server 2022 Datacenter / x64  OK    OK    OK    OK  UNNEEDED, same version is already published
lconwaymacOS 12.7.1 Monterey / x86_64  OK    OK    OK    OK  UNNEEDED, same version is already published
kunpeng2Linux (openEuler 22.03 LTS-SP1) / aarch64  OK    OK    OK  
Package 39/551HostnameOS / ArchINSTALLBUILDCHECKBUILD BIN
BiocSklearn 1.25.1  (landing page)
Vince Carey
git_last_commit: 5f3530a
git_last_commit_date: 2024-01-27 09:17:25 -0400
nebbiolo1Linux (Ubuntu 22.04.3 LTS) / x86_64  OK    OK    OK  UNNEEDED, same version is already published
palomino3Windows Server 2022 Datacenter / x64  OK    OK    OK    OK  UNNEEDED, same version is already published
lconwaymacOS 12.7.1 Monterey / x86_64  OK    OK    OK    OK  UNNEEDED, same version is already published
kunpeng2Linux (openEuler 22.03 LTS-SP1) / aarch64  OK    OK    OK  
Package 40/551HostnameOS / ArchINSTALLBUILDCHECKBUILD BIN
BioNERO 1.11.3  (landing page)
Fabricio Almeida-Silva
git_last_commit: 5de1a41
git_last_commit_date: 2024-03-25 08:39:54 -0400
nebbiolo1Linux (Ubuntu 22.04.3 LTS) / x86_64  OK    OK    OK  UNNEEDED, same version is already published
palomino3Windows Server 2022 Datacenter / x64  OK    OK    OK    OK  UNNEEDED, same version is already published
lconwaymacOS 12.7.1 Monterey / x86_64  OK    OK    OK    OK  UNNEEDED, same version is already published
kunpeng2Linux (openEuler 22.03 LTS-SP1) / aarch64  OK    OK    OK  
Package 41/551HostnameOS / ArchINSTALLBUILDCHECKBUILD BIN
biosigner 1.31.0  (landing page)
Etienne A. Thevenot
git_last_commit: 29c4fe6
git_last_commit_date: 2023-10-24 10:48:11 -0400
nebbiolo1Linux (Ubuntu 22.04.3 LTS) / x86_64  OK    OK    OK  UNNEEDED, same version is already published
palomino3Windows Server 2022 Datacenter / x64  OK    OK    OK    OK  UNNEEDED, same version is already published
lconwaymacOS 12.7.1 Monterey / x86_64  OK    OK    OK    OK  UNNEEDED, same version is already published
kunpeng2Linux (openEuler 22.03 LTS-SP1) / aarch64  OK    OK    ERROR  
Package 42/551HostnameOS / ArchINSTALLBUILDCHECKBUILD BIN
biotmle 1.27.0  (landing page)
Nima Hejazi
git_last_commit: e0507a8
git_last_commit_date: 2023-10-24 10:56:59 -0400
nebbiolo1Linux (Ubuntu 22.04.3 LTS) / x86_64  OK    OK    OK  UNNEEDED, same version is already published
palomino3Windows Server 2022 Datacenter / x64  OK    OK    OK    OK  UNNEEDED, same version is already published
lconwaymacOS 12.7.1 Monterey / x86_64  OK    OK    OK    OK  UNNEEDED, same version is already published
kunpeng2Linux (openEuler 22.03 LTS-SP1) / aarch64  OK    OK    OK  
Package 43/551HostnameOS / ArchINSTALLBUILDCHECKBUILD BIN
biovizBase 1.51.0  (landing page)
Michael Lawrence
git_last_commit: 226610a
git_last_commit_date: 2023-10-24 09:48:08 -0400
nebbiolo1Linux (Ubuntu 22.04.3 LTS) / x86_64  OK    OK    WARNINGS  UNNEEDED, same version is already published
palomino3Windows Server 2022 Datacenter / x64  OK    OK    WARNINGS    OK  UNNEEDED, same version is already published
lconwaymacOS 12.7.1 Monterey / x86_64  OK    OK    WARNINGS    OK  UNNEEDED, same version is already published
kunpeng2Linux (openEuler 22.03 LTS-SP1) / aarch64  OK    OK    WARNINGS  
Package 44/551HostnameOS / ArchINSTALLBUILDCHECKBUILD BIN
biscuiteer 1.17.3  (landing page)
Jacob Morrison
git_last_commit: de9b735
git_last_commit_date: 2024-03-01 11:31:25 -0400
nebbiolo1Linux (Ubuntu 22.04.3 LTS) / x86_64  OK    OK    WARNINGS  UNNEEDED, same version is already published
palomino3Windows Server 2022 Datacenter / x64  OK    OK    WARNINGS    OK  UNNEEDED, same version is already published
lconwaymacOS 12.7.1 Monterey / x86_64  OK    OK    WARNINGS    OK  UNNEEDED, same version is already published
kunpeng2Linux (openEuler 22.03 LTS-SP1) / aarch64  OK    OK    WARNINGS  
Package 45/551HostnameOS / ArchINSTALLBUILDCHECKBUILD BIN
BiSeq 1.43.0  (landing page)
Katja Hebestreit
git_last_commit: 7f41896
git_last_commit_date: 2023-10-24 09:53:54 -0400
nebbiolo1Linux (Ubuntu 22.04.3 LTS) / x86_64  OK    OK    OK  UNNEEDED, same version is already published
palomino3Windows Server 2022 Datacenter / x64  OK    OK    OK    OK  UNNEEDED, same version is already published
lconwaymacOS 12.7.1 Monterey / x86_64  OK    OK    OK    OK  UNNEEDED, same version is already published
kunpeng2Linux (openEuler 22.03 LTS-SP1) / aarch64  OK    OK    OK  
Package 46/551HostnameOS / ArchINSTALLBUILDCHECKBUILD BIN
blacksheepr 1.17.0  (landing page)
RugglesLab
git_last_commit: 76353eb
git_last_commit_date: 2023-10-24 11:17:10 -0400
nebbiolo1Linux (Ubuntu 22.04.3 LTS) / x86_64  OK    OK    OK  UNNEEDED, same version is already published
palomino3Windows Server 2022 Datacenter / x64  OK    OK    OK    OK  UNNEEDED, same version is already published
lconwaymacOS 12.7.1 Monterey / x86_64  OK    OK    OK    OK  UNNEEDED, same version is already published
kunpeng2Linux (openEuler 22.03 LTS-SP1) / aarch64  OK    OK    OK  
Package 47/551HostnameOS / ArchINSTALLBUILDCHECKBUILD BIN
BloodGen3Module 1.11.0  (landing page)
Darawan Rinchai
git_last_commit: ac01d29
git_last_commit_date: 2023-10-24 11:33:38 -0400
nebbiolo1Linux (Ubuntu 22.04.3 LTS) / x86_64  OK    OK    WARNINGS  UNNEEDED, same version is already published
palomino3Windows Server 2022 Datacenter / x64  OK    OK    WARNINGS    OK  UNNEEDED, same version is already published
lconwaymacOS 12.7.1 Monterey / x86_64  OK    OK    WARNINGS    OK  UNNEEDED, same version is already published
kunpeng2Linux (openEuler 22.03 LTS-SP1) / aarch64  OK    OK    WARNINGS  
Package 48/551HostnameOS / ArchINSTALLBUILDCHECKBUILD BIN
bnbc 1.25.1  (landing page)
Kipper Fletez-Brant
git_last_commit: 5d4b2ed
git_last_commit_date: 2024-01-23 22:01:12 -0400
nebbiolo1Linux (Ubuntu 22.04.3 LTS) / x86_64  OK    OK    OK  UNNEEDED, same version is already published
palomino3Windows Server 2022 Datacenter / x64  OK    OK    OK    OK  UNNEEDED, same version is already published
lconwaymacOS 12.7.1 Monterey / x86_64  OK    OK    OK    OK  UNNEEDED, same version is already published
kunpeng2Linux (openEuler 22.03 LTS-SP1) / aarch64  OK    OK    OK  
Package 49/551HostnameOS / ArchINSTALLBUILDCHECKBUILD BIN
BRGenomics 1.15.1  (landing page)
Mike DeBerardine
git_last_commit: 4504ccb
git_last_commit_date: 2024-02-29 16:17:04 -0400
nebbiolo1Linux (Ubuntu 22.04.3 LTS) / x86_64  OK    OK    TIMEOUT  
palomino3Windows Server 2022 Datacenter / x64  OK    OK    TIMEOUT    OK  
lconwaymacOS 12.7.1 Monterey / x86_64  OK    OK    TIMEOUT    OK  
kunpeng2Linux (openEuler 22.03 LTS-SP1) / aarch64  OK    OK    TIMEOUT  
Package 50/551HostnameOS / ArchINSTALLBUILDCHECKBUILD BIN
bsseq 1.39.0  (landing page)
Kasper Daniel Hansen
git_last_commit: c22c4d2
git_last_commit_date: 2023-10-24 09:50:39 -0400
nebbiolo1Linux (Ubuntu 22.04.3 LTS) / x86_64  OK    OK    OK  UNNEEDED, same version is already published
palomino3Windows Server 2022 Datacenter / x64  OK    OK    OK    OK  UNNEEDED, same version is already published
lconwaymacOS 12.7.1 Monterey / x86_64  OK    OK    OK    OK  UNNEEDED, same version is already published
kunpeng2Linux (openEuler 22.03 LTS-SP1) / aarch64  OK    OK    OK  
Package 51/551HostnameOS / ArchINSTALLBUILDCHECKBUILD BIN
BUMHMM 1.27.0  (landing page)
Alina Selega
git_last_commit: 8291b25
git_last_commit_date: 2023-10-24 10:54:31 -0400
nebbiolo1Linux (Ubuntu 22.04.3 LTS) / x86_64  OK    OK    OK  UNNEEDED, same version is already published
palomino3Windows Server 2022 Datacenter / x64  OK    OK    OK    OK  UNNEEDED, same version is already published
lconwaymacOS 12.7.1 Monterey / x86_64  OK    OK    OK    OK  UNNEEDED, same version is already published
kunpeng2Linux (openEuler 22.03 LTS-SP1) / aarch64  OK    OK    OK  
Package 52/551HostnameOS / ArchINSTALLBUILDCHECKBUILD BIN
BUScorrect 1.21.0  (landing page)
Xiangyu Luo
git_last_commit: d7f869d
git_last_commit_date: 2023-10-24 11:07:12 -0400
nebbiolo1Linux (Ubuntu 22.04.3 LTS) / x86_64  OK    OK    OK  UNNEEDED, same version is already published
palomino3Windows Server 2022 Datacenter / x64  OK    OK    OK    OK  UNNEEDED, same version is already published
lconwaymacOS 12.7.1 Monterey / x86_64  OK    OK    OK    OK  UNNEEDED, same version is already published
kunpeng2Linux (openEuler 22.03 LTS-SP1) / aarch64  OK    OK    OK  
Package 53/551HostnameOS / ArchINSTALLBUILDCHECKBUILD BIN
BUSseq 1.9.0  (landing page)
Fangda Song
git_last_commit: 002fc90
git_last_commit_date: 2023-10-24 11:34:29 -0400
nebbiolo1Linux (Ubuntu 22.04.3 LTS) / x86_64  OK    OK    OK  UNNEEDED, same version is already published
palomino3Windows Server 2022 Datacenter / x64  OK    OK    OK    OK  UNNEEDED, same version is already published
lconwaymacOS 12.7.1 Monterey / x86_64  OK    OK    OK    OK  UNNEEDED, same version is already published
kunpeng2Linux (openEuler 22.03 LTS-SP1) / aarch64  OK    OK    OK  
Package 54/551HostnameOS / ArchINSTALLBUILDCHECKBUILD BIN
CaDrA 1.1.2  (landing page)
Reina Chau
git_last_commit: 4a8aabc
git_last_commit_date: 2024-03-13 23:19:06 -0400
nebbiolo1Linux (Ubuntu 22.04.3 LTS) / x86_64  OK    OK    OK  UNNEEDED, same version is already published
palomino3Windows Server 2022 Datacenter / x64  OK    OK    OK    OK  UNNEEDED, same version is already published
lconwaymacOS 12.7.1 Monterey / x86_64  OK    OK    OK    OK  UNNEEDED, same version is already published
kunpeng2Linux (openEuler 22.03 LTS-SP1) / aarch64  OK    OK    OK  
Package 55/551HostnameOS / ArchINSTALLBUILDCHECKBUILD BIN
CAEN 1.11.0  (landing page)
Zhou Yan
git_last_commit: 2e5ad67
git_last_commit_date: 2023-10-24 11:28:48 -0400
nebbiolo1Linux (Ubuntu 22.04.3 LTS) / x86_64  OK    OK    OK  UNNEEDED, same version is already published
palomino3Windows Server 2022 Datacenter / x64  OK    OK    OK    OK  UNNEEDED, same version is already published
lconwaymacOS 12.7.1 Monterey / x86_64  OK    OK    OK    OK  UNNEEDED, same version is already published
kunpeng2Linux (openEuler 22.03 LTS-SP1) / aarch64  OK    OK    OK  
Package 56/551HostnameOS / ArchINSTALLBUILDCHECKBUILD BIN
CAGEfightR 1.23.0  (landing page)
Malte Thodberg
git_last_commit: c9667b2
git_last_commit_date: 2023-10-24 11:05:23 -0400
nebbiolo1Linux (Ubuntu 22.04.3 LTS) / x86_64  OK    OK    OK  UNNEEDED, same version is already published
palomino3Windows Server 2022 Datacenter / x64  OK    OK    OK    OK  UNNEEDED, same version is already published
lconwaymacOS 12.7.1 Monterey / x86_64  OK    OK    OK    OK  UNNEEDED, same version is already published
kunpeng2Linux (openEuler 22.03 LTS-SP1) / aarch64  OK    OK    OK  
Package 57/551HostnameOS / ArchINSTALLBUILDCHECKBUILD BIN
CAGEr 2.9.0  (landing page)
Charles Plessy
git_last_commit: 18d7295
git_last_commit_date: 2023-10-24 09:52:59 -0400
nebbiolo1Linux (Ubuntu 22.04.3 LTS) / x86_64  OK    OK    OK  UNNEEDED, same version is already published
palomino3Windows Server 2022 Datacenter / x64  OK    OK    OK    OK  UNNEEDED, same version is already published
lconwaymacOS 12.7.1 Monterey / x86_64  OK    OK    OK    OK  UNNEEDED, same version is already published
kunpeng2Linux (openEuler 22.03 LTS-SP1) / aarch64  OK    OK    OK  
Package 58/551HostnameOS / ArchINSTALLBUILDCHECKBUILD BIN
CATALYST 1.27.1  (landing page)
Helena L. Crowell
git_last_commit: 462b121
git_last_commit_date: 2024-03-27 05:53:43 -0400
nebbiolo1Linux (Ubuntu 22.04.3 LTS) / x86_64  OK    ERROR  skipped
palomino3Windows Server 2022 Datacenter / x64  OK    ERROR  skippedskipped
lconwaymacOS 12.7.1 Monterey / x86_64  OK    ERROR  skippedskipped
kunpeng2Linux (openEuler 22.03 LTS-SP1) / aarch64  OK    ERROR  skipped
Package 59/551HostnameOS / ArchINSTALLBUILDCHECKBUILD BIN
CBEA 1.3.0  (landing page)
Quang Nguyen
git_last_commit: 96d5776
git_last_commit_date: 2023-10-24 11:40:17 -0400
nebbiolo1Linux (Ubuntu 22.04.3 LTS) / x86_64  OK    OK    OK  UNNEEDED, same version is already published
palomino3Windows Server 2022 Datacenter / x64  OK    OK    OK    OK  UNNEEDED, same version is already published
lconwaymacOS 12.7.1 Monterey / x86_64  OK    OK    OK    OK  UNNEEDED, same version is already published
kunpeng2Linux (openEuler 22.03 LTS-SP1) / aarch64  OK    OK    OK  
Package 60/551HostnameOS / ArchINSTALLBUILDCHECKBUILD BIN
cBioPortalData 2.15.3  (landing page)
Marcel Ramos
git_last_commit: 3e7aefc
git_last_commit_date: 2024-02-02 15:02:35 -0400
nebbiolo1Linux (Ubuntu 22.04.3 LTS) / x86_64  OK    OK    OK  UNNEEDED, same version is already published
palomino3Windows Server 2022 Datacenter / x64  OK    OK    OK    OK  UNNEEDED, same version is already published
lconwaymacOS 12.7.1 Monterey / x86_64  OK    OK    OK    OK  UNNEEDED, same version is already published
kunpeng2Linux (openEuler 22.03 LTS-SP1) / aarch64  OK    OK    OK  
Package 61/551HostnameOS / ArchINSTALLBUILDCHECKBUILD BIN
ccfindR 1.23.0  (landing page)
Jun Woo
git_last_commit: aded0d3
git_last_commit_date: 2023-10-24 11:05:03 -0400
nebbiolo1Linux (Ubuntu 22.04.3 LTS) / x86_64  OK    OK    OK  UNNEEDED, same version is already published
palomino3Windows Server 2022 Datacenter / x64  OK    OK    OK    OK  UNNEEDED, same version is already published
lconwaymacOS 12.7.1 Monterey / x86_64  ERROR    ERROR  skippedskipped
kunpeng2Linux (openEuler 22.03 LTS-SP1) / aarch64  ERROR    ERROR  skipped
Package 62/551HostnameOS / ArchINSTALLBUILDCHECKBUILD BIN
CDI 1.1.1  (landing page)
Jiyuan Fang
git_last_commit: 27394e7
git_last_commit_date: 2023-12-05 05:11:48 -0400
nebbiolo1Linux (Ubuntu 22.04.3 LTS) / x86_64  OK    OK    OK  UNNEEDED, same version is already published
palomino3Windows Server 2022 Datacenter / x64  OK    OK    OK    OK  UNNEEDED, same version is already published
lconwaymacOS 12.7.1 Monterey / x86_64  OK    OK    OK    OK  UNNEEDED, same version is already published
kunpeng2Linux (openEuler 22.03 LTS-SP1) / aarch64  OK    OK    OK  
Package 63/551HostnameOS / ArchINSTALLBUILDCHECKBUILD BIN
celaref 1.21.0  (landing page)
Sarah Williams
git_last_commit: 3b42a01
git_last_commit_date: 2023-10-24 11:07:01 -0400
nebbiolo1Linux (Ubuntu 22.04.3 LTS) / x86_64  OK    ERROR  skipped
palomino3Windows Server 2022 Datacenter / x64  OK    OK    OK    OK  UNNEEDED, same version is already published
lconwaymacOS 12.7.1 Monterey / x86_64  OK    OK    OK    OK  UNNEEDED, same version is already published
kunpeng2Linux (openEuler 22.03 LTS-SP1) / aarch64  OK    OK    OK  
Package 64/551HostnameOS / ArchINSTALLBUILDCHECKBUILD BIN
celda 1.19.1  (landing page)
Joshua Campbell
git_last_commit: 8c4c8575
git_last_commit_date: 2023-11-04 11:39:22 -0400
nebbiolo1Linux (Ubuntu 22.04.3 LTS) / x86_64  OK    ERROR  skipped
palomino3Windows Server 2022 Datacenter / x64  OK    OK    ERROR    OK  
lconwaymacOS 12.7.1 Monterey / x86_64  OK    OK    ERROR    OK  
kunpeng2Linux (openEuler 22.03 LTS-SP1) / aarch64  OK    OK    ERROR  
Package 65/551HostnameOS / ArchINSTALLBUILDCHECKBUILD BIN
CelliD 1.11.1  (landing page)
Akira Cortal
git_last_commit: c5cced2
git_last_commit_date: 2023-11-30 01:48:22 -0400
nebbiolo1Linux (Ubuntu 22.04.3 LTS) / x86_64  OK    OK    WARNINGS  UNNEEDED, same version is already published
palomino3Windows Server 2022 Datacenter / x64  OK    OK    WARNINGS    OK  UNNEEDED, same version is already published
lconwaymacOS 12.7.1 Monterey / x86_64  OK    OK    WARNINGS    OK  UNNEEDED, same version is already published
kunpeng2Linux (openEuler 22.03 LTS-SP1) / aarch64  OK    OK    WARNINGS  
Package 66/551HostnameOS / ArchINSTALLBUILDCHECKBUILD BIN
CellMixS 1.19.0  (landing page)
Almut Lütge
git_last_commit: 54ea158
git_last_commit_date: 2023-10-24 11:12:36 -0400
nebbiolo1Linux (Ubuntu 22.04.3 LTS) / x86_64  OK    OK    OK  UNNEEDED, same version is already published
palomino3Windows Server 2022 Datacenter / x64  OK    OK    OK    OK  UNNEEDED, same version is already published
lconwaymacOS 12.7.1 Monterey / x86_64  OK    OK    OK    OK  UNNEEDED, same version is already published
kunpeng2Linux (openEuler 22.03 LTS-SP1) / aarch64  OK    OK    OK  
Package 67/551HostnameOS / ArchINSTALLBUILDCHECKBUILD BIN
CellScore 1.23.0  (landing page)
Nancy Mah
git_last_commit: 28773b1
git_last_commit_date: 2023-10-24 11:02:53 -0400
nebbiolo1Linux (Ubuntu 22.04.3 LTS) / x86_64  OK    OK    OK  UNNEEDED, same version is already published
palomino3Windows Server 2022 Datacenter / x64  OK    OK    OK    OK  UNNEEDED, same version is already published
lconwaymacOS 12.7.1 Monterey / x86_64  OK    OK    OK    OK  UNNEEDED, same version is already published
kunpeng2Linux (openEuler 22.03 LTS-SP1) / aarch64  OK    OK    OK  
Package 68/551HostnameOS / ArchINSTALLBUILDCHECKBUILD BIN
CellTrails 1.21.0  (landing page)
Daniel Ellwanger
git_last_commit: 207d6a5
git_last_commit_date: 2023-10-24 11:06:14 -0400
nebbiolo1Linux (Ubuntu 22.04.3 LTS) / x86_64  OK    OK    OK  UNNEEDED, same version is already published
palomino3Windows Server 2022 Datacenter / x64  OK    OK    OK    OK  UNNEEDED, same version is already published
lconwaymacOS 12.7.1 Monterey / x86_64  OK    OK    OK    OK  UNNEEDED, same version is already published
kunpeng2Linux (openEuler 22.03 LTS-SP1) / aarch64  OK    OK    OK  
Package 69/551HostnameOS / ArchINSTALLBUILDCHECKBUILD BIN
censcyt 1.11.0  (landing page)
Reto Gerber
git_last_commit: e315378
git_last_commit_date: 2023-10-24 11:28:36 -0400
nebbiolo1Linux (Ubuntu 22.04.3 LTS) / x86_64  OK    ERROR  skipped
palomino3Windows Server 2022 Datacenter / x64  OK    OK    OK    OK  UNNEEDED, same version is already published
lconwaymacOS 12.7.1 Monterey / x86_64  OK    ERROR  skippedskipped
kunpeng2Linux (openEuler 22.03 LTS-SP1) / aarch64  OK    ERROR  skipped
Package 70/551HostnameOS / ArchINSTALLBUILDCHECKBUILD BIN
Cepo 1.9.0  (landing page)
Hani Jieun Kim
git_last_commit: 4e091ad
git_last_commit_date: 2023-10-24 11:37:48 -0400
nebbiolo1Linux (Ubuntu 22.04.3 LTS) / x86_64  OK    ERROR  skipped
palomino3Windows Server 2022 Datacenter / x64  OK    ERROR  skippedskipped
lconwaymacOS 12.7.1 Monterey / x86_64  OK    ERROR  skippedskipped
kunpeng2Linux (openEuler 22.03 LTS-SP1) / aarch64  OK    ERROR  skipped
Package 71/551HostnameOS / ArchINSTALLBUILDCHECKBUILD BIN
CeTF 1.15.0  (landing page)
Carlos Alberto Oliveira de Biagi Junior
git_last_commit: 1b29d8f
git_last_commit_date: 2023-10-24 11:18:38 -0400
nebbiolo1Linux (Ubuntu 22.04.3 LTS) / x86_64  OK    OK    OK  UNNEEDED, same version is already published
palomino3Windows Server 2022 Datacenter / x64  OK    OK    OK    OK  UNNEEDED, same version is already published
lconwaymacOS 12.7.1 Monterey / x86_64  OK    OK    OK    OK  UNNEEDED, same version is already published
kunpeng2Linux (openEuler 22.03 LTS-SP1) / aarch64  OK    OK    OK  
Package 72/551HostnameOS / ArchINSTALLBUILDCHECKBUILD BIN
CHETAH 1.19.0  (landing page)
Jurrian de Kanter
git_last_commit: 828490f
git_last_commit_date: 2023-10-24 11:43:04 -0400
nebbiolo1Linux (Ubuntu 22.04.3 LTS) / x86_64  OK    OK    OK  UNNEEDED, same version is already published
palomino3Windows Server 2022 Datacenter / x64  OK    OK    OK    OK  UNNEEDED, same version is already published
lconwaymacOS 12.7.1 Monterey / x86_64  OK    OK    OK    OK  UNNEEDED, same version is already published
kunpeng2Linux (openEuler 22.03 LTS-SP1) / aarch64  OK    OK    OK  
Package 73/551HostnameOS / ArchINSTALLBUILDCHECKBUILD BIN
ChIPpeakAnno 3.37.4  (landing page)
Jianhong Ou
git_last_commit: 58a122c
git_last_commit_date: 2024-01-29 08:57:31 -0400
nebbiolo1Linux (Ubuntu 22.04.3 LTS) / x86_64  OK    ERROR  skipped
palomino3Windows Server 2022 Datacenter / x64  OK    OK    OK    OK  UNNEEDED, same version is already published
lconwaymacOS 12.7.1 Monterey / x86_64  OK    OK    OK    OK  UNNEEDED, same version is already published
kunpeng2Linux (openEuler 22.03 LTS-SP1) / aarch64  OK    OK    OK  
Package 74/551HostnameOS / ArchINSTALLBUILDCHECKBUILD BIN
ChromSCape 1.13.0  (landing page)
Pacome Prompsy
git_last_commit: d73b93e
git_last_commit_date: 2023-10-24 11:26:16 -0400
nebbiolo1Linux (Ubuntu 22.04.3 LTS) / x86_64  OK    OK    WARNINGS  UNNEEDED, same version is already published
palomino3Windows Server 2022 Datacenter / x64  OK    OK    WARNINGS    OK  UNNEEDED, same version is already published
lconwaymacOS 12.7.1 Monterey / x86_64  OK    OK    WARNINGS    OK  UNNEEDED, same version is already published
kunpeng2Linux (openEuler 22.03 LTS-SP1) / aarch64  OK    OK    WARNINGS  
Package 75/551HostnameOS / ArchINSTALLBUILDCHECKBUILD BIN
chromVAR 1.25.0  (landing page)
Alicia Schep
git_last_commit: 4dc365e
git_last_commit_date: 2023-10-24 11:00:14 -0400
nebbiolo1Linux (Ubuntu 22.04.3 LTS) / x86_64  OK    OK    OK  UNNEEDED, same version is already published
palomino3Windows Server 2022 Datacenter / x64  OK    OK    OK    OK  UNNEEDED, same version is already published
lconwaymacOS 12.7.1 Monterey / x86_64  OK    OK    OK    OK  UNNEEDED, same version is already published
kunpeng2Linux (openEuler 22.03 LTS-SP1) / aarch64  OK    OK    OK  
Package 76/551HostnameOS / ArchINSTALLBUILDCHECKBUILD BIN
CiteFuse 1.15.0  (landing page)
Yingxin Lin
git_last_commit: c3cb186
git_last_commit_date: 2023-10-24 11:21:20 -0400
nebbiolo1Linux (Ubuntu 22.04.3 LTS) / x86_64  OK    OK    OK  UNNEEDED, same version is already published
palomino3Windows Server 2022 Datacenter / x64  OK    OK    OK    OK  UNNEEDED, same version is already published
lconwaymacOS 12.7.1 Monterey / x86_64  OK    OK    OK    OK  UNNEEDED, same version is already published
kunpeng2Linux (openEuler 22.03 LTS-SP1) / aarch64  OK    OK    OK  
Package 77/551HostnameOS / ArchINSTALLBUILDCHECKBUILD BIN
clusterExperiment 2.23.0  (landing page)
Elizabeth Purdom
git_last_commit: fdeda23
git_last_commit_date: 2023-10-24 10:51:18 -0400
nebbiolo1Linux (Ubuntu 22.04.3 LTS) / x86_64  OK    OK    WARNINGS  UNNEEDED, same version is already published
palomino3Windows Server 2022 Datacenter / x64  OK    OK    WARNINGS    OK  UNNEEDED, same version is already published
lconwaymacOS 12.7.1 Monterey / x86_64  OK    OK    WARNINGS    OK  UNNEEDED, same version is already published
kunpeng2Linux (openEuler 22.03 LTS-SP1) / aarch64  OK    OK    WARNINGS  
Package 78/551HostnameOS / ArchINSTALLBUILDCHECKBUILD BIN
clustifyr 1.15.1  (landing page)
Kent Riemondy
git_last_commit: 0097813
git_last_commit_date: 2023-11-07 12:27:45 -0400
nebbiolo1Linux (Ubuntu 22.04.3 LTS) / x86_64  OK    OK    OK  UNNEEDED, same version is already published
palomino3Windows Server 2022 Datacenter / x64  OK    OK    OK    OK  UNNEEDED, same version is already published
lconwaymacOS 12.7.1 Monterey / x86_64  OK    OK    OK    OK  UNNEEDED, same version is already published
kunpeng2Linux (openEuler 22.03 LTS-SP1) / aarch64  OK    OK    OK  
Package 79/551HostnameOS / ArchINSTALLBUILDCHECKBUILD BIN
cmapR 1.15.0  (landing page)
Ted Natoli
git_last_commit: 7f04377
git_last_commit_date: 2023-10-24 11:20:22 -0400
nebbiolo1Linux (Ubuntu 22.04.3 LTS) / x86_64  OK    ERROR  skipped
palomino3Windows Server 2022 Datacenter / x64  OK    OK    OK    OK  UNNEEDED, same version is already published
lconwaymacOS 12.7.1 Monterey / x86_64  OK    OK    OK    OK  UNNEEDED, same version is already published
kunpeng2Linux (openEuler 22.03 LTS-SP1) / aarch64  OK    OK    OK  
Package 80/551HostnameOS / ArchINSTALLBUILDCHECKBUILD BIN
CNVfilteR 1.17.0  (landing page)
Jose Marcos Moreno-Cabrera
git_last_commit: a88be24
git_last_commit_date: 2023-10-24 11:17:02 -0400
nebbiolo1Linux (Ubuntu 22.04.3 LTS) / x86_64  OK    OK    OK  UNNEEDED, same version is already published
palomino3Windows Server 2022 Datacenter / x64  OK    OK    OK    OK  UNNEEDED, same version is already published
lconwaymacOS 12.7.1 Monterey / x86_64  OK    OK    OK    OK  UNNEEDED, same version is already published
kunpeng2Linux (openEuler 22.03 LTS-SP1) / aarch64  OK    OK    OK  
Package 81/551HostnameOS / ArchINSTALLBUILDCHECKBUILD BIN
CNVRanger 1.19.1  (landing page)
Ludwig Geistlinger
git_last_commit: 43040b1
git_last_commit_date: 2024-01-19 20:16:38 -0400
nebbiolo1Linux (Ubuntu 22.04.3 LTS) / x86_64  OK    ERROR  skipped
palomino3Windows Server 2022 Datacenter / x64  OK    OK    OK    OK  UNNEEDED, same version is already published
lconwaymacOS 12.7.1 Monterey / x86_64  OK    OK    OK    OK  UNNEEDED, same version is already published
kunpeng2Linux (openEuler 22.03 LTS-SP1) / aarch64  OK    OK    OK  
Package 82/551HostnameOS / ArchINSTALLBUILDCHECKBUILD BIN
CoGAPS 3.23.1  (landing page)
Elana J. Fertig
git_last_commit: 9094d23
git_last_commit_date: 2024-02-08 09:41:05 -0400
nebbiolo1Linux (Ubuntu 22.04.3 LTS) / x86_64  OK    ERROR  skipped
palomino3Windows Server 2022 Datacenter / x64  OK    ERROR  skippedskipped
lconwaymacOS 12.7.1 Monterey / x86_64  OK    ERROR  skippedskipped
kunpeng2Linux (openEuler 22.03 LTS-SP1) / aarch64  OK    OK    OK  
Package 83/551HostnameOS / ArchINSTALLBUILDCHECKBUILD BIN
comapr 1.7.1  (landing page)
Ruqian Lyu
git_last_commit: 1c4273d
git_last_commit_date: 2023-10-26 23:51:15 -0400
nebbiolo1Linux (Ubuntu 22.04.3 LTS) / x86_64  OK    OK    OK  UNNEEDED, same version is already published
palomino3Windows Server 2022 Datacenter / x64  OK    OK    OK    OK  UNNEEDED, same version is already published
lconwaymacOS 12.7.1 Monterey / x86_64  OK    OK    OK    OK  UNNEEDED, same version is already published
kunpeng2Linux (openEuler 22.03 LTS-SP1) / aarch64  OK    OK    OK  
Package 84/551HostnameOS / ArchINSTALLBUILDCHECKBUILD BIN
combi 1.15.0  (landing page)
Stijn Hawinkel
git_last_commit: 03ec0c0
git_last_commit_date: 2023-10-24 11:20:28 -0400
nebbiolo1Linux (Ubuntu 22.04.3 LTS) / x86_64  OK    OK    OK  UNNEEDED, same version is already published
palomino3Windows Server 2022 Datacenter / x64  OK    OK    OK    OK  UNNEEDED, same version is already published
lconwaymacOS 12.7.1 Monterey / x86_64  OK    OK    OK    OK  UNNEEDED, same version is already published
kunpeng2Linux (openEuler 22.03 LTS-SP1) / aarch64  OK    OK    OK  
Package 85/551HostnameOS / ArchINSTALLBUILDCHECKBUILD BIN
compartmap 1.21.1  (landing page)
Benjamin Johnson
git_last_commit: 435fffd
git_last_commit_date: 2024-02-02 11:37:47 -0400
nebbiolo1Linux (Ubuntu 22.04.3 LTS) / x86_64  OK    OK    ERROR  
palomino3Windows Server 2022 Datacenter / x64  OK    OK    OK    OK  UNNEEDED, same version is already published
lconwaymacOS 12.7.1 Monterey / x86_64  OK    OK    OK    OK  UNNEEDED, same version is already published
kunpeng2Linux (openEuler 22.03 LTS-SP1) / aarch64  OK    OK    WARNINGS  
Package 86/551HostnameOS / ArchINSTALLBUILDCHECKBUILD BIN
condiments 1.11.0  (landing page)
Hector Roux de Bezieux
git_last_commit: 8a9f0e6
git_last_commit_date: 2023-10-24 11:31:30 -0400
nebbiolo1Linux (Ubuntu 22.04.3 LTS) / x86_64  OK    OK    OK  UNNEEDED, same version is already published
palomino3Windows Server 2022 Datacenter / x64  OK    OK    OK    OK  UNNEEDED, same version is already published
lconwaymacOS 12.7.1 Monterey / x86_64  OK    OK    OK    OK  UNNEEDED, same version is already published
kunpeng2Linux (openEuler 22.03 LTS-SP1) / aarch64  OK    OK    OK  
Package 87/551HostnameOS / ArchINSTALLBUILDCHECKBUILD BIN
consensusDE 1.21.0  (landing page)
Ashley J. Waardenberg
git_last_commit: 87ab6b1
git_last_commit_date: 2023-10-24 11:09:05 -0400
nebbiolo1Linux (Ubuntu 22.04.3 LTS) / x86_64  OK    OK    OK  UNNEEDED, same version is already published
palomino3Windows Server 2022 Datacenter / x64  OK    OK    OK    OK  UNNEEDED, same version is already published
lconwaymacOS 12.7.1 Monterey / x86_64  OK    OK    OK    OK  UNNEEDED, same version is already published
kunpeng2Linux (openEuler 22.03 LTS-SP1) / aarch64  OK    OK    OK  
Package 88/551HostnameOS / ArchINSTALLBUILDCHECKBUILD BIN
consICA 2.1.0  (landing page)
Petr V. Nazarov
git_last_commit: b0be609
git_last_commit_date: 2023-10-24 11:43:58 -0400
nebbiolo1Linux (Ubuntu 22.04.3 LTS) / x86_64  OK    OK    OK  UNNEEDED, same version is already published
palomino3Windows Server 2022 Datacenter / x64  OK    OK    OK    OK  UNNEEDED, same version is already published
lconwaymacOS 12.7.1 Monterey / x86_64  OK    OK    OK    OK  UNNEEDED, same version is already published
kunpeng2Linux (openEuler 22.03 LTS-SP1) / aarch64  OK    OK    OK  
Package 89/551HostnameOS / ArchINSTALLBUILDCHECKBUILD BIN
CopyNumberPlots 1.19.0  (landing page)
Bernat Gel
git_last_commit: 5be9b08
git_last_commit_date: 2023-10-24 11:13:15 -0400
nebbiolo1Linux (Ubuntu 22.04.3 LTS) / x86_64  OK    OK    OK  UNNEEDED, same version is already published
palomino3Windows Server 2022 Datacenter / x64  OK    OK    OK    OK  UNNEEDED, same version is already published
lconwaymacOS 12.7.1 Monterey / x86_64  OK    OK    OK    OK  UNNEEDED, same version is already published
kunpeng2Linux (openEuler 22.03 LTS-SP1) / aarch64  OK    OK    OK  
Package 90/551HostnameOS / ArchINSTALLBUILDCHECKBUILD BIN
CoreGx 2.7.3  (landing page)
Benjamin Haibe-Kains
git_last_commit: 639219c
git_last_commit_date: 2024-03-11 16:13:11 -0400
nebbiolo1Linux (Ubuntu 22.04.3 LTS) / x86_64  OK    OK    OK  UNNEEDED, same version is already published
palomino3Windows Server 2022 Datacenter / x64  OK    OK    OK    OK  UNNEEDED, same version is already published
lconwaymacOS 12.7.1 Monterey / x86_64  OK    OK    OK    OK  UNNEEDED, same version is already published
kunpeng2Linux (openEuler 22.03 LTS-SP1) / aarch64  OK    OK    OK  
Package 91/551HostnameOS / ArchINSTALLBUILDCHECKBUILD BIN
corral 1.13.0  (landing page)
Lauren Hsu
git_last_commit: 0a3328b
git_last_commit_date: 2023-10-24 11:23:12 -0400
nebbiolo1Linux (Ubuntu 22.04.3 LTS) / x86_64  OK    ERROR  skipped
palomino3Windows Server 2022 Datacenter / x64  OK    OK    OK    OK  UNNEEDED, same version is already published
lconwaymacOS 12.7.1 Monterey / x86_64  OK    OK    OK    OK  UNNEEDED, same version is already published
kunpeng2Linux (openEuler 22.03 LTS-SP1) / aarch64  OK    OK    OK  
Package 92/551HostnameOS / ArchINSTALLBUILDCHECKBUILD BIN
coseq 1.27.0  (landing page)
Andrea Rau
git_last_commit: 63e92d8
git_last_commit_date: 2023-10-24 10:54:56 -0400
nebbiolo1Linux (Ubuntu 22.04.3 LTS) / x86_64  OK    OK    OK  UNNEEDED, same version is already published
palomino3Windows Server 2022 Datacenter / x64  OK    OK    OK    OK  UNNEEDED, same version is already published
lconwaymacOS 12.7.1 Monterey / x86_64  OK    OK    OK    OK  UNNEEDED, same version is already published
kunpeng2Linux (openEuler 22.03 LTS-SP1) / aarch64  OK    OK    OK  
Package 93/551HostnameOS / ArchINSTALLBUILDCHECKBUILD BIN
countsimQC 1.21.0  (landing page)
Charlotte Soneson
git_last_commit: 560a0e9
git_last_commit_date: 2023-10-24 13:48:22 -0400
nebbiolo1Linux (Ubuntu 22.04.3 LTS) / x86_64  OK    OK    OK  UNNEEDED, same version is already published
palomino3Windows Server 2022 Datacenter / x64  OK    OK    OK    OK  UNNEEDED, same version is already published
lconwaymacOS 12.7.1 Monterey / x86_64  OK    OK    OK    OK  UNNEEDED, same version is already published
kunpeng2Linux (openEuler 22.03 LTS-SP1) / aarch64  OK    OK    OK  
Package 94/551HostnameOS / ArchINSTALLBUILDCHECKBUILD BIN
csaw 1.37.1  (landing page)
Aaron Lun
git_last_commit: b6fe934
git_last_commit_date: 2023-11-30 02:21:57 -0400
nebbiolo1Linux (Ubuntu 22.04.3 LTS) / x86_64  OK    OK    WARNINGS  UNNEEDED, same version is already published
palomino3Windows Server 2022 Datacenter / x64  OK    OK    WARNINGS    OK  UNNEEDED, same version is already published
lconwaymacOS 12.7.1 Monterey / x86_64  OK    OK    WARNINGS    OK  UNNEEDED, same version is already published
kunpeng2Linux (openEuler 22.03 LTS-SP1) / aarch64  OK    OK    WARNINGS  
Package 95/551HostnameOS / ArchINSTALLBUILDCHECKBUILD BIN
CSSQ 1.15.0  (landing page)
Fan Lab at Georgia Institute of Technology
git_last_commit: b72333f
git_last_commit_date: 2023-10-24 11:18:33 -0400
nebbiolo1Linux (Ubuntu 22.04.3 LTS) / x86_64  OK    OK    OK  UNNEEDED, same version is already published
palomino3Windows Server 2022 Datacenter / x64  OK    OK    OK    OK  UNNEEDED, same version is already published
lconwaymacOS 12.7.1 Monterey / x86_64  OK    OK    OK    OK  UNNEEDED, same version is already published
kunpeng2Linux (openEuler 22.03 LTS-SP1) / aarch64  OK    OK    OK  
Package 96/551HostnameOS / ArchINSTALLBUILDCHECKBUILD BIN
CTexploreR 0.99.5  (landing page)
Axelle Loriot
git_last_commit: ee97824
git_last_commit_date: 2023-11-10 10:17:01 -0400
nebbiolo1Linux (Ubuntu 22.04.3 LTS) / x86_64  OK    ERROR  skipped
palomino3Windows Server 2022 Datacenter / x64  ERROR    OK    ERROR    OK  
lconwaymacOS 12.7.1 Monterey / x86_64  OK    OK    OK    OK  UNNEEDED, same version is already published
kunpeng2Linux (openEuler 22.03 LTS-SP1) / aarch64  OK    ERROR  skipped
Package 97/551HostnameOS / ArchINSTALLBUILDCHECKBUILD BIN
CTSV 1.5.0  (landing page)
Jinge Yu Developer
git_last_commit: e5eb3ae
git_last_commit_date: 2023-10-24 11:42:40 -0400
nebbiolo1Linux (Ubuntu 22.04.3 LTS) / x86_64  OK    OK    OK  UNNEEDED, same version is already published
palomino3Windows Server 2022 Datacenter / x64  OK    OK    OK    OK  UNNEEDED, same version is already published
lconwaymacOS 12.7.1 Monterey / x86_64  OK    OK    OK    OK  UNNEEDED, same version is already published
kunpeng2Linux (openEuler 22.03 LTS-SP1) / aarch64  OK    OK    OK  
Package 98/551HostnameOS / ArchINSTALLBUILDCHECKBUILD BIN
CuratedAtlasQueryR 1.1.1  (landing page)
Stefano Mangiola
git_last_commit: a338712
git_last_commit_date: 2023-12-06 18:33:06 -0400
nebbiolo1Linux (Ubuntu 22.04.3 LTS) / x86_64  OK    OK    OK  UNNEEDED, same version is already published
palomino3Windows Server 2022 Datacenter / x64  OK    OK    OK    OK  UNNEEDED, same version is already published
lconwaymacOS 12.7.1 Monterey / x86_64  OK    OK    OK    OK  UNNEEDED, same version is already published
kunpeng2Linux (openEuler 22.03 LTS-SP1) / aarch64  OK    OK    OK  
Package 99/551HostnameOS / ArchINSTALLBUILDCHECKBUILD BIN
cydar 1.27.0  (landing page)
Aaron Lun
git_last_commit: 369347d
git_last_commit_date: 2023-10-24 10:56:16 -0400
nebbiolo1Linux (Ubuntu 22.04.3 LTS) / x86_64  OK    OK    OK  UNNEEDED, same version is already published
palomino3Windows Server 2022 Datacenter / x64  OK    OK    OK    OK  UNNEEDED, same version is already published
lconwaymacOS 12.7.1 Monterey / x86_64  OK    OK    OK    OK  UNNEEDED, same version is already published
kunpeng2Linux (openEuler 22.03 LTS-SP1) / aarch64  OK    OK    OK  
Package 100/551HostnameOS / ArchINSTALLBUILDCHECKBUILD BIN
CyTOFpower 1.9.0  (landing page)
Anne-Maud Ferreira
git_last_commit: 85b0dc5
git_last_commit_date: 2023-10-24 11:37:28 -0400
nebbiolo1Linux (Ubuntu 22.04.3 LTS) / x86_64  OK    OK    ERROR  
palomino3Windows Server 2022 Datacenter / x64  OK    OK    ERROR    OK  
lconwaymacOS 12.7.1 Monterey / x86_64  OK    OK    ERROR    OK  
kunpeng2Linux (openEuler 22.03 LTS-SP1) / aarch64  OK    OK    ERROR  
Package 101/551HostnameOS / ArchINSTALLBUILDCHECKBUILD BIN
cytofQC 1.3.0  (landing page)
Jill Lundell
git_last_commit: e4c278b
git_last_commit_date: 2023-10-24 11:47:40 -0400
nebbiolo1Linux (Ubuntu 22.04.3 LTS) / x86_64  OK    OK    OK  UNNEEDED, same version is already published
palomino3Windows Server 2022 Datacenter / x64  OK    OK    OK    OK  UNNEEDED, same version is already published
lconwaymacOS 12.7.1 Monterey / x86_64  OK    OK    OK    OK  UNNEEDED, same version is already published
kunpeng2Linux (openEuler 22.03 LTS-SP1) / aarch64  OK    OK    OK  
Package 102/551HostnameOS / ArchINSTALLBUILDCHECKBUILD BIN
cytoKernel 1.9.0  (landing page)
Tusharkanti Ghosh
git_last_commit: 24ded7a
git_last_commit_date: 2023-10-24 11:36:32 -0400
nebbiolo1Linux (Ubuntu 22.04.3 LTS) / x86_64  OK    OK    OK  UNNEEDED, same version is already published
palomino3Windows Server 2022 Datacenter / x64  OK    OK    OK    OK  UNNEEDED, same version is already published
lconwaymacOS 12.7.1 Monterey / x86_64  OK    OK    OK    OK  UNNEEDED, same version is already published
kunpeng2Linux (openEuler 22.03 LTS-SP1) / aarch64  OK    OK    OK  
Package 103/551HostnameOS / ArchINSTALLBUILDCHECKBUILD BIN
cytomapper 1.15.4  (landing page)
Lasse Meyer
git_last_commit: a985bd6
git_last_commit_date: 2024-03-21 08:44:46 -0400
nebbiolo1Linux (Ubuntu 22.04.3 LTS) / x86_64  OK    OK    OK  UNNEEDED, same version is already published
palomino3Windows Server 2022 Datacenter / x64  OK    OK    OK    OK  UNNEEDED, same version is already published
lconwaymacOS 12.7.1 Monterey / x86_64  OK    OK    OK    OK  UNNEEDED, same version is already published
kunpeng2Linux (openEuler 22.03 LTS-SP1) / aarch64  OK    OK    OK  
Package 104/551HostnameOS / ArchINSTALLBUILDCHECKBUILD BIN
cytoviewer 1.3.2  (landing page)
Lasse Meyer
git_last_commit: 5ec2863
git_last_commit_date: 2024-01-05 06:11:10 -0400
nebbiolo1Linux (Ubuntu 22.04.3 LTS) / x86_64  OK    OK    OK  UNNEEDED, same version is already published
palomino3Windows Server 2022 Datacenter / x64  OK    OK    OK    OK  UNNEEDED, same version is already published
lconwaymacOS 12.7.1 Monterey / x86_64  OK    OK    OK    OK  UNNEEDED, same version is already published
kunpeng2Linux (openEuler 22.03 LTS-SP1) / aarch64  OK    OK    OK  
Package 105/551HostnameOS / ArchINSTALLBUILDCHECKBUILD BIN
DAMEfinder 1.15.0  (landing page)
Stephany Orjuela
git_last_commit: 0914bc9
git_last_commit_date: 2023-10-24 11:19:04 -0400
nebbiolo1Linux (Ubuntu 22.04.3 LTS) / x86_64  OK    OK    OK  UNNEEDED, same version is already published
palomino3Windows Server 2022 Datacenter / x64  OK    OK    OK    OK  UNNEEDED, same version is already published
lconwaymacOS 12.7.1 Monterey / x86_64  OK    OK    OK    OK  UNNEEDED, same version is already published
kunpeng2Linux (openEuler 22.03 LTS-SP1) / aarch64  OK    OK    OK  
Package 106/551HostnameOS / ArchINSTALLBUILDCHECKBUILD BIN
DaMiRseq 2.15.0  (landing page)
Mattia Chiesa
git_last_commit: 551867e
git_last_commit_date: 2023-10-24 10:56:05 -0400
nebbiolo1Linux (Ubuntu 22.04.3 LTS) / x86_64  OK    OK    OK  UNNEEDED, same version is already published
palomino3Windows Server 2022 Datacenter / x64  OK    OK    OK    OK  UNNEEDED, same version is already published
lconwaymacOS 12.7.1 Monterey / x86_64  OK    OK    OK    OK  UNNEEDED, same version is already published
kunpeng2Linux (openEuler 22.03 LTS-SP1) / aarch64  OK    OK    OK  
Package 107/551HostnameOS / ArchINSTALLBUILDCHECKBUILD BIN
debCAM 1.21.0  (landing page)
Lulu Chen
git_last_commit: 8ed6b5d
git_last_commit_date: 2023-10-24 11:16:25 -0400
nebbiolo1Linux (Ubuntu 22.04.3 LTS) / x86_64  OK    OK    OK  UNNEEDED, same version is already published
palomino3Windows Server 2022 Datacenter / x64  OK    OK    OK    OK  UNNEEDED, same version is already published
lconwaymacOS 12.7.1 Monterey / x86_64  OK    OK    OK    OK  UNNEEDED, same version is already published
kunpeng2Linux (openEuler 22.03 LTS-SP1) / aarch64  OK    OK    OK  
Package 108/551HostnameOS / ArchINSTALLBUILDCHECKBUILD BIN
debrowser 1.31.2  (landing page)
Alper Kucukural
git_last_commit: 77c8a5c
git_last_commit_date: 2024-02-05 11:12:54 -0400
nebbiolo1Linux (Ubuntu 22.04.3 LTS) / x86_64  OK    OK    OK  UNNEEDED, same version is already published
palomino3Windows Server 2022 Datacenter / x64  OK    OK    OK    OK  UNNEEDED, same version is already published
lconwaymacOS 12.7.1 Monterey / x86_64  OK    OK    OK    OK  UNNEEDED, same version is already published
kunpeng2Linux (openEuler 22.03 LTS-SP1) / aarch64  OK    OK    OK  
Package 109/551HostnameOS / ArchINSTALLBUILDCHECKBUILD BIN
decompTumor2Sig 2.19.0  (landing page)
Rosario M. Piro
git_last_commit: 7809b28
git_last_commit_date: 2023-10-24 11:09:45 -0400
nebbiolo1Linux (Ubuntu 22.04.3 LTS) / x86_64  OK    OK    OK  UNNEEDED, same version is already published
palomino3Windows Server 2022 Datacenter / x64  OK    OK    OK    OK  UNNEEDED, same version is already published
lconwaymacOS 12.7.1 Monterey / x86_64  OK    OK    OK    OK  UNNEEDED, same version is already published
kunpeng2Linux (openEuler 22.03 LTS-SP1) / aarch64  OK    OK    OK  
Package 110/551HostnameOS / ArchINSTALLBUILDCHECKBUILD BIN
decontX 1.1.0  (landing page)
Yuan Yin
git_last_commit: 559103d
git_last_commit_date: 2023-10-24 11:52:30 -0400
nebbiolo1Linux (Ubuntu 22.04.3 LTS) / x86_64  OK    OK    OK  UNNEEDED, same version is already published
palomino3Windows Server 2022 Datacenter / x64  OK    OK    OK    OK  UNNEEDED, same version is already published
lconwaymacOS 12.7.1 Monterey / x86_64  OK    ERROR  skippedskipped
kunpeng2Linux (openEuler 22.03 LTS-SP1) / aarch64  OK    OK    OK  
Package 111/551HostnameOS / ArchINSTALLBUILDCHECKBUILD BIN
deepSNV 1.49.0  (landing page)
Moritz Gerstung
git_last_commit: 69c2512
git_last_commit_date: 2023-10-24 09:49:21 -0400
nebbiolo1Linux (Ubuntu 22.04.3 LTS) / x86_64  OK    OK    OK  UNNEEDED, same version is already published
palomino3Windows Server 2022 Datacenter / x64  OK    OK    OK    OK  UNNEEDED, same version is already published
lconwaymacOS 12.7.1 Monterey / x86_64  OK    OK    OK    OK  UNNEEDED, same version is already published
kunpeng2Linux (openEuler 22.03 LTS-SP1) / aarch64  OK    OK    OK  
Package 112/551HostnameOS / ArchINSTALLBUILDCHECKBUILD BIN
DEFormats 1.31.0  (landing page)
Andrzej Oleś
git_last_commit: 93e0798
git_last_commit_date: 2023-10-24 10:48:54 -0400
nebbiolo1Linux (Ubuntu 22.04.3 LTS) / x86_64  OK    OK    OK  UNNEEDED, same version is already published
palomino3Windows Server 2022 Datacenter / x64  OK    OK    OK    OK  UNNEEDED, same version is already published
lconwaymacOS 12.7.1 Monterey / x86_64  OK    OK    OK    OK  UNNEEDED, same version is already published
kunpeng2Linux (openEuler 22.03 LTS-SP1) / aarch64  OK    OK    OK  
Package 113/551HostnameOS / ArchINSTALLBUILDCHECKBUILD BIN
DEGreport 1.39.4  (landing page)
Lorena Pantano
git_last_commit: e780c75
git_last_commit_date: 2024-01-11 14:41:52 -0400
nebbiolo1Linux (Ubuntu 22.04.3 LTS) / x86_64  OK    OK    OK  UNNEEDED, same version is already published
palomino3Windows Server 2022 Datacenter / x64  OK    OK    OK    OK  UNNEEDED, same version is already published
lconwaymacOS 12.7.1 Monterey / x86_64  OK    OK    OK    OK  UNNEEDED, same version is already published
kunpeng2Linux (openEuler 22.03 LTS-SP1) / aarch64  OK    OK    OK  
Package 114/551HostnameOS / ArchINSTALLBUILDCHECKBUILD BIN
DELocal 1.3.1  (landing page)
Rishi Das Roy
git_last_commit: b9a7413
git_last_commit_date: 2024-02-05 06:40:17 -0400
nebbiolo1Linux (Ubuntu 22.04.3 LTS) / x86_64  OK    OK    OK  UNNEEDED, same version is already published
palomino3Windows Server 2022 Datacenter / x64  OK    OK    OK    OK  UNNEEDED, same version is already published
lconwaymacOS 12.7.1 Monterey / x86_64  OK    OK    OK    OK  UNNEEDED, same version is already published
kunpeng2Linux (openEuler 22.03 LTS-SP1) / aarch64  OK    OK    OK  
Package 115/551HostnameOS / ArchINSTALLBUILDCHECKBUILD BIN
deltaCaptureC 1.17.0  (landing page)
Michael Shapiro
git_last_commit: 0b4e30f
git_last_commit_date: 2023-10-24 11:16:09 -0400
nebbiolo1Linux (Ubuntu 22.04.3 LTS) / x86_64  OK    ERROR  skipped
palomino3Windows Server 2022 Datacenter / x64  OK    ERROR  skippedskipped
lconwaymacOS 12.7.1 Monterey / x86_64  OK    ERROR  skippedskipped
kunpeng2Linux (openEuler 22.03 LTS-SP1) / aarch64  OK    ERROR  skipped
Package 116/551HostnameOS / ArchINSTALLBUILDCHECKBUILD BIN
DeMixT 1.19.0  (landing page)
Shuai Guo
git_last_commit: c81a8fa
git_last_commit_date: 2023-10-24 11:12:18 -0400
nebbiolo1Linux (Ubuntu 22.04.3 LTS) / x86_64  OK    OK    WARNINGS  UNNEEDED, same version is already published
palomino3Windows Server 2022 Datacenter / x64  OK    OK    WARNINGS    OK  UNNEEDED, same version is already published
lconwaymacOS 12.7.1 Monterey / x86_64  OK    OK    WARNINGS    OK  UNNEEDED, same version is already published
kunpeng2Linux (openEuler 22.03 LTS-SP1) / aarch64  OK    OK    WARNINGS  
Package 117/551HostnameOS / ArchINSTALLBUILDCHECKBUILD BIN
demuxSNP 1.1.10  (landing page)
Michael Lynch
git_last_commit: 1d705dd
git_last_commit_date: 2024-03-13 14:15:24 -0400
nebbiolo1Linux (Ubuntu 22.04.3 LTS) / x86_64  OK    OK    OK  UNNEEDED, same version is already published
palomino3Windows Server 2022 Datacenter / x64  OK    OK    OK    OK  UNNEEDED, same version is already published
lconwaymacOS 12.7.1 Monterey / x86_64  OK    OK    OK    OK  UNNEEDED, same version is already published
kunpeng2Linux (openEuler 22.03 LTS-SP1) / aarch64  OK    OK    OK  
Package 118/551HostnameOS / ArchINSTALLBUILDCHECKBUILD BIN
DEP 1.25.0  (landing page)
Arne Smits
git_last_commit: 5a94530
git_last_commit_date: 2023-10-24 10:58:53 -0400
nebbiolo1Linux (Ubuntu 22.04.3 LTS) / x86_64  OK    OK    WARNINGS  UNNEEDED, same version is already published
palomino3Windows Server 2022 Datacenter / x64  OK    OK    WARNINGS    OK  UNNEEDED, same version is already published
lconwaymacOS 12.7.1 Monterey / x86_64  OK    OK    WARNINGS    OK  UNNEEDED, same version is already published
kunpeng2Linux (openEuler 22.03 LTS-SP1) / aarch64  OK    OK    WARNINGS  
Package 119/551HostnameOS / ArchINSTALLBUILDCHECKBUILD BIN
DEScan2 1.23.0  (landing page)
Dario Righelli
git_last_commit: 02d5fcb
git_last_commit_date: 2023-10-24 11:03:24 -0400
nebbiolo1Linux (Ubuntu 22.04.3 LTS) / x86_64  OK    OK    WARNINGS  UNNEEDED, same version is already published
palomino3Windows Server 2022 Datacenter / x64  OK    OK    WARNINGS    OK  UNNEEDED, same version is already published
lconwaymacOS 12.7.1 Monterey / x86_64  OK    OK    WARNINGS    OK  UNNEEDED, same version is already published
kunpeng2Linux (openEuler 22.03 LTS-SP1) / aarch64  OK    OK    WARNINGS  
Package 120/551HostnameOS / ArchINSTALLBUILDCHECKBUILD BIN
DESeq2 1.43.4  (landing page)
Michael Love
git_last_commit: ea8b66b
git_last_commit_date: 2024-03-06 10:44:09 -0400
nebbiolo1Linux (Ubuntu 22.04.3 LTS) / x86_64  OK    OK    OK  UNNEEDED, same version is already published
palomino3Windows Server 2022 Datacenter / x64  OK    OK    OK    OK  UNNEEDED, same version is already published
lconwaymacOS 12.7.1 Monterey / x86_64  OK    OK    OK    OK  UNNEEDED, same version is already published
kunpeng2Linux (openEuler 22.03 LTS-SP1) / aarch64  OK    OK    OK  
Package 121/551HostnameOS / ArchINSTALLBUILDCHECKBUILD BIN
DESpace 1.3.1  (landing page)
Peiying Cai
git_last_commit: 9454d20
git_last_commit_date: 2024-01-22 10:54:44 -0400
nebbiolo1Linux (Ubuntu 22.04.3 LTS) / x86_64  OK    OK    OK  UNNEEDED, same version is already published
palomino3Windows Server 2022 Datacenter / x64  OK    OK    OK    OK  UNNEEDED, same version is already published
lconwaymacOS 12.7.1 Monterey / x86_64  OK    ERROR  skippedskipped
kunpeng2Linux (openEuler 22.03 LTS-SP1) / aarch64  OK    OK    OK  
Package 122/551HostnameOS / ArchINSTALLBUILDCHECKBUILD BIN
destiny 3.17.0  (landing page)
Philipp Angerer
git_last_commit: 48962d2
git_last_commit_date: 2023-12-28 07:36:24 -0400
nebbiolo1Linux (Ubuntu 22.04.3 LTS) / x86_64  OK    OK    OK  UNNEEDED, same version is already published
palomino3Windows Server 2022 Datacenter / x64  OK    OK    OK    OK  UNNEEDED, same version is already published
lconwaymacOS 12.7.1 Monterey / x86_64  OK    OK    OK    OK  UNNEEDED, same version is already published
kunpeng2Linux (openEuler 22.03 LTS-SP1) / aarch64  OK    OK    OK  
Package 123/551HostnameOS / ArchINSTALLBUILDCHECKBUILD BIN
DEWSeq 1.17.2  (landing page)
bioinformatics team Hentze
git_last_commit: 19e182d
git_last_commit_date: 2024-01-19 09:44:11 -0400
nebbiolo1Linux (Ubuntu 22.04.3 LTS) / x86_64  OK    OK    OK  UNNEEDED, same version is already published
palomino3Windows Server 2022 Datacenter / x64  OK    OK    OK    OK  UNNEEDED, same version is already published
lconwaymacOS 12.7.1 Monterey / x86_64  OK    OK    OK    OK  UNNEEDED, same version is already published
kunpeng2Linux (openEuler 22.03 LTS-SP1) / aarch64  OK    ERROR  skipped
Package 124/551HostnameOS / ArchINSTALLBUILDCHECKBUILD BIN
DEXSeq 1.49.1  (landing page)
Alejandro Reyes
git_last_commit: b41bd5c
git_last_commit_date: 2024-03-18 18:10:10 -0400
nebbiolo1Linux (Ubuntu 22.04.3 LTS) / x86_64  OK    OK    OK  UNNEEDED, same version is already published
palomino3Windows Server 2022 Datacenter / x64  OK    OK    OK    OK  UNNEEDED, same version is already published
lconwaymacOS 12.7.1 Monterey / x86_64  OK    OK    OK    OK  UNNEEDED, same version is already published
kunpeng2Linux (openEuler 22.03 LTS-SP1) / aarch64  OK    OK    OK  
Package 125/551HostnameOS / ArchINSTALLBUILDCHECKBUILD BIN
DiffBind 3.13.0  (landing page)
Rory Stark
git_last_commit: b8c5bbc
git_last_commit_date: 2023-10-24 09:48:02 -0400
nebbiolo1Linux (Ubuntu 22.04.3 LTS) / x86_64  OK    OK    OK  UNNEEDED, same version is already published
palomino3Windows Server 2022 Datacenter / x64  OK    OK    OK    OK  UNNEEDED, same version is already published
lconwaymacOS 12.7.1 Monterey / x86_64  OK    OK    OK    OK  UNNEEDED, same version is already published
kunpeng2Linux (openEuler 22.03 LTS-SP1) / aarch64  OK    OK    OK  
Package 126/551HostnameOS / ArchINSTALLBUILDCHECKBUILD BIN
diffcoexp 1.23.0  (landing page)
Wenbin Wei
git_last_commit: 8b4aaff
git_last_commit_date: 2023-10-24 11:03:26 -0400
nebbiolo1Linux (Ubuntu 22.04.3 LTS) / x86_64  OK    OK    OK  UNNEEDED, same version is already published
palomino3Windows Server 2022 Datacenter / x64  OK    OK    OK    OK  UNNEEDED, same version is already published
lconwaymacOS 12.7.1 Monterey / x86_64  OK    OK    OK    OK  UNNEEDED, same version is already published
kunpeng2Linux (openEuler 22.03 LTS-SP1) / aarch64  OK    OK    OK  
Package 127/551HostnameOS / ArchINSTALLBUILDCHECKBUILD BIN
diffcyt 1.23.1  (landing page)
Lukas M. Weber
git_last_commit: 3e840e9
git_last_commit_date: 2024-03-17 14:27:35 -0400
nebbiolo1Linux (Ubuntu 22.04.3 LTS) / x86_64  OK    OK    ERROR  
palomino3Windows Server 2022 Datacenter / x64  OK    OK    OK    OK  UNNEEDED, same version is already published
lconwaymacOS 12.7.1 Monterey / x86_64  OK    ERROR  skippedskipped
kunpeng2Linux (openEuler 22.03 LTS-SP1) / aarch64  OK    OK    ERROR  
Package 128/551HostnameOS / ArchINSTALLBUILDCHECKBUILD BIN
DifferentialRegulation 2.1.3  (landing page)
Simone Tiberi
git_last_commit: 9f767e4
git_last_commit_date: 2024-01-22 10:50:02 -0400
nebbiolo1Linux (Ubuntu 22.04.3 LTS) / x86_64  OK    OK    OK  UNNEEDED, same version is already published
palomino3Windows Server 2022 Datacenter / x64  OK    OK    OK    OK  UNNEEDED, same version is already published
lconwaymacOS 12.7.1 Monterey / x86_64  OK    OK    OK    OK  UNNEEDED, same version is already published
kunpeng2Linux (openEuler 22.03 LTS-SP1) / aarch64  OK    OK    OK  
Package 129/551HostnameOS / ArchINSTALLBUILDCHECKBUILD BIN
diffHic 1.35.0  (landing page)
Aaron Lun
git_last_commit: 16c4aaf
git_last_commit_date: 2023-10-24 10:43:16 -0400
nebbiolo1Linux (Ubuntu 22.04.3 LTS) / x86_64  OK    OK    WARNINGS  UNNEEDED, same version is already published
palomino3Windows Server 2022 Datacenter / x64  OK    OK    WARNINGS    OK  UNNEEDED, same version is already published
lconwaymacOS 12.7.1 Monterey / x86_64  OK    OK    WARNINGS    OK  UNNEEDED, same version is already published
kunpeng2Linux (openEuler 22.03 LTS-SP1) / aarch64  OK    OK    WARNINGS  
Package 130/551HostnameOS / ArchINSTALLBUILDCHECKBUILD BIN
diffUTR 1.11.0  (landing page)
Pierre-Luc Germain
git_last_commit: 71ca7a2
git_last_commit_date: 2023-10-24 11:33:18 -0400
nebbiolo1Linux (Ubuntu 22.04.3 LTS) / x86_64  OK    OK    OK  UNNEEDED, same version is already published
palomino3Windows Server 2022 Datacenter / x64  OK    OK    OK    OK  UNNEEDED, same version is already published
lconwaymacOS 12.7.1 Monterey / x86_64  OK    OK    OK    OK  UNNEEDED, same version is already published
kunpeng2Linux (openEuler 22.03 LTS-SP1) / aarch64  OK    OK    OK  
Package 131/551HostnameOS / ArchINSTALLBUILDCHECKBUILD BIN
Dino 1.9.0  (landing page)
Jared Brown
git_last_commit: ed70d22
git_last_commit_date: 2023-10-24 11:34:47 -0400
nebbiolo1Linux (Ubuntu 22.04.3 LTS) / x86_64  OK    OK    OK  UNNEEDED, same version is already published
palomino3Windows Server 2022 Datacenter / x64  OK    OK    OK    OK  UNNEEDED, same version is already published
lconwaymacOS 12.7.1 Monterey / x86_64  OK    OK    OK    OK  UNNEEDED, same version is already published
kunpeng2Linux (openEuler 22.03 LTS-SP1) / aarch64  OK    OK    OK  
Package 132/551HostnameOS / ArchINSTALLBUILDCHECKBUILD BIN
dinoR 0.99.8  (landing page)
Michaela Schwaiger
git_last_commit: a44809d
git_last_commit_date: 2024-03-06 03:32:40 -0400
nebbiolo1Linux (Ubuntu 22.04.3 LTS) / x86_64  OK    OK    OK  YES
palomino3Windows Server 2022 Datacenter / x64  OK    OK    OK    OK  YES
lconwaymacOS 12.7.1 Monterey / x86_64  OK    OK    OK    OK  YES
kunpeng2Linux (openEuler 22.03 LTS-SP1) / aarch64  OK    OK    OK  
Package 133/551HostnameOS / ArchINSTALLBUILDCHECKBUILD BIN
DiscoRhythm 1.19.0  (landing page)
Matthew Carlucci
git_last_commit: 6f8f38e
git_last_commit_date: 2023-10-24 11:12:44 -0400
nebbiolo1Linux (Ubuntu 22.04.3 LTS) / x86_64  OK    OK    OK  UNNEEDED, same version is already published
palomino3Windows Server 2022 Datacenter / x64  OK    OK    OK    OK  UNNEEDED, same version is already published
lconwaymacOS 12.7.1 Monterey / x86_64  OK    OK    OK    OK  UNNEEDED, same version is already published
kunpeng2Linux (openEuler 22.03 LTS-SP1) / aarch64  OK    OK    OK  
Package 134/551HostnameOS / ArchINSTALLBUILDCHECKBUILD BIN
distinct 1.15.5  (landing page)
Simone Tiberi
git_last_commit: 780b1ee
git_last_commit_date: 2023-12-04 09:31:25 -0400
nebbiolo1Linux (Ubuntu 22.04.3 LTS) / x86_64  OK    OK    OK  UNNEEDED, same version is already published
palomino3Windows Server 2022 Datacenter / x64  OK    OK    OK    OK  UNNEEDED, same version is already published
lconwaymacOS 12.7.1 Monterey / x86_64  OK    OK    OK    OK  UNNEEDED, same version is already published
kunpeng2Linux (openEuler 22.03 LTS-SP1) / aarch64  OK    OK    OK  
Package 135/551HostnameOS / ArchINSTALLBUILDCHECKBUILD BIN
dittoSeq 1.15.6  (landing page)
Daniel Bunis
git_last_commit: 8c47ac3
git_last_commit_date: 2024-03-18 17:21:14 -0400
nebbiolo1Linux (Ubuntu 22.04.3 LTS) / x86_64  OK    OK    OK  UNNEEDED, same version is already published
palomino3Windows Server 2022 Datacenter / x64  OK    OK    OK    OK  UNNEEDED, same version is already published
lconwaymacOS 12.7.1 Monterey / x86_64  OK    OK    OK    OK  UNNEEDED, same version is already published
kunpeng2Linux (openEuler 22.03 LTS-SP1) / aarch64  OK    OK    OK  
Package 136/551HostnameOS / ArchINSTALLBUILDCHECKBUILD BIN
divergence 1.19.0  (landing page)
Wikum Dinalankara , Luigi Marchionni
git_last_commit: 995241a
git_last_commit_date: 2023-10-24 11:10:44 -0400
nebbiolo1Linux (Ubuntu 22.04.3 LTS) / x86_64  OK    OK    OK  UNNEEDED, same version is already published
palomino3Windows Server 2022 Datacenter / x64  OK    OK    OK    OK  UNNEEDED, same version is already published
lconwaymacOS 12.7.1 Monterey / x86_64  OK    OK    OK    OK  UNNEEDED, same version is already published
kunpeng2Linux (openEuler 22.03 LTS-SP1) / aarch64  OK    OK    OK  
Package 137/551HostnameOS / ArchINSTALLBUILDCHECKBUILD BIN
DMCFB 1.17.2  (landing page)
Farhad Shokoohi
git_last_commit: 4f8dbae
git_last_commit_date: 2024-01-31 21:36:57 -0400
nebbiolo1Linux (Ubuntu 22.04.3 LTS) / x86_64  OK    OK    OK  UNNEEDED, same version is already published
palomino3Windows Server 2022 Datacenter / x64  OK    OK    OK    OK  UNNEEDED, same version is already published
lconwaymacOS 12.7.1 Monterey / x86_64  OK    OK    OK    OK  UNNEEDED, same version is already published
kunpeng2Linux (openEuler 22.03 LTS-SP1) / aarch64  OK    OK    OK  
Package 138/551HostnameOS / ArchINSTALLBUILDCHECKBUILD BIN
DMCHMM 1.25.0  (landing page)
Farhad Shokoohi
git_last_commit: ea9be90
git_last_commit_date: 2023-10-24 10:59:14 -0400
nebbiolo1Linux (Ubuntu 22.04.3 LTS) / x86_64  OK    OK    OK  UNNEEDED, same version is already published
palomino3Windows Server 2022 Datacenter / x64  OK    OK    WARNINGS    OK  UNNEEDED, same version is already published
lconwaymacOS 12.7.1 Monterey / x86_64  OK    OK    OK    OK  UNNEEDED, same version is already published
kunpeng2Linux (openEuler 22.03 LTS-SP1) / aarch64  OK    OK    OK  
Package 139/551HostnameOS / ArchINSTALLBUILDCHECKBUILD BIN
DMRcate 2.99.4  (landing page)
Tim Peters
git_last_commit: 86df50b
git_last_commit_date: 2024-03-25 00:43:16 -0400
nebbiolo1Linux (Ubuntu 22.04.3 LTS) / x86_64  OK    OK    ERROR  
palomino3Windows Server 2022 Datacenter / x64  OK    TIMEOUT  skippedskipped
lconwaymacOS 12.7.1 Monterey / x86_64  OK    ERROR  skippedskipped
kunpeng2Linux (openEuler 22.03 LTS-SP1) / aarch64  OK    ERROR  skipped
Package 140/551HostnameOS / ArchINSTALLBUILDCHECKBUILD BIN
DominoEffect 1.23.2  (landing page)
Marija Buljan
git_last_commit: fcd7076
git_last_commit_date: 2023-11-08 15:49:39 -0400
nebbiolo1Linux (Ubuntu 22.04.3 LTS) / x86_64  OK    OK    OK  UNNEEDED, same version is already published
palomino3Windows Server 2022 Datacenter / x64  OK    OK    OK    OK  UNNEEDED, same version is already published
lconwaymacOS 12.7.1 Monterey / x86_64  OK    OK    OK    OK  UNNEEDED, same version is already published
kunpeng2Linux (openEuler 22.03 LTS-SP1) / aarch64  OK    OK    OK  
Package 141/551HostnameOS / ArchINSTALLBUILDCHECKBUILD BIN
doppelgangR 1.31.0  (landing page)
Levi Waldron
git_last_commit: 30d231b
git_last_commit_date: 2023-10-24 10:48:24 -0400
nebbiolo1Linux (Ubuntu 22.04.3 LTS) / x86_64  OK    OK    OK  UNNEEDED, same version is already published
palomino3Windows Server 2022 Datacenter / x64  OK    OK    OK    OK  UNNEEDED, same version is already published
lconwaymacOS 12.7.1 Monterey / x86_64  OK    OK    OK    OK  UNNEEDED, same version is already published
kunpeng2Linux (openEuler 22.03 LTS-SP1) / aarch64  OK    OK    OK  
Package 142/551HostnameOS / ArchINSTALLBUILDCHECKBUILD BIN
doseR 1.19.0  (landing page)
ake.vastermark
git_last_commit: b2ef1b0
git_last_commit_date: 2023-10-24 11:11:21 -0400
nebbiolo1Linux (Ubuntu 22.04.3 LTS) / x86_64  OK    OK    ERROR  
palomino3Windows Server 2022 Datacenter / x64  OK    OK    OK    OK  UNNEEDED, same version is already published
lconwaymacOS 12.7.1 Monterey / x86_64  OK    OK    ERROR    OK  
kunpeng2Linux (openEuler 22.03 LTS-SP1) / aarch64  OK    OK    ERROR  
Package 143/551HostnameOS / ArchINSTALLBUILDCHECKBUILD BIN
dreamlet 1.1.18  (landing page)
Gabriel Hoffman
git_last_commit: 836366e
git_last_commit_date: 2024-02-14 12:30:42 -0400
nebbiolo1Linux (Ubuntu 22.04.3 LTS) / x86_64  OK    OK    OK  UNNEEDED, same version is already published
palomino3Windows Server 2022 Datacenter / x64  OK    OK    OK    OK  UNNEEDED, same version is already published
lconwaymacOS 12.7.1 Monterey / x86_64  OK    ERROR  skippedskipped
kunpeng2Linux (openEuler 22.03 LTS-SP1) / aarch64  OK    OK    OK  
Package 144/551HostnameOS / ArchINSTALLBUILDCHECKBUILD BIN
DropletUtils 1.23.1  (landing page)
Jonathan Griffiths
git_last_commit: e659310
git_last_commit_date: 2024-03-12 18:23:11 -0400
nebbiolo1Linux (Ubuntu 22.04.3 LTS) / x86_64  OK    OK    WARNINGS  UNNEEDED, same version is already published
palomino3Windows Server 2022 Datacenter / x64  OK    OK    OK    OK  UNNEEDED, same version is already published
lconwaymacOS 12.7.1 Monterey / x86_64  OK    OK    WARNINGS    OK  UNNEEDED, same version is already published
kunpeng2Linux (openEuler 22.03 LTS-SP1) / aarch64  OK    OK    ERROR  
Package 145/551HostnameOS / ArchINSTALLBUILDCHECKBUILD BIN
Dune 1.15.0  (landing page)
Hector Roux de Bezieux
git_last_commit: 111e9a4
git_last_commit_date: 2023-10-24 11:20:25 -0400
nebbiolo1Linux (Ubuntu 22.04.3 LTS) / x86_64  OK    OK    OK  UNNEEDED, same version is already published
palomino3Windows Server 2022 Datacenter / x64  OK    OK    OK    OK  UNNEEDED, same version is already published
lconwaymacOS 12.7.1 Monterey / x86_64  OK    OK    OK    OK  UNNEEDED, same version is already published
kunpeng2Linux (openEuler 22.03 LTS-SP1) / aarch64  OK    OK    OK  
Package 146/551HostnameOS / ArchINSTALLBUILDCHECKBUILD BIN
easyRNASeq 2.39.0  (landing page)
Nicolas Delhomme
git_last_commit: 3c9525d
git_last_commit_date: 2023-10-24 09:49:08 -0400
nebbiolo1Linux (Ubuntu 22.04.3 LTS) / x86_64  OK    OK    OK  UNNEEDED, same version is already published
palomino3Windows Server 2022 Datacenter / x64  OK    OK    OK    OK  UNNEEDED, same version is already published
lconwaymacOS 12.7.1 Monterey / x86_64  OK    OK    OK    OK  UNNEEDED, same version is already published
kunpeng2Linux (openEuler 22.03 LTS-SP1) / aarch64  OK    OK    OK  
Package 147/551HostnameOS / ArchINSTALLBUILDCHECKBUILD BIN
eisaR 1.15.2  (landing page)
Michael Stadler
git_last_commit: 29958b7
git_last_commit_date: 2024-03-14 09:07:35 -0400
nebbiolo1Linux (Ubuntu 22.04.3 LTS) / x86_64  OK    OK    OK  UNNEEDED, same version is already published
palomino3Windows Server 2022 Datacenter / x64  OK    OK    OK    OK  UNNEEDED, same version is already published
lconwaymacOS 12.7.1 Monterey / x86_64  OK    OK    OK    OK  UNNEEDED, same version is already published
kunpeng2Linux (openEuler 22.03 LTS-SP1) / aarch64  OK    OK    OK  
Package 148/551HostnameOS / ArchINSTALLBUILDCHECKBUILD BIN
ELMER 2.27.0  (landing page)
Tiago Chedraoui Silva
git_last_commit: de20e96
git_last_commit_date: 2023-10-24 10:43:48 -0400
nebbiolo1Linux (Ubuntu 22.04.3 LTS) / x86_64  OK    OK    OK  UNNEEDED, same version is already published
palomino3Windows Server 2022 Datacenter / x64  OK    OK    OK    OK  UNNEEDED, same version is already published
lconwaymacOS 12.7.1 Monterey / x86_64  OK    ERROR  skippedskipped
kunpeng2Linux (openEuler 22.03 LTS-SP1) / aarch64  OK    OK    OK  
Package 149/551HostnameOS / ArchINSTALLBUILDCHECKBUILD BIN
ENmix 1.39.2  (landing page)
Zongli Xu
git_last_commit: 96f773e
git_last_commit_date: 2023-11-14 10:17:15 -0400
nebbiolo1Linux (Ubuntu 22.04.3 LTS) / x86_64  OK    OK    OK  UNNEEDED, same version is already published
palomino3Windows Server 2022 Datacenter / x64  OK    OK    OK    OK  UNNEEDED, same version is already published
lconwaymacOS 12.7.1 Monterey / x86_64  OK    OK    OK    OK  UNNEEDED, same version is already published
kunpeng2Linux (openEuler 22.03 LTS-SP1) / aarch64  OK    OK    OK  
Package 150/551HostnameOS / ArchINSTALLBUILDCHECKBUILD BIN
EnrichmentBrowser 2.33.1  (landing page)
Ludwig Geistlinger
git_last_commit: 89581f4
git_last_commit_date: 2023-10-28 17:18:00 -0400
nebbiolo1Linux (Ubuntu 22.04.3 LTS) / x86_64  OK    OK    OK  UNNEEDED, same version is already published
palomino3Windows Server 2022 Datacenter / x64  OK    OK    OK    OK  UNNEEDED, same version is already published
lconwaymacOS 12.7.1 Monterey / x86_64  OK    OK    OK    OK  UNNEEDED, same version is already published
kunpeng2Linux (openEuler 22.03 LTS-SP1) / aarch64  OK    OK    OK  
Package 151/551HostnameOS / ArchINSTALLBUILDCHECKBUILD BIN
ensemblVEP 1.45.1  (landing page)
Bioconductor Package Maintainer
git_last_commit: 7e6d1d2
git_last_commit_date: 2024-01-26 07:26:55 -0400
nebbiolo1Linux (Ubuntu 22.04.3 LTS) / x86_64  OK    OK    OK  UNNEEDED, same version is already published
palomino3Windows Server 2022 Datacenter / x64... NOT SUPPORTED ...
lconwaymacOS 12.7.1 Monterey / x86_64  OK    ERROR  skippedskipped
kunpeng2Linux (openEuler 22.03 LTS-SP1) / aarch64  OK    OK    OK  
Package 152/551HostnameOS / ArchINSTALLBUILDCHECKBUILD BIN
epialleleR 1.11.9  (landing page)
Oleksii Nikolaienko
git_last_commit: e5fbf73
git_last_commit_date: 2024-03-21 13:46:46 -0400
nebbiolo1Linux (Ubuntu 22.04.3 LTS) / x86_64  OK    OK    OK  UNNEEDED, same version is already published
palomino3Windows Server 2022 Datacenter / x64  OK    OK    OK    OK  UNNEEDED, same version is already published
lconwaymacOS 12.7.1 Monterey / x86_64  OK    OK    OK    OK  UNNEEDED, same version is already published
kunpeng2Linux (openEuler 22.03 LTS-SP1) / aarch64  OK    OK    OK  
Package 153/551HostnameOS / ArchINSTALLBUILDCHECKBUILD BIN
epigenomix 1.43.0  (landing page)
Hans-Ulrich Klein
git_last_commit: 6ba7351
git_last_commit_date: 2023-10-24 09:53:11 -0400
nebbiolo1Linux (Ubuntu 22.04.3 LTS) / x86_64  OK    OK    OK  UNNEEDED, same version is already published
palomino3Windows Server 2022 Datacenter / x64  OK    OK    OK    OK  UNNEEDED, same version is already published
lconwaymacOS 12.7.1 Monterey / x86_64  OK    OK    OK    OK  UNNEEDED, same version is already published
kunpeng2Linux (openEuler 22.03 LTS-SP1) / aarch64  OK    OK    OK  
Package 154/551HostnameOS / ArchINSTALLBUILDCHECKBUILD BIN
epigraHMM 1.11.0  (landing page)
Pedro Baldoni
git_last_commit: 2e759b7
git_last_commit_date: 2023-10-24 11:33:52 -0400
nebbiolo1Linux (Ubuntu 22.04.3 LTS) / x86_64  OK    OK    WARNINGS  UNNEEDED, same version is already published
palomino3Windows Server 2022 Datacenter / x64  OK    OK    OK    OK  UNNEEDED, same version is already published
lconwaymacOS 12.7.1 Monterey / x86_64  OK    OK    WARNINGS    OK  UNNEEDED, same version is already published
kunpeng2Linux (openEuler 22.03 LTS-SP1) / aarch64  OK    OK    WARNINGS  
Package 155/551HostnameOS / ArchINSTALLBUILDCHECKBUILD BIN
EpiMix 1.5.1  (landing page)
Yuanning Zheng
git_last_commit: 8866c90
git_last_commit_date: 2024-02-23 00:30:14 -0400
nebbiolo1Linux (Ubuntu 22.04.3 LTS) / x86_64  OK    OK    OK  UNNEEDED, same version is already published
palomino3Windows Server 2022 Datacenter / x64  OK    OK    OK    OK  UNNEEDED, same version is already published
lconwaymacOS 12.7.1 Monterey / x86_64  OK    ERROR  skippedskipped
kunpeng2Linux (openEuler 22.03 LTS-SP1) / aarch64  OK    OK    OK  
Package 156/551HostnameOS / ArchINSTALLBUILDCHECKBUILD BIN
epimutacions 1.7.1  (landing page)
Dolors Pelegri-Siso
git_last_commit: deb5e62
git_last_commit_date: 2023-11-03 07:38:00 -0400
nebbiolo1Linux (Ubuntu 22.04.3 LTS) / x86_64  OK    OK    OK  UNNEEDED, same version is already published
palomino3Windows Server 2022 Datacenter / x64  OK    OK    OK    OK  UNNEEDED, same version is already published
lconwaymacOS 12.7.1 Monterey / x86_64  OK    ERROR  skippedskipped
kunpeng2Linux (openEuler 22.03 LTS-SP1) / aarch64  OK    OK    OK  
Package 157/551HostnameOS / ArchINSTALLBUILDCHECKBUILD BIN
epistack 1.9.0  (landing page)
DEVAILLY Guillaume
git_last_commit: 43d7ba7
git_last_commit_date: 2023-10-24 11:37:24 -0400
nebbiolo1Linux (Ubuntu 22.04.3 LTS) / x86_64  OK    OK    OK  UNNEEDED, same version is already published
palomino3Windows Server 2022 Datacenter / x64  OK    OK    OK    OK  UNNEEDED, same version is already published
lconwaymacOS 12.7.1 Monterey / x86_64  OK    OK    OK    OK  UNNEEDED, same version is already published
kunpeng2Linux (openEuler 22.03 LTS-SP1) / aarch64  OK    OK    OK  
Package 158/551HostnameOS / ArchINSTALLBUILDCHECKBUILD BIN
epivizrData 1.31.0  (landing page)
Hector Corrada Bravo
git_last_commit: d7e37a3
git_last_commit_date: 2023-10-24 10:50:04 -0400
nebbiolo1Linux (Ubuntu 22.04.3 LTS) / x86_64  OK    OK    OK  UNNEEDED, same version is already published
palomino3Windows Server 2022 Datacenter / x64  OK    OK    OK    OK  UNNEEDED, same version is already published
lconwaymacOS 12.7.1 Monterey / x86_64  OK    OK    OK    OK  UNNEEDED, same version is already published
kunpeng2Linux (openEuler 22.03 LTS-SP1) / aarch64  OK    OK    OK  
Package 159/551HostnameOS / ArchINSTALLBUILDCHECKBUILD BIN
erma 1.19.0  (landing page)
VJ Carey
git_last_commit: 6755a45
git_last_commit_date: 2023-10-24 10:43:59 -0400
nebbiolo1Linux (Ubuntu 22.04.3 LTS) / x86_64  OK    OK    OK  UNNEEDED, same version is already published
palomino3Windows Server 2022 Datacenter / x64  OK    OK    OK    OK  UNNEEDED, same version is already published
lconwaymacOS 12.7.1 Monterey / x86_64  OK    OK    OK    OK  UNNEEDED, same version is already published
kunpeng2Linux (openEuler 22.03 LTS-SP1) / aarch64  OK    OK    OK  
Package 160/551HostnameOS / ArchINSTALLBUILDCHECKBUILD BIN
escape 1.99.1  (landing page)
Nick Borcherding
git_last_commit: 99fed64
git_last_commit_date: 2024-03-25 07:24:52 -0400
nebbiolo1Linux (Ubuntu 22.04.3 LTS) / x86_64  OK    OK    OK  UNNEEDED, same version is already published
palomino3Windows Server 2022 Datacenter / x64  OK    OK    OK    OK  UNNEEDED, same version is already published
lconwaymacOS 12.7.1 Monterey / x86_64  OK    OK    OK    OK  UNNEEDED, same version is already published
kunpeng2Linux (openEuler 22.03 LTS-SP1) / aarch64  OK    OK    ERROR  
Package 161/551HostnameOS / ArchINSTALLBUILDCHECKBUILD BIN
escheR 1.3.2  (landing page)
Boyi Guo
git_last_commit: cba06f7
git_last_commit_date: 2024-01-12 16:28:33 -0400
nebbiolo1Linux (Ubuntu 22.04.3 LTS) / x86_64  OK    OK    OK  UNNEEDED, same version is already published
palomino3Windows Server 2022 Datacenter / x64  OK    OK    OK    OK  UNNEEDED, same version is already published
lconwaymacOS 12.7.1 Monterey / x86_64  OK    ERROR  skippedskipped
kunpeng2Linux (openEuler 22.03 LTS-SP1) / aarch64  OK    OK    OK  
Package 162/551HostnameOS / ArchINSTALLBUILDCHECKBUILD BIN
evaluomeR 1.19.0  (landing page)
José Antonio Bernabé-Díaz
git_last_commit: a6c35ff
git_last_commit_date: 2023-10-24 11:12:14 -0400
nebbiolo1Linux (Ubuntu 22.04.3 LTS) / x86_64  OK    OK    OK  UNNEEDED, same version is already published
palomino3Windows Server 2022 Datacenter / x64  OK    OK    OK    OK  UNNEEDED, same version is already published
lconwaymacOS 12.7.1 Monterey / x86_64  OK    OK    OK    OK  UNNEEDED, same version is already published
kunpeng2Linux (openEuler 22.03 LTS-SP1) / aarch64  OK    OK    OK  
Package 163/551HostnameOS / ArchINSTALLBUILDCHECKBUILD BIN
EventPointer 3.11.0  (landing page)
Juan A. Ferrer-Bonsoms
git_last_commit: b2719c8
git_last_commit_date: 2023-10-24 10:55:44 -0400
nebbiolo1Linux (Ubuntu 22.04.3 LTS) / x86_64  OK    OK    OK  UNNEEDED, same version is already published
palomino3Windows Server 2022 Datacenter / x64  OK    OK    OK    OK  UNNEEDED, same version is already published
lconwaymacOS 12.7.1 Monterey / x86_64  OK    OK    OK    OK  UNNEEDED, same version is already published
kunpeng2Linux (openEuler 22.03 LTS-SP1) / aarch64  OK    OK    OK  
Package 164/551HostnameOS / ArchINSTALLBUILDCHECKBUILD BIN
EWCE 1.11.3  (landing page)
Alan Murphy
git_last_commit: 3838e2c
git_last_commit_date: 2023-11-21 08:06:56 -0400
nebbiolo1Linux (Ubuntu 22.04.3 LTS) / x86_64  OK    OK    OK  UNNEEDED, same version is already published
palomino3Windows Server 2022 Datacenter / x64  OK    OK    OK    OK  UNNEEDED, same version is already published
lconwaymacOS 12.7.1 Monterey / x86_64  OK    ERROR  skippedskipped
kunpeng2Linux (openEuler 22.03 LTS-SP1) / aarch64  OK    OK    OK  
Package 165/551HostnameOS / ArchINSTALLBUILDCHECKBUILD BIN
exomePeak2 1.15.1  (landing page)
Zhen Wei
git_last_commit: 1c8c68c
git_last_commit_date: 2024-02-29 13:10:58 -0400
nebbiolo1Linux (Ubuntu 22.04.3 LTS) / x86_64  OK    OK    ERROR  
palomino3Windows Server 2022 Datacenter / x64  OK    OK    OK    OK  UNNEEDED, same version is already published
lconwaymacOS 12.7.1 Monterey / x86_64  OK    OK    OK    OK  UNNEEDED, same version is already published
kunpeng2Linux (openEuler 22.03 LTS-SP1) / aarch64  OK    OK    ERROR  
Package 166/551HostnameOS / ArchINSTALLBUILDCHECKBUILD BIN
ExperimentSubset 1.13.0  (landing page)
Irzam Sarfraz
git_last_commit: 73e97e2
git_last_commit_date: 2023-10-24 11:26:48 -0400
nebbiolo1Linux (Ubuntu 22.04.3 LTS) / x86_64  OK    OK    OK  UNNEEDED, same version is already published
palomino3Windows Server 2022 Datacenter / x64  OK    OK    OK    OK  UNNEEDED, same version is already published
lconwaymacOS 12.7.1 Monterey / x86_64  OK    OK    OK    OK  UNNEEDED, same version is already published
kunpeng2Linux (openEuler 22.03 LTS-SP1) / aarch64  OK    OK    OK  
Package 167/551HostnameOS / ArchINSTALLBUILDCHECKBUILD BIN
ExpressionAtlas 1.31.0  (landing page)
Pedro Madrigal
git_last_commit: 2f39d55
git_last_commit_date: 2023-10-24 10:47:44 -0400
nebbiolo1Linux (Ubuntu 22.04.3 LTS) / x86_64  OK    OK    OK  UNNEEDED, same version is already published
palomino3Windows Server 2022 Datacenter / x64  OK    OK    OK    OK  UNNEEDED, same version is already published
lconwaymacOS 12.7.1 Monterey / x86_64  OK    OK    OK    OK  UNNEEDED, same version is already published
kunpeng2Linux (openEuler 22.03 LTS-SP1) / aarch64  OK    OK    OK  
Package 168/551HostnameOS / ArchINSTALLBUILDCHECKBUILD BIN
extraChIPs 1.7.5  (landing page)
Stevie Pederson
git_last_commit: 100cd56
git_last_commit_date: 2024-03-04 21:19:47 -0400
nebbiolo1Linux (Ubuntu 22.04.3 LTS) / x86_64  OK    OK    OK  UNNEEDED, same version is already published
palomino3Windows Server 2022 Datacenter / x64  OK    OK    OK    OK  UNNEEDED, same version is already published
lconwaymacOS 12.7.1 Monterey / x86_64  OK    OK    OK    OK  UNNEEDED, same version is already published
kunpeng2Linux (openEuler 22.03 LTS-SP1) / aarch64  OK    OK    OK  
Package 169/551HostnameOS / ArchINSTALLBUILDCHECKBUILD BIN
FCBF 2.11.1  (landing page)
Tiago Lubiana
git_last_commit: 9bda7e0
git_last_commit_date: 2024-02-29 12:43:16 -0400
nebbiolo1Linux (Ubuntu 22.04.3 LTS) / x86_64  OK    OK    ERROR  
palomino3Windows Server 2022 Datacenter / x64  OK    OK    OK    OK  UNNEEDED, same version is already published
lconwaymacOS 12.7.1 Monterey / x86_64  OK    OK    OK    OK  UNNEEDED, same version is already published
kunpeng2Linux (openEuler 22.03 LTS-SP1) / aarch64  OK    OK    OK  
Package 170/551HostnameOS / ArchINSTALLBUILDCHECKBUILD BIN
fcScan 1.17.0  (landing page)
Pierre Khoueiry Abdullah El-Kurdi
git_last_commit: 55c627e
git_last_commit_date: 2023-10-24 11:15:44 -0400
nebbiolo1Linux (Ubuntu 22.04.3 LTS) / x86_64  OK    OK    OK  UNNEEDED, same version is already published
palomino3Windows Server 2022 Datacenter / x64  OK    OK    OK    OK  UNNEEDED, same version is already published
lconwaymacOS 12.7.1 Monterey / x86_64  OK    OK    OK    OK  UNNEEDED, same version is already published
kunpeng2Linux (openEuler 22.03 LTS-SP1) / aarch64  OK    OK    OK  
Package 171/551HostnameOS / ArchINSTALLBUILDCHECKBUILD BIN
FEAST 1.11.0  (landing page)
Kenong Su
git_last_commit: 9dfcb48
git_last_commit_date: 2023-10-24 11:32:31 -0400
nebbiolo1Linux (Ubuntu 22.04.3 LTS) / x86_64  OK    OK    OK  UNNEEDED, same version is already published
palomino3Windows Server 2022 Datacenter / x64  OK    OK    OK    OK  UNNEEDED, same version is already published
lconwaymacOS 12.7.1 Monterey / x86_64  OK    OK    OK    OK  UNNEEDED, same version is already published
kunpeng2Linux (openEuler 22.03 LTS-SP1) / aarch64  OK    OK    OK  
Package 172/551HostnameOS / ArchINSTALLBUILDCHECKBUILD BIN
FeatSeekR 1.3.0  (landing page)
Tuemay Capraz
git_last_commit: 2b06931
git_last_commit_date: 2023-10-24 11:48:46 -0400
nebbiolo1Linux (Ubuntu 22.04.3 LTS) / x86_64  OK    OK    OK  UNNEEDED, same version is already published
palomino3Windows Server 2022 Datacenter / x64  OK    OK    OK    OK  UNNEEDED, same version is already published
lconwaymacOS 12.7.1 Monterey / x86_64  OK    OK    OK    OK  UNNEEDED, same version is already published
kunpeng2Linux (openEuler 22.03 LTS-SP1) / aarch64  OK    OK    OK  
Package 173/551HostnameOS / ArchINSTALLBUILDCHECKBUILD BIN
FindIT2 1.9.1  (landing page)
Guandong Shang
git_last_commit: ad4f102
git_last_commit_date: 2024-02-27 03:41:20 -0400
nebbiolo1Linux (Ubuntu 22.04.3 LTS) / x86_64  OK    OK    OK  UNNEEDED, same version is already published
palomino3Windows Server 2022 Datacenter / x64  OK    OK    OK    OK  UNNEEDED, same version is already published
lconwaymacOS 12.7.1 Monterey / x86_64  OK    OK    OK    OK  UNNEEDED, same version is already published
kunpeng2Linux (openEuler 22.03 LTS-SP1) / aarch64  OK    OK    OK  
Package 174/551HostnameOS / ArchINSTALLBUILDCHECKBUILD BIN
fishpond 2.9.0  (landing page)
Michael Love
git_last_commit: f6dbc9b
git_last_commit_date: 2023-10-24 11:11:13 -0400
nebbiolo1Linux (Ubuntu 22.04.3 LTS) / x86_64  OK    OK