Back to Multiple platform build/check report for BioC 3.19:   simplified   long
ABCDEFGHIJKLMNOPQR[S]TUVWXYZ

This page was generated on 2024-05-22 11:34:27 -0400 (Wed, 22 May 2024).

HostnameOSArch (*)R versionInstalled pkgs
nebbiolo1Linux (Ubuntu 22.04.3 LTS)x86_644.4.0 (2024-04-24) -- "Puppy Cup" 4751
palomino3Windows Server 2022 Datacenterx644.4.0 (2024-04-24 ucrt) -- "Puppy Cup" 4485
lconwaymacOS 12.7.1 Montereyx86_644.4.0 (2024-04-24) -- "Puppy Cup" 3444
Click on any hostname to see more info about the system (e.g. compilers)      (*) as reported by 'uname -p', except on Windows and Mac OS X

All results for package SingleCellExperiment


To the developers/maintainers of the SingleCellExperiment package:
- Allow up to 24 hours (and sometimes 48 hours) for your latest push to git@git.bioconductor.org:packages/SingleCellExperiment.git to reflect on this report. See Troubleshooting Build Report for more information.
- Use the following Renviron settings to reproduce errors and warnings.
- If 'R CMD check' started to fail recently on the Linux builder(s) over a missing dependency, add the missing dependency to 'Suggests:' in your DESCRIPTION file. See Renviron.bioc for more information.

raw results

Package 1990/2300HostnameOS / ArchINSTALLBUILDCHECKBUILD BIN
SingleCellExperiment 1.26.0  (landing page)
Davide Risso
Snapshot Date: 2024-05-21 14:00:15 -0400 (Tue, 21 May 2024)
git_url: https://git.bioconductor.org/packages/SingleCellExperiment
git_branch: RELEASE_3_19
git_last_commit: 9dae229
git_last_commit_date: 2024-04-30 10:59:03 -0400 (Tue, 30 Apr 2024)
nebbiolo1Linux (Ubuntu 22.04.3 LTS) / x86_64  OK    OK    OK  UNNEEDED, same version is already published
palomino3Windows Server 2022 Datacenter / x64  OK    OK    OK    OK  UNNEEDED, same version is already published
lconwaymacOS 12.7.1 Monterey / x86_64  ERROR    ERROR  skippedskipped
kjohnson3macOS 13.6.5 Ventura / arm64see weekly results here

Results for Bioconductor software packages that depend directly on package SingleCellExperiment

QUICK STATSOS / ArchINSTALLBUILDCHECKBUILD BIN
nebbiolo1Linux (Ubuntu 22.04.3 LTS) / x86_64
01172
06167
0112154
palomino3Windows Server 2022 Datacenter / x64
01170
08163
0111151
00163
lconwaymacOS 12.7.1 Monterey / x86_64
01730
01730
0000
000
Package 1/173HostnameOS / ArchINSTALLBUILDCHECKBUILD BIN
ADImpute 1.14.0  (landing page)
Ana Carolina Leote
git_last_commit: 835de28
git_last_commit_date: 2024-04-30 11:28:51 -0400
nebbiolo1Linux (Ubuntu 22.04.3 LTS) / x86_64  OK    OK    WARNINGS  UNNEEDED, same version is already published
palomino3Windows Server 2022 Datacenter / x64  OK    OK    WARNINGS    OK  UNNEEDED, same version is already published
lconwaymacOS 12.7.1 Monterey / x86_64  ERROR    ERROR  skippedskipped
kjohnson3macOS 13.6.5 Ventura / arm64see weekly results here
Package 2/173HostnameOS / ArchINSTALLBUILDCHECKBUILD BIN
aggregateBioVar 1.14.0  (landing page)
Jason Ratcliff
git_last_commit: 53e2bd8
git_last_commit_date: 2024-04-30 11:27:33 -0400
nebbiolo1Linux (Ubuntu 22.04.3 LTS) / x86_64  OK    OK    OK  UNNEEDED, same version is already published
palomino3Windows Server 2022 Datacenter / x64  OK    OK    OK    OK  UNNEEDED, same version is already published
lconwaymacOS 12.7.1 Monterey / x86_64  ERROR    ERROR  skippedskipped
kjohnson3macOS 13.6.5 Ventura / arm64see weekly results here
Package 3/173HostnameOS / ArchINSTALLBUILDCHECKBUILD BIN
airpart 1.12.0  (landing page)
Wancen Mu
git_last_commit: 41e1b1b
git_last_commit_date: 2024-04-30 11:32:40 -0400
nebbiolo1Linux (Ubuntu 22.04.3 LTS) / x86_64  OK    OK    OK  UNNEEDED, same version is already published
palomino3Windows Server 2022 Datacenter / x64  OK    OK    OK    OK  UNNEEDED, same version is already published
lconwaymacOS 12.7.1 Monterey / x86_64  ERROR    ERROR  skippedskipped
kjohnson3macOS 13.6.5 Ventura / arm64see weekly results here
Package 4/173HostnameOS / ArchINSTALLBUILDCHECKBUILD BIN
alabaster.sce 1.4.0  (landing page)
Aaron Lun
git_last_commit: 5d6e1fa
git_last_commit_date: 2024-04-30 11:47:28 -0400
nebbiolo1Linux (Ubuntu 22.04.3 LTS) / x86_64  OK    OK    OK  UNNEEDED, same version is already published
palomino3Windows Server 2022 Datacenter / x64  OK    OK    OK    OK  UNNEEDED, same version is already published
lconwaymacOS 12.7.1 Monterey / x86_64  ERROR    ERROR  skippedskipped
kjohnson3macOS 13.6.5 Ventura / arm64see weekly results here
Package 5/173HostnameOS / ArchINSTALLBUILDCHECKBUILD BIN
ANCOMBC 2.6.0  (landing page)
Huang Lin
git_last_commit: 8fcfec8
git_last_commit_date: 2024-04-30 11:26:51 -0400
nebbiolo1Linux (Ubuntu 22.04.3 LTS) / x86_64  OK    OK    OK  UNNEEDED, same version is already published
palomino3Windows Server 2022 Datacenter / x64  OK    OK    OK    OK  UNNEEDED, same version is already published
lconwaymacOS 12.7.1 Monterey / x86_64  ERROR    ERROR  skippedskipped
kjohnson3macOS 13.6.5 Ventura / arm64see weekly results here
Package 6/173HostnameOS / ArchINSTALLBUILDCHECKBUILD BIN
APL 1.8.0  (landing page)
Clemens Kohl
git_last_commit: 243dbb8
git_last_commit_date: 2024-04-30 11:42:44 -0400
nebbiolo1Linux (Ubuntu 22.04.3 LTS) / x86_64  OK    OK    OK  UNNEEDED, same version is already published
palomino3Windows Server 2022 Datacenter / x64  OK    OK    OK    OK  UNNEEDED, same version is already published
lconwaymacOS 12.7.1 Monterey / x86_64  ERROR    ERROR  skippedskipped
kjohnson3macOS 13.6.5 Ventura / arm64see weekly results here
Package 7/173HostnameOS / ArchINSTALLBUILDCHECKBUILD BIN
ASURAT 1.8.0  (landing page)
Keita Iida
git_last_commit: a233c14
git_last_commit_date: 2024-04-30 11:41:17 -0400
nebbiolo1Linux (Ubuntu 22.04.3 LTS) / x86_64  OK    OK    OK  UNNEEDED, same version is already published
palomino3Windows Server 2022 Datacenter / x64  OK    OK    OK    OK  UNNEEDED, same version is already published
lconwaymacOS 12.7.1 Monterey / x86_64  ERROR    ERROR  skippedskipped
kjohnson3macOS 13.6.5 Ventura / arm64see weekly results here
Package 8/173HostnameOS / ArchINSTALLBUILDCHECKBUILD BIN
Banksy 1.0.0  (landing page)
Joseph Lee
git_last_commit: 938cbff
git_last_commit_date: 2024-04-30 11:53:33 -0400
nebbiolo1Linux (Ubuntu 22.04.3 LTS) / x86_64  OK    OK    OK  UNNEEDED, same version is already published
palomino3Windows Server 2022 Datacenter / x64  OK    OK    OK    OK  UNNEEDED, same version is already published
lconwaymacOS 12.7.1 Monterey / x86_64  ERROR    ERROR  skippedskipped
kjohnson3macOS 13.6.5 Ventura / arm64see weekly results here
Package 9/173HostnameOS / ArchINSTALLBUILDCHECKBUILD BIN
BASiCS 2.16.0  (landing page)
Catalina Vallejos
git_last_commit: e753c97
git_last_commit_date: 2024-04-30 11:01:01 -0400
nebbiolo1Linux (Ubuntu 22.04.3 LTS) / x86_64  OK    OK    OK  UNNEEDED, same version is already published
palomino3Windows Server 2022 Datacenter / x64  OK    OK    OK    OK  UNNEEDED, same version is already published
lconwaymacOS 12.7.1 Monterey / x86_64  ERROR    ERROR  skippedskipped
kjohnson3macOS 13.6.5 Ventura / arm64see weekly results here
Package 10/173HostnameOS / ArchINSTALLBUILDCHECKBUILD BIN
BASiCStan 1.6.0  (landing page)
Alan O'Callaghan
git_last_commit: 83ee6f9
git_last_commit_date: 2024-04-30 11:44:12 -0400
nebbiolo1Linux (Ubuntu 22.04.3 LTS) / x86_64  OK    OK    OK  UNNEEDED, same version is already published
palomino3Windows Server 2022 Datacenter / x64  OK    OK    OK    OK  UNNEEDED, same version is already published
lconwaymacOS 12.7.1 Monterey / x86_64  ERROR    ERROR  skippedskipped
kjohnson3macOS 13.6.5 Ventura / arm64see weekly results here
Package 11/173HostnameOS / ArchINSTALLBUILDCHECKBUILD BIN
batchelor 1.20.0  (landing page)
Aaron Lun
git_last_commit: d14eff8
git_last_commit_date: 2024-04-30 11:13:32 -0400
nebbiolo1Linux (Ubuntu 22.04.3 LTS) / x86_64  OK    OK    OK  UNNEEDED, same version is already published
palomino3Windows Server 2022 Datacenter / x64  OK    OK    OK    OK  UNNEEDED, same version is already published
lconwaymacOS 12.7.1 Monterey / x86_64  ERROR    ERROR  skippedskipped
kjohnson3macOS 13.6.5 Ventura / arm64see weekly results here
Package 12/173HostnameOS / ArchINSTALLBUILDCHECKBUILD BIN
BayesSpace 1.14.0  (landing page)
Matt Stone
git_last_commit: 0016140
git_last_commit_date: 2024-04-30 11:27:53 -0400
nebbiolo1Linux (Ubuntu 22.04.3 LTS) / x86_64  OK    OK    OK  UNNEEDED, same version is already published
palomino3Windows Server 2022 Datacenter / x64  OK    OK    OK    OK  UNNEEDED, same version is already published
lconwaymacOS 12.7.1 Monterey / x86_64  ERROR    ERROR  skippedskipped
kjohnson3macOS 13.6.5 Ventura / arm64see weekly results here
Package 13/173HostnameOS / ArchINSTALLBUILDCHECKBUILD BIN
bayNorm 1.22.0  (landing page)
Wenhao Tang
git_last_commit: fd9cbc8
git_last_commit_date: 2024-04-30 11:10:04 -0400
nebbiolo1Linux (Ubuntu 22.04.3 LTS) / x86_64  OK    OK    OK  UNNEEDED, same version is already published
palomino3Windows Server 2022 Datacenter / x64  OK    OK    OK    OK  UNNEEDED, same version is already published
lconwaymacOS 12.7.1 Monterey / x86_64  ERROR    ERROR  skippedskipped
kjohnson3macOS 13.6.5 Ventura / arm64see weekly results here
Package 14/173HostnameOS / ArchINSTALLBUILDCHECKBUILD BIN
BEARscc 1.24.0  (landing page)
Benjamin Schuster-Boeckler
git_last_commit: 44d2522
git_last_commit_date: 2024-04-30 11:03:44 -0400
nebbiolo1Linux (Ubuntu 22.04.3 LTS) / x86_64  OK    OK    OK  UNNEEDED, same version is already published
palomino3Windows Server 2022 Datacenter / x64  OK    OK    OK    OK  UNNEEDED, same version is already published
lconwaymacOS 12.7.1 Monterey / x86_64  ERROR    ERROR  skippedskipped
kjohnson3macOS 13.6.5 Ventura / arm64see weekly results here
Package 15/173HostnameOS / ArchINSTALLBUILDCHECKBUILD BIN
BUSseq 1.10.0  (landing page)
Fangda Song
git_last_commit: 33f9ce4
git_last_commit_date: 2024-04-30 11:35:27 -0400
nebbiolo1Linux (Ubuntu 22.04.3 LTS) / x86_64  OK    OK    OK  UNNEEDED, same version is already published
palomino3Windows Server 2022 Datacenter / x64  OK    OK    OK    OK  UNNEEDED, same version is already published
lconwaymacOS 12.7.1 Monterey / x86_64  ERROR    ERROR  skippedskipped
kjohnson3macOS 13.6.5 Ventura / arm64see weekly results here
Package 16/173HostnameOS / ArchINSTALLBUILDCHECKBUILD BIN
CATALYST 1.28.0  (landing page)
Helena L. Crowell
git_last_commit: 1c6f8e1
git_last_commit_date: 2024-04-30 10:57:37 -0400
nebbiolo1Linux (Ubuntu 22.04.3 LTS) / x86_64  OK    OK    OK  UNNEEDED, same version is already published
palomino3Windows Server 2022 Datacenter / x64  OK    OK    OK    OK  UNNEEDED, same version is already published
lconwaymacOS 12.7.1 Monterey / x86_64  ERROR    ERROR  skippedskipped
kjohnson3macOS 13.6.5 Ventura / arm64see weekly results here
Package 17/173HostnameOS / ArchINSTALLBUILDCHECKBUILD BIN
ccfindR 1.24.0  (landing page)
Jun Woo
git_last_commit: d148722
git_last_commit_date: 2024-04-30 11:06:15 -0400
nebbiolo1Linux (Ubuntu 22.04.3 LTS) / x86_64  OK    OK    OK  UNNEEDED, same version is already published
palomino3Windows Server 2022 Datacenter / x64  OK    OK    OK    OK  UNNEEDED, same version is already published
lconwaymacOS 12.7.1 Monterey / x86_64  ERROR    ERROR  skippedskipped
kjohnson3macOS 13.6.5 Ventura / arm64see weekly results here
Package 18/173HostnameOS / ArchINSTALLBUILDCHECKBUILD BIN
CDI 1.2.0  (landing page)
Jiyuan Fang
git_last_commit: d9c55be
git_last_commit_date: 2024-04-30 11:50:24 -0400
nebbiolo1Linux (Ubuntu 22.04.3 LTS) / x86_64  OK    OK    OK  UNNEEDED, same version is already published
palomino3Windows Server 2022 Datacenter / x64  OK    OK    OK    OK  UNNEEDED, same version is already published
lconwaymacOS 12.7.1 Monterey / x86_64  ERROR    ERROR  skippedskipped
kjohnson3macOS 13.6.5 Ventura / arm64see weekly results here
Package 19/173HostnameOS / ArchINSTALLBUILDCHECKBUILD BIN
celda 1.20.0  (landing page)
Joshua Campbell
git_last_commit: 7e5755c
git_last_commit_date: 2024-04-30 11:14:54 -0400
nebbiolo1Linux (Ubuntu 22.04.3 LTS) / x86_64  OK    OK    OK  UNNEEDED, same version is already published
palomino3Windows Server 2022 Datacenter / x64  OK    OK    OK    OK  UNNEEDED, same version is already published
lconwaymacOS 12.7.1 Monterey / x86_64  ERROR    ERROR  skippedskipped
kjohnson3macOS 13.6.5 Ventura / arm64see weekly results here
Package 20/173HostnameOS / ArchINSTALLBUILDCHECKBUILD BIN
CellBench 1.20.0  (landing page)
Shian Su
git_last_commit: 4713b56
git_last_commit_date: 2024-04-30 11:12:50 -0400
nebbiolo1Linux (Ubuntu 22.04.3 LTS) / x86_64  OK    OK    OK  UNNEEDED, same version is already published
palomino3Windows Server 2022 Datacenter / x64  OK    OK    OK    OK  UNNEEDED, same version is already published
lconwaymacOS 12.7.1 Monterey / x86_64  ERROR    ERROR  skippedskipped
kjohnson3macOS 13.6.5 Ventura / arm64see weekly results here
Package 21/173HostnameOS / ArchINSTALLBUILDCHECKBUILD BIN
CelliD 1.12.0  (landing page)
Akira Cortal
git_last_commit: 32cdf76
git_last_commit_date: 2024-04-30 11:32:13 -0400
nebbiolo1Linux (Ubuntu 22.04.3 LTS) / x86_64  OK    OK    WARNINGS  UNNEEDED, same version is already published
palomino3Windows Server 2022 Datacenter / x64  OK    OK    WARNINGS    OK  UNNEEDED, same version is already published
lconwaymacOS 12.7.1 Monterey / x86_64  ERROR    ERROR  skippedskipped
kjohnson3macOS 13.6.5 Ventura / arm64see weekly results here
Package 22/173HostnameOS / ArchINSTALLBUILDCHECKBUILD BIN
CellMixS 1.20.0  (landing page)
Almut Lütge
git_last_commit: 6f961ce
git_last_commit_date: 2024-04-30 11:13:44 -0400
nebbiolo1Linux (Ubuntu 22.04.3 LTS) / x86_64  OK    OK    OK  UNNEEDED, same version is already published
palomino3Windows Server 2022 Datacenter / x64  OK    OK    OK    OK  UNNEEDED, same version is already published
lconwaymacOS 12.7.1 Monterey / x86_64  ERROR    ERROR  skippedskipped
kjohnson3macOS 13.6.5 Ventura / arm64see weekly results here
Package 23/173HostnameOS / ArchINSTALLBUILDCHECKBUILD BIN
CellTrails 1.22.0  (landing page)
Daniel Ellwanger
git_last_commit: 0904a4a
git_last_commit_date: 2024-04-30 11:07:25 -0400
nebbiolo1Linux (Ubuntu 22.04.3 LTS) / x86_64  OK    OK    OK  UNNEEDED, same version is already published
palomino3Windows Server 2022 Datacenter / x64  OK    OK    OK    OK  UNNEEDED, same version is already published
lconwaymacOS 12.7.1 Monterey / x86_64  ERROR    ERROR  skippedskipped
kjohnson3macOS 13.6.5 Ventura / arm64see weekly results here
Package 24/173HostnameOS / ArchINSTALLBUILDCHECKBUILD BIN
Cepo 1.10.0  (landing page)
Hani Jieun Kim
git_last_commit: d41912a
git_last_commit_date: 2024-04-30 11:38:35 -0400
nebbiolo1Linux (Ubuntu 22.04.3 LTS) / x86_64  OK    ERROR  skipped
palomino3Windows Server 2022 Datacenter / x64  OK    ERROR  skippedskipped
lconwaymacOS 12.7.1 Monterey / x86_64  ERROR    ERROR  skippedskipped
kjohnson3macOS 13.6.5 Ventura / arm64see weekly results here
Package 25/173HostnameOS / ArchINSTALLBUILDCHECKBUILD BIN
CHETAH 1.20.0  (landing page)
Jurrian de Kanter
git_last_commit: 5606910
git_last_commit_date: 2024-04-30 11:43:40 -0400
nebbiolo1Linux (Ubuntu 22.04.3 LTS) / x86_64  OK    OK    OK  UNNEEDED, same version is already published
palomino3Windows Server 2022 Datacenter / x64  OK    OK    OK    OK  UNNEEDED, same version is already published
lconwaymacOS 12.7.1 Monterey / x86_64  ERROR    ERROR  skippedskipped
kjohnson3macOS 13.6.5 Ventura / arm64see weekly results here
Package 26/173HostnameOS / ArchINSTALLBUILDCHECKBUILD BIN
ChromSCape 1.14.0  (landing page)
Pacome Prompsy
git_last_commit: ecb3c51
git_last_commit_date: 2024-04-30 11:27:45 -0400
nebbiolo1Linux (Ubuntu 22.04.3 LTS) / x86_64  OK    OK    WARNINGS  UNNEEDED, same version is already published
palomino3Windows Server 2022 Datacenter / x64  OK    OK    WARNINGS    OK  UNNEEDED, same version is already published
lconwaymacOS 12.7.1 Monterey / x86_64  ERROR    ERROR  skippedskipped
kjohnson3macOS 13.6.5 Ventura / arm64see weekly results here
Package 27/173HostnameOS / ArchINSTALLBUILDCHECKBUILD BIN
CiteFuse 1.16.0  (landing page)
Yingxin Lin
git_last_commit: 4c3d04b
git_last_commit_date: 2024-04-30 11:23:01 -0400
nebbiolo1Linux (Ubuntu 22.04.3 LTS) / x86_64  OK    OK    OK  UNNEEDED, same version is already published
palomino3Windows Server 2022 Datacenter / x64  OK    OK    OK    OK  UNNEEDED, same version is already published
lconwaymacOS 12.7.1 Monterey / x86_64  ERROR    ERROR  skippedskipped
kjohnson3macOS 13.6.5 Ventura / arm64see weekly results here
Package 28/173HostnameOS / ArchINSTALLBUILDCHECKBUILD BIN
clusterExperiment 2.24.0  (landing page)
Elizabeth Purdom
git_last_commit: 7bc9ecb
git_last_commit_date: 2024-04-30 10:52:11 -0400
nebbiolo1Linux (Ubuntu 22.04.3 LTS) / x86_64  OK    OK    WARNINGS  UNNEEDED, same version is already published
palomino3Windows Server 2022 Datacenter / x64  OK    OK    WARNINGS    OK  UNNEEDED, same version is already published
lconwaymacOS 12.7.1 Monterey / x86_64  ERROR    ERROR  skippedskipped
kjohnson3macOS 13.6.5 Ventura / arm64see weekly results here
Package 29/173HostnameOS / ArchINSTALLBUILDCHECKBUILD BIN
ClusterFoldSimilarity 1.0.0  (landing page)
Oscar Gonzalez-Velasco
git_last_commit: 6b1131d
git_last_commit_date: 2024-04-30 11:53:03 -0400
nebbiolo1Linux (Ubuntu 22.04.3 LTS) / x86_64  OK    OK    OK  UNNEEDED, same version is already published
palomino3Windows Server 2022 Datacenter / x64  OK    OK    OK    OK  UNNEEDED, same version is already published
lconwaymacOS 12.7.1 Monterey / x86_64  ERROR    ERROR  skippedskipped
kjohnson3macOS 13.6.5 Ventura / arm64see weekly results here
Package 30/173HostnameOS / ArchINSTALLBUILDCHECKBUILD BIN
clustifyr 1.16.0  (landing page)
Kent Riemondy
git_last_commit: 6d3d12e
git_last_commit_date: 2024-04-30 11:20:53 -0400
nebbiolo1Linux (Ubuntu 22.04.3 LTS) / x86_64  OK    OK    OK  UNNEEDED, same version is already published
palomino3Windows Server 2022 Datacenter / x64  OK    OK    OK    OK  UNNEEDED, same version is already published
lconwaymacOS 12.7.1 Monterey / x86_64  ERROR    ERROR  skippedskipped
kjohnson3macOS 13.6.5 Ventura / arm64see weekly results here
Package 31/173HostnameOS / ArchINSTALLBUILDCHECKBUILD BIN
CoGAPS 3.24.0  (landing page)
Elana J. Fertig
git_last_commit: 5ecafd4
git_last_commit_date: 2024-04-30 10:22:20 -0400
nebbiolo1Linux (Ubuntu 22.04.3 LTS) / x86_64  OK    OK    OK  UNNEEDED, same version is already published
palomino3Windows Server 2022 Datacenter / x64  OK    OK    OK    OK  UNNEEDED, same version is already published
lconwaymacOS 12.7.1 Monterey / x86_64  ERROR    ERROR  skippedskipped
kjohnson3macOS 13.6.5 Ventura / arm64see weekly results here
Package 32/173HostnameOS / ArchINSTALLBUILDCHECKBUILD BIN
condiments 1.12.0  (landing page)
Hector Roux de Bezieux
git_last_commit: 9b27d5c
git_last_commit_date: 2024-04-30 11:32:42 -0400
nebbiolo1Linux (Ubuntu 22.04.3 LTS) / x86_64  OK    OK    OK  UNNEEDED, same version is already published
palomino3Windows Server 2022 Datacenter / x64  OK    OK    OK    OK  UNNEEDED, same version is already published
lconwaymacOS 12.7.1 Monterey / x86_64  ERROR    ERROR  skippedskipped
kjohnson3macOS 13.6.5 Ventura / arm64see weekly results here
Package 33/173HostnameOS / ArchINSTALLBUILDCHECKBUILD BIN
corral 1.14.0  (landing page)
Lauren Hsu
git_last_commit: e87c56e
git_last_commit_date: 2024-04-30 11:24:52 -0400
nebbiolo1Linux (Ubuntu 22.04.3 LTS) / x86_64  OK    OK    OK  UNNEEDED, same version is already published
palomino3Windows Server 2022 Datacenter / x64  OK    OK    OK    OK  UNNEEDED, same version is already published
lconwaymacOS 12.7.1 Monterey / x86_64  ERROR    ERROR  skippedskipped
kjohnson3macOS 13.6.5 Ventura / arm64see weekly results here
Package 34/173HostnameOS / ArchINSTALLBUILDCHECKBUILD BIN
CTexploreR 1.0.0  (landing page)
Axelle Loriot
git_last_commit: 7af29e4
git_last_commit_date: 2024-04-30 11:53:09 -0400
nebbiolo1Linux (Ubuntu 22.04.3 LTS) / x86_64  OK    OK    OK  UNNEEDED, same version is already published
palomino3Windows Server 2022 Datacenter / x64  OK    OK    OK    OK  UNNEEDED, same version is already published
lconwaymacOS 12.7.1 Monterey / x86_64  ERROR    ERROR  skippedskipped
kjohnson3macOS 13.6.5 Ventura / arm64see weekly results here
Package 35/173HostnameOS / ArchINSTALLBUILDCHECKBUILD BIN
CuratedAtlasQueryR 1.2.0  (landing page)
Stefano Mangiola
git_last_commit: 58f5d7f
git_last_commit_date: 2024-04-30 11:50:29 -0400
nebbiolo1Linux (Ubuntu 22.04.3 LTS) / x86_64  OK    OK    OK  UNNEEDED, same version is already published
palomino3Windows Server 2022 Datacenter / x64  OK    OK    OK    OK  UNNEEDED, same version is already published
lconwaymacOS 12.7.1 Monterey / x86_64  ERROR    ERROR  skippedskipped
kjohnson3macOS 13.6.5 Ventura / arm64see weekly results here
Package 36/173HostnameOS / ArchINSTALLBUILDCHECKBUILD BIN
cydar 1.28.0  (landing page)
Aaron Lun
git_last_commit: 90208dd
git_last_commit_date: 2024-04-30 10:57:04 -0400
nebbiolo1Linux (Ubuntu 22.04.3 LTS) / x86_64  OK    OK    OK  UNNEEDED, same version is already published
palomino3Windows Server 2022 Datacenter / x64  OK    OK    OK    OK  UNNEEDED, same version is already published
lconwaymacOS 12.7.1 Monterey / x86_64  ERROR    ERROR  skippedskipped
kjohnson3macOS 13.6.5 Ventura / arm64see weekly results here
Package 37/173HostnameOS / ArchINSTALLBUILDCHECKBUILD BIN
cytofQC 1.4.0  (landing page)
Jill Lundell
git_last_commit: 18c97ac
git_last_commit_date: 2024-04-30 11:48:04 -0400
nebbiolo1Linux (Ubuntu 22.04.3 LTS) / x86_64  OK    OK    OK  UNNEEDED, same version is already published
palomino3Windows Server 2022 Datacenter / x64  OK    OK    OK    OK  UNNEEDED, same version is already published
lconwaymacOS 12.7.1 Monterey / x86_64  ERROR    ERROR  skippedskipped
kjohnson3macOS 13.6.5 Ventura / arm64see weekly results here
Package 38/173HostnameOS / ArchINSTALLBUILDCHECKBUILD BIN
cytomapper 1.16.0  (landing page)
Lasse Meyer
git_last_commit: 5eb8951
git_last_commit_date: 2024-04-30 11:22:25 -0400
nebbiolo1Linux (Ubuntu 22.04.3 LTS) / x86_64  OK    OK    OK  UNNEEDED, same version is already published
palomino3Windows Server 2022 Datacenter / x64  OK    OK    OK    OK  UNNEEDED, same version is already published
lconwaymacOS 12.7.1 Monterey / x86_64  ERROR    ERROR  skippedskipped
kjohnson3macOS 13.6.5 Ventura / arm64see weekly results here
Package 39/173HostnameOS / ArchINSTALLBUILDCHECKBUILD BIN
cytoviewer 1.4.0  (landing page)
Lasse Meyer
git_last_commit: 8756af3
git_last_commit_date: 2024-04-30 11:48:21 -0400
nebbiolo1Linux (Ubuntu 22.04.3 LTS) / x86_64  OK    OK    OK  UNNEEDED, same version is already published
palomino3Windows Server 2022 Datacenter / x64  OK    OK    OK    OK  UNNEEDED, same version is already published
lconwaymacOS 12.7.1 Monterey / x86_64  ERROR    ERROR  skippedskipped
kjohnson3macOS 13.6.5 Ventura / arm64see weekly results here
Package 40/173HostnameOS / ArchINSTALLBUILDCHECKBUILD BIN
decontX 1.2.0  (landing page)
Yuan Yin
git_last_commit: c25cf57
git_last_commit_date: 2024-04-30 11:52:45 -0400
nebbiolo1Linux (Ubuntu 22.04.3 LTS) / x86_64  OK    OK    OK  UNNEEDED, same version is already published
palomino3Windows Server 2022 Datacenter / x64  OK    OK    OK    OK  UNNEEDED, same version is already published
lconwaymacOS 12.7.1 Monterey / x86_64  ERROR    ERROR  skippedskipped
kjohnson3macOS 13.6.5 Ventura / arm64see weekly results here
Package 41/173HostnameOS / ArchINSTALLBUILDCHECKBUILD BIN
demuxSNP 1.2.0  (landing page)
Michael Lynch
git_last_commit: 197fc63
git_last_commit_date: 2024-04-30 11:49:40 -0400
nebbiolo1Linux (Ubuntu 22.04.3 LTS) / x86_64  OK    OK    OK  UNNEEDED, same version is already published
palomino3Windows Server 2022 Datacenter / x64  OK    OK    OK    OK  UNNEEDED, same version is already published
lconwaymacOS 12.7.1 Monterey / x86_64  ERROR    ERROR  skippedskipped
kjohnson3macOS 13.6.5 Ventura / arm64see weekly results here
Package 42/173HostnameOS / ArchINSTALLBUILDCHECKBUILD BIN
destiny 3.18.0  (landing page)
Philipp Angerer
git_last_commit: 4cb2bd0
git_last_commit_date: 2024-04-30 11:40:02 -0400
nebbiolo1Linux (Ubuntu 22.04.3 LTS) / x86_64  OK    OK    OK  UNNEEDED, same version is already published
palomino3Windows Server 2022 Datacenter / x64  OK    OK    OK    OK  UNNEEDED, same version is already published
lconwaymacOS 12.7.1 Monterey / x86_64  ERROR    ERROR  skippedskipped
kjohnson3macOS 13.6.5 Ventura / arm64see weekly results here
Package 43/173HostnameOS / ArchINSTALLBUILDCHECKBUILD BIN
DifferentialRegulation 2.2.0  (landing page)
Simone Tiberi
git_last_commit: 832ee2d
git_last_commit_date: 2024-04-30 11:42:30 -0400
nebbiolo1Linux (Ubuntu 22.04.3 LTS) / x86_64  OK    OK    OK  UNNEEDED, same version is already published
palomino3Windows Server 2022 Datacenter / x64  OK    OK    OK    OK  UNNEEDED, same version is already published
lconwaymacOS 12.7.1 Monterey / x86_64  ERROR    ERROR  skippedskipped
kjohnson3macOS 13.6.5 Ventura / arm64see weekly results here
Package 44/173HostnameOS / ArchINSTALLBUILDCHECKBUILD BIN
Dino 1.10.0  (landing page)
Jared Brown
git_last_commit: 3a9fcfa
git_last_commit_date: 2024-04-30 11:35:46 -0400
nebbiolo1Linux (Ubuntu 22.04.3 LTS) / x86_64  OK    OK    OK  UNNEEDED, same version is already published
palomino3Windows Server 2022 Datacenter / x64  OK    OK    OK    OK  UNNEEDED, same version is already published
lconwaymacOS 12.7.1 Monterey / x86_64  ERROR    ERROR  skippedskipped
kjohnson3macOS 13.6.5 Ventura / arm64see weekly results here
Package 45/173HostnameOS / ArchINSTALLBUILDCHECKBUILD BIN
distinct 1.16.0  (landing page)
Simone Tiberi
git_last_commit: 08e8e0b
git_last_commit_date: 2024-04-30 11:22:44 -0400
nebbiolo1Linux (Ubuntu 22.04.3 LTS) / x86_64  OK    OK    OK  UNNEEDED, same version is already published
palomino3Windows Server 2022 Datacenter / x64  OK    OK    OK    OK  UNNEEDED, same version is already published
lconwaymacOS 12.7.1 Monterey / x86_64  ERROR    ERROR  skippedskipped
kjohnson3macOS 13.6.5 Ventura / arm64see weekly results here
Package 46/173HostnameOS / ArchINSTALLBUILDCHECKBUILD BIN
dittoSeq 1.16.0  (landing page)
Daniel Bunis
git_last_commit: 4eaffe3
git_last_commit_date: 2024-04-30 11:21:22 -0400
nebbiolo1Linux (Ubuntu 22.04.3 LTS) / x86_64  OK    OK    OK  UNNEEDED, same version is already published
palomino3Windows Server 2022 Datacenter / x64  OK    OK    OK    OK  UNNEEDED, same version is already published
lconwaymacOS 12.7.1 Monterey / x86_64  ERROR    ERROR  skippedskipped
kjohnson3macOS 13.6.5 Ventura / arm64see weekly results here
Package 47/173HostnameOS / ArchINSTALLBUILDCHECKBUILD BIN
dreamlet 1.2.0  (landing page)
Gabriel Hoffman
git_last_commit: c23624e
git_last_commit_date: 2024-04-30 11:51:18 -0400
nebbiolo1Linux (Ubuntu 22.04.3 LTS) / x86_64  OK    OK    OK  UNNEEDED, same version is already published
palomino3Windows Server 2022 Datacenter / x64  OK    OK    OK    OK  UNNEEDED, same version is already published
lconwaymacOS 12.7.1 Monterey / x86_64  ERROR    ERROR  skippedskipped
kjohnson3macOS 13.6.5 Ventura / arm64see weekly results here
Package 48/173HostnameOS / ArchINSTALLBUILDCHECKBUILD BIN
DropletUtils 1.24.0  (landing page)
Jonathan Griffiths
git_last_commit: b6ab9f0
git_last_commit_date: 2024-04-30 11:03:17 -0400
nebbiolo1Linux (Ubuntu 22.04.3 LTS) / x86_64  OK    OK    WARNINGS  UNNEEDED, same version is already published
palomino3Windows Server 2022 Datacenter / x64  OK    OK    OK    OK  UNNEEDED, same version is already published
lconwaymacOS 12.7.1 Monterey / x86_64  ERROR    ERROR  skippedskipped
kjohnson3macOS 13.6.5 Ventura / arm64see weekly results here
Package 49/173HostnameOS / ArchINSTALLBUILDCHECKBUILD BIN
epiregulon 1.0.0  (landing page)
Xiaosai Yao
git_last_commit: ebf147a
git_last_commit_date: 2024-04-30 11:56:35 -0400
nebbiolo1Linux (Ubuntu 22.04.3 LTS) / x86_64  OK    OK    OK  UNNEEDED, same version is already published
palomino3Windows Server 2022 Datacenter / x64  OK    OK    OK    OK  UNNEEDED, same version is already published
lconwaymacOS 12.7.1 Monterey / x86_64  ERROR    ERROR  skippedskipped
kjohnson3macOS 13.6.5 Ventura / arm64see weekly results here
Package 50/173HostnameOS / ArchINSTALLBUILDCHECKBUILD BIN
epiregulon.extra 1.0.0  (landing page)
Xiaosai Yao
git_last_commit: fbbe371
git_last_commit_date: 2024-04-30 11:56:37 -0400
nebbiolo1Linux (Ubuntu 22.04.3 LTS) / x86_64  OK    OK    OK  UNNEEDED, same version is already published
palomino3Windows Server 2022 Datacenter / x64  OK    OK    OK    OK  UNNEEDED, same version is already published
lconwaymacOS 12.7.1 Monterey / x86_64  ERROR    ERROR  skippedskipped
kjohnson3macOS 13.6.5 Ventura / arm64see weekly results here
Package 51/173HostnameOS / ArchINSTALLBUILDCHECKBUILD BIN
escape 2.0.0  (landing page)
Nick Borcherding
git_last_commit: d314a29
git_last_commit_date: 2024-04-30 11:25:33 -0400
nebbiolo1Linux (Ubuntu 22.04.3 LTS) / x86_64  OK    OK    OK  UNNEEDED, same version is already published
palomino3Windows Server 2022 Datacenter / x64  OK    OK    OK    OK  UNNEEDED, same version is already published
lconwaymacOS 12.7.1 Monterey / x86_64  ERROR    ERROR  skippedskipped
kjohnson3macOS 13.6.5 Ventura / arm64see weekly results here
Package 52/173HostnameOS / ArchINSTALLBUILDCHECKBUILD BIN
escheR 1.4.0  (landing page)
Boyi Guo
git_last_commit: 76cc4f9
git_last_commit_date: 2024-04-30 11:48:23 -0400
nebbiolo1Linux (Ubuntu 22.04.3 LTS) / x86_64  OK    OK    OK  UNNEEDED, same version is already published
palomino3Windows Server 2022 Datacenter / x64  OK    OK    OK    OK  UNNEEDED, same version is already published
lconwaymacOS 12.7.1 Monterey / x86_64  ERROR    ERROR  skippedskipped
kjohnson3macOS 13.6.5 Ventura / arm64see weekly results here
Package 53/173HostnameOS / ArchINSTALLBUILDCHECKBUILD BIN
EWCE 1.12.0  (landing page)
Alan Murphy
git_last_commit: d697d5e
git_last_commit_date: 2024-04-30 11:33:11 -0400
nebbiolo1Linux (Ubuntu 22.04.3 LTS) / x86_64  OK    OK    OK  UNNEEDED, same version is already published
palomino3Windows Server 2022 Datacenter / x64  OK    OK    OK    OK  UNNEEDED, same version is already published
lconwaymacOS 12.7.1 Monterey / x86_64  ERROR    ERROR  skippedskipped
kjohnson3macOS 13.6.5 Ventura / arm64see weekly results here
Package 54/173HostnameOS / ArchINSTALLBUILDCHECKBUILD BIN
ExperimentSubset 1.14.0  (landing page)
Irzam Sarfraz
git_last_commit: 1d4782f
git_last_commit_date: 2024-04-30 11:28:17 -0400
nebbiolo1Linux (Ubuntu 22.04.3 LTS) / x86_64  OK    OK    OK  UNNEEDED, same version is already published
palomino3Windows Server 2022 Datacenter / x64  OK    OK    OK    OK  UNNEEDED, same version is already published
lconwaymacOS 12.7.1 Monterey / x86_64  ERROR    ERROR  skippedskipped
kjohnson3macOS 13.6.5 Ventura / arm64see weekly results here
Package 55/173HostnameOS / ArchINSTALLBUILDCHECKBUILD BIN
FEAST 1.12.0  (landing page)
Kenong Su
git_last_commit: adbdda9
git_last_commit_date: 2024-04-30 11:33:40 -0400
nebbiolo1Linux (Ubuntu 22.04.3 LTS) / x86_64  OK    OK    OK  UNNEEDED, same version is already published
palomino3Windows Server 2022 Datacenter / x64  OK    OK    OK    OK  UNNEEDED, same version is already published
lconwaymacOS 12.7.1 Monterey / x86_64  ERROR    ERROR  skippedskipped
kjohnson3macOS 13.6.5 Ventura / arm64see weekly results here
Package 56/173HostnameOS / ArchINSTALLBUILDCHECKBUILD BIN
fishpond 2.10.0  (landing page)
Michael Love
git_last_commit: fbf9a95
git_last_commit_date: 2024-04-30 11:12:37 -0400
nebbiolo1Linux (Ubuntu 22.04.3 LTS) / x86_64  OK    OK    OK  UNNEEDED, same version is already published
palomino3Windows Server 2022 Datacenter / x64  OK    OK    OK    OK  UNNEEDED, same version is already published
lconwaymacOS 12.7.1 Monterey / x86_64  ERROR    ERROR  skippedskipped
kjohnson3macOS 13.6.5 Ventura / arm64see weekly results here
Package 57/173HostnameOS / ArchINSTALLBUILDCHECKBUILD BIN
FLAMES 1.10.0  (landing page)
Changqing Wang
git_last_commit: bd149f9
git_last_commit_date: 2024-04-30 11:35:54 -0400
nebbiolo1Linux (Ubuntu 22.04.3 LTS) / x86_64  OK    OK    OK  UNNEEDED, same version is already published
palomino3Windows Server 2022 Datacenter / x64... NOT SUPPORTED ...
lconwaymacOS 12.7.1 Monterey / x86_64  ERROR    ERROR  skippedskipped
kjohnson3macOS 13.6.5 Ventura / arm64see weekly results here
Package 58/173HostnameOS / ArchINSTALLBUILDCHECKBUILD BIN
ggsc 1.2.0  (landing page)
Guangchuang Yu
git_last_commit: fd0d672
git_last_commit_date: 2024-04-30 11:52:21 -0400
nebbiolo1Linux (Ubuntu 22.04.3 LTS) / x86_64  OK    OK    OK  UNNEEDED, same version is already published
palomino3Windows Server 2022 Datacenter / x64  OK    OK    OK    OK  UNNEEDED, same version is already published
lconwaymacOS 12.7.1 Monterey / x86_64  ERROR    ERROR  skippedskipped
kjohnson3macOS 13.6.5 Ventura / arm64see weekly results here
Package 59/173HostnameOS / ArchINSTALLBUILDCHECKBUILD BIN
ggspavis 1.10.0  (landing page)
Lukas M. Weber
git_last_commit: 34822a4
git_last_commit_date: 2024-04-30 11:36:40 -0400
nebbiolo1Linux (Ubuntu 22.04.3 LTS) / x86_64  OK    OK    OK  UNNEEDED, same version is already published
palomino3Windows Server 2022 Datacenter / x64  OK    OK    OK    OK  UNNEEDED, same version is already published
lconwaymacOS 12.7.1 Monterey / x86_64  ERROR    ERROR  skippedskipped
kjohnson3macOS 13.6.5 Ventura / arm64see weekly results here
Package 60/173HostnameOS / ArchINSTALLBUILDCHECKBUILD BIN
glmGamPoi 1.16.0  (landing page)
Constantin Ahlmann-Eltze
git_last_commit: 50d5e6f
git_last_commit_date: 2024-04-30 11:22:42 -0400
nebbiolo1Linux (Ubuntu 22.04.3 LTS) / x86_64  OK    OK    OK  UNNEEDED, same version is already published
palomino3Windows Server 2022 Datacenter / x64  OK    OK    OK    OK  UNNEEDED, same version is already published
lconwaymacOS 12.7.1 Monterey / x86_64  ERROR    ERROR  skippedskipped
kjohnson3macOS 13.6.5 Ventura / arm64see weekly results here
Package 61/173HostnameOS / ArchINSTALLBUILDCHECKBUILD BIN
GloScope 1.2.0  (landing page)
William Torous
git_last_commit: a6d8a5a
git_last_commit_date: 2024-04-30 11:51:32 -0400
nebbiolo1Linux (Ubuntu 22.04.3 LTS) / x86_64  OK    OK    OK  UNNEEDED, same version is already published
palomino3Windows Server 2022 Datacenter / x64  OK    OK    OK    OK  UNNEEDED, same version is already published
lconwaymacOS 12.7.1 Monterey / x86_64  ERROR    ERROR  skippedskipped
kjohnson3macOS 13.6.5 Ventura / arm64see weekly results here
Package 62/173HostnameOS / ArchINSTALLBUILDCHECKBUILD BIN
GSVA 1.52.2  (landing page)
Robert Castelo
git_last_commit: 4aa9aba
git_last_commit_date: 2024-05-09 09:50:05 -0400
nebbiolo1Linux (Ubuntu 22.04.3 LTS) / x86_64  OK    OK    OK  UNNEEDED, same version is already published
palomino3Windows Server 2022 Datacenter / x64  OK    OK    OK    OK  UNNEEDED, same version is already published
lconwaymacOS 12.7.1 Monterey / x86_64  ERROR    ERROR  skippedskipped
kjohnson3macOS 13.6.5 Ventura / arm64see weekly results here
Package 63/173HostnameOS / ArchINSTALLBUILDCHECKBUILD BIN
HIPPO 1.16.0  (landing page)
Tae Kim
git_last_commit: 1e26583
git_last_commit_date: 2024-04-30 11:22:22 -0400
nebbiolo1Linux (Ubuntu 22.04.3 LTS) / x86_64  OK    OK    OK  UNNEEDED, same version is already published
palomino3Windows Server 2022 Datacenter / x64  OK    OK    OK    OK  UNNEEDED, same version is already published
lconwaymacOS 12.7.1 Monterey / x86_64  ERROR    ERROR  skippedskipped
kjohnson3macOS 13.6.5 Ventura / arm64see weekly results here
Package 64/173HostnameOS / ArchINSTALLBUILDCHECKBUILD BIN
ILoReg 1.14.0  (landing page)
Johannes Smolander
git_last_commit: d4f761d
git_last_commit_date: 2024-04-30 11:25:38 -0400
nebbiolo1Linux (Ubuntu 22.04.3 LTS) / x86_64  OK    OK    WARNINGS  UNNEEDED, same version is already published
palomino3Windows Server 2022 Datacenter / x64  OK    OK    WARNINGS    OK  UNNEEDED, same version is already published
lconwaymacOS 12.7.1 Monterey / x86_64  ERROR    ERROR  skippedskipped
kjohnson3macOS 13.6.5 Ventura / arm64see weekly results here
Package 65/173HostnameOS / ArchINSTALLBUILDCHECKBUILD BIN
imcRtools 1.10.0  (landing page)
Daniel Schulz
git_last_commit: 39e011c
git_last_commit_date: 2024-04-30 11:37:34 -0400
nebbiolo1Linux (Ubuntu 22.04.3 LTS) / x86_64  OK    OK    OK  UNNEEDED, same version is already published
palomino3Windows Server 2022 Datacenter / x64  OK    OK    OK    OK  UNNEEDED, same version is already published
lconwaymacOS 12.7.1 Monterey / x86_64  ERROR    ERROR  skippedskipped
kjohnson3macOS 13.6.5 Ventura / arm64see weekly results here
Package 66/173HostnameOS / ArchINSTALLBUILDCHECKBUILD BIN
infercnv 1.20.0  (landing page)
Christophe Georgescu
git_last_commit: 441a7d9
git_last_commit_date: 2024-04-30 11:14:48 -0400
nebbiolo1Linux (Ubuntu 22.04.3 LTS) / x86_64  OK    OK    OK  UNNEEDED, same version is already published
palomino3Windows Server 2022 Datacenter / x64  OK    OK    OK    OK  UNNEEDED, same version is already published
lconwaymacOS 12.7.1 Monterey / x86_64  ERROR    ERROR  skippedskipped
kjohnson3macOS 13.6.5 Ventura / arm64see weekly results here
Package 67/173HostnameOS / ArchINSTALLBUILDCHECKBUILD BIN
IRISFGM 1.12.0  (landing page)
Yuzhou Chang
git_last_commit: 2cf5874
git_last_commit_date: 2024-04-30 11:31:21 -0400
nebbiolo1Linux (Ubuntu 22.04.3 LTS) / x86_64  OK    ERROR  skipped
palomino3Windows Server 2022 Datacenter / x64  OK    ERROR  skippedskipped
lconwaymacOS 12.7.1 Monterey / x86_64  ERROR    ERROR  skippedskipped
kjohnson3macOS 13.6.5 Ventura / arm64see weekly results here
Package 68/173HostnameOS / ArchINSTALLBUILDCHECKBUILD BIN
iSEE 2.16.0  (landing page)
Kevin Rue-Albrecht
git_last_commit: ef6667f
git_last_commit_date: 2024-04-30 11:04:45 -0400
nebbiolo1Linux (Ubuntu 22.04.3 LTS) / x86_64  OK    OK    OK  UNNEEDED, same version is already published
palomino3Windows Server 2022 Datacenter / x64  OK    OK    OK    OK  UNNEEDED, same version is already published
lconwaymacOS 12.7.1 Monterey / x86_64  ERROR    ERROR  skippedskipped
kjohnson3macOS 13.6.5 Ventura / arm64see weekly results here
Package 69/173HostnameOS / ArchINSTALLBUILDCHECKBUILD BIN
iSEEfier 1.0.0  (landing page)
Najla Abassi
git_last_commit: 7c224a2
git_last_commit_date: 2024-04-30 11:55:35 -0400
nebbiolo1Linux (Ubuntu 22.04.3 LTS) / x86_64  OK    OK    ERROR  
palomino3Windows Server 2022 Datacenter / x64  OK    OK    OK    OK  UNNEEDED, same version is already published
lconwaymacOS 12.7.1 Monterey / x86_64  ERROR    ERROR  skippedskipped
kjohnson3macOS 13.6.5 Ventura / arm64see weekly results here
Package 70/173HostnameOS / ArchINSTALLBUILDCHECKBUILD BIN
iSEEhub 1.6.0  (landing page)
Kevin Rue-Albrecht
git_last_commit: 2b7f055
git_last_commit_date: 2024-04-30 11:44:40 -0400
nebbiolo1Linux (Ubuntu 22.04.3 LTS) / x86_64  OK    OK    OK  UNNEEDED, same version is already published
palomino3Windows Server 2022 Datacenter / x64  OK    OK    OK    OK  UNNEEDED, same version is already published
lconwaymacOS 12.7.1 Monterey / x86_64  ERROR    ERROR  skippedskipped
kjohnson3macOS 13.6.5 Ventura / arm64see weekly results here
Package 71/173HostnameOS / ArchINSTALLBUILDCHECKBUILD BIN
iSEEindex 1.2.0  (landing page)
Kevin Rue-Albrecht
git_last_commit: 01d80fd
git_last_commit_date: 2024-04-30 11:50:13 -0400
nebbiolo1Linux (Ubuntu 22.04.3 LTS) / x86_64  OK    OK    OK  UNNEEDED, same version is already published
palomino3Windows Server 2022 Datacenter / x64  OK    OK    OK    OK  UNNEEDED, same version is already published
lconwaymacOS 12.7.1 Monterey / x86_64  ERROR    ERROR  skippedskipped
kjohnson3macOS 13.6.5 Ventura / arm64see weekly results here
Package 72/173HostnameOS / ArchINSTALLBUILDCHECKBUILD BIN
iSEEu 1.16.0  (landing page)
Kevin Rue-Albrecht
git_last_commit: 1b8994b
git_last_commit_date: 2024-04-30 11:22:58 -0400
nebbiolo1Linux (Ubuntu 22.04.3 LTS) / x86_64  OK    OK    WARNINGS  UNNEEDED, same version is already published
palomino3Windows Server 2022 Datacenter / x64  OK    OK    WARNINGS    OK  UNNEEDED, same version is already published
lconwaymacOS 12.7.1 Monterey / x86_64  ERROR    ERROR  skippedskipped
kjohnson3macOS 13.6.5 Ventura / arm64see weekly results here
Package 73/173HostnameOS / ArchINSTALLBUILDCHECKBUILD BIN
lemur 1.2.0  (landing page)
Constantin Ahlmann-Eltze
git_last_commit: 452a483
git_last_commit_date: 2024-04-30 11:52:37 -0400
nebbiolo1Linux (Ubuntu 22.04.3 LTS) / x86_64  OK    OK    OK  UNNEEDED, same version is already published
palomino3Windows Server 2022 Datacenter / x64  OK    OK    OK    OK  UNNEEDED, same version is already published
lconwaymacOS 12.7.1 Monterey / x86_64  ERROR    ERROR  skippedskipped
kjohnson3macOS 13.6.5 Ventura / arm64see weekly results here
Package 74/173HostnameOS / ArchINSTALLBUILDCHECKBUILD BIN
lisaClust 1.12.0  (landing page)
Ellis Patrick
git_last_commit: 580e374
git_last_commit_date: 2024-04-30 11:32:02 -0400
nebbiolo1Linux (Ubuntu 22.04.3 LTS) / x86_64  ERROR    ERROR  skipped
palomino3Windows Server 2022 Datacenter / x64  ERROR    ERROR  skippedskipped
lconwaymacOS 12.7.1 Monterey / x86_64  ERROR    ERROR  skippedskipped
kjohnson3macOS 13.6.5 Ventura / arm64see weekly results here
Package 75/173HostnameOS / ArchINSTALLBUILDCHECKBUILD BIN
LoomExperiment 1.22.0  (landing page)
Bioconductor Package Maintainer
git_last_commit: 332a3d3
git_last_commit_date: 2024-04-30 11:11:09 -0400
nebbiolo1Linux (Ubuntu 22.04.3 LTS) / x86_64  OK    OK    OK  UNNEEDED, same version is already published
palomino3Windows Server 2022 Datacenter / x64  OK    OK    OK    OK  UNNEEDED, same version is already published
lconwaymacOS 12.7.1 Monterey / x86_64  ERROR    ERROR  skippedskipped
kjohnson3macOS 13.6.5 Ventura / arm64see weekly results here
Package 76/173HostnameOS / ArchINSTALLBUILDCHECKBUILD BIN
lute 1.0.0  (landing page)
Sean K Maden
git_last_commit: 7a503f8
git_last_commit_date: 2024-04-30 11:52:55 -0400
nebbiolo1Linux (Ubuntu 22.04.3 LTS) / x86_64  OK    OK    OK  UNNEEDED, same version is already published
palomino3Windows Server 2022 Datacenter / x64  OK    OK    OK    OK  UNNEEDED, same version is already published
lconwaymacOS 12.7.1 Monterey / x86_64  ERROR    ERROR  skippedskipped
kjohnson3macOS 13.6.5 Ventura / arm64see weekly results here
Package 77/173HostnameOS / ArchINSTALLBUILDCHECKBUILD BIN
MAST 1.30.0  (landing page)
Andrew McDavid
git_last_commit: da42c5a
git_last_commit_date: 2024-04-30 10:54:15 -0400
nebbiolo1Linux (Ubuntu 22.04.3 LTS) / x86_64  OK    OK    WARNINGS  UNNEEDED, same version is already published
palomino3Windows Server 2022 Datacenter / x64  OK    OK    WARNINGS    OK  UNNEEDED, same version is already published
lconwaymacOS 12.7.1 Monterey / x86_64  ERROR    ERROR  skippedskipped
kjohnson3macOS 13.6.5 Ventura / arm64see weekly results here
Package 78/173HostnameOS / ArchINSTALLBUILDCHECKBUILD BIN
mastR 1.4.0  (landing page)
Jinjin Chen
git_last_commit: 453f7fa
git_last_commit_date: 2024-04-30 11:48:58 -0400
nebbiolo1Linux (Ubuntu 22.04.3 LTS) / x86_64  OK    OK    OK  UNNEEDED, same version is already published
palomino3Windows Server 2022 Datacenter / x64  OK    OK    OK    OK  UNNEEDED, same version is already published
lconwaymacOS 12.7.1 Monterey / x86_64  ERROR    ERROR  skippedskipped
kjohnson3macOS 13.6.5 Ventura / arm64see weekly results here
Package 79/173HostnameOS / ArchINSTALLBUILDCHECKBUILD BIN
mbkmeans 1.20.0  (landing page)
Davide Risso
git_last_commit: eed13ef
git_last_commit_date: 2024-04-30 11:13:46 -0400
nebbiolo1Linux (Ubuntu 22.04.3 LTS) / x86_64  OK    OK    OK  UNNEEDED, same version is already published
palomino3Windows Server 2022 Datacenter / x64  OK    OK    OK    OK  UNNEEDED, same version is already published
lconwaymacOS 12.7.1 Monterey / x86_64  ERROR    ERROR  skippedskipped
kjohnson3macOS 13.6.5 Ventura / arm64see weekly results here
Package 80/173HostnameOS / ArchINSTALLBUILDCHECKBUILD BIN
MEB 1.18.0  (landing page)
Jiadi Zhu
git_last_commit: 920079b
git_last_commit_date: 2024-04-30 11:17:45 -0400
nebbiolo1Linux (Ubuntu 22.04.3 LTS) / x86_64  OK    OK    OK  UNNEEDED, same version is already published
palomino3Windows Server 2022 Datacenter / x64  OK    OK    OK    OK  UNNEEDED, same version is already published
lconwaymacOS 12.7.1 Monterey / x86_64  ERROR    ERROR  skippedskipped
kjohnson3macOS 13.6.5 Ventura / arm64see weekly results here
Package 81/173HostnameOS / ArchINSTALLBUILDCHECKBUILD BIN
MetaNeighbor 1.24.0  (landing page)
Stephan Fischer
git_last_commit: ddb782c
git_last_commit_date: 2024-04-30 11:03:00 -0400
nebbiolo1Linux (Ubuntu 22.04.3 LTS) / x86_64  OK    OK    OK  UNNEEDED, same version is already published
palomino3Windows Server 2022 Datacenter / x64  OK    OK    OK    OK  UNNEEDED, same version is already published
lconwaymacOS 12.7.1 Monterey / x86_64  ERROR    ERROR  skippedskipped
kjohnson3macOS 13.6.5 Ventura / arm64see weekly results here
Package 82/173HostnameOS / ArchINSTALLBUILDCHECKBUILD BIN
mia 1.12.0  (landing page)
Tuomas Borman
git_last_commit: 38dad1b
git_last_commit_date: 2024-04-30 11:32:24 -0400
nebbiolo1Linux (Ubuntu 22.04.3 LTS) / x86_64  OK    OK    OK  UNNEEDED, same version is already published
palomino3Windows Server 2022 Datacenter / x64  OK    OK    OK    OK  UNNEEDED, same version is already published
lconwaymacOS 12.7.1 Monterey / x86_64  ERROR    ERROR  skippedskipped
kjohnson3macOS 13.6.5 Ventura / arm64see weekly results here
Package 83/173HostnameOS / ArchINSTALLBUILDCHECKBUILD BIN
miaViz 1.12.0  (landing page)
Tuomas Borman
git_last_commit: 945b0cc
git_last_commit_date: 2024-04-30 11:32:37 -0400
nebbiolo1Linux (Ubuntu 22.04.3 LTS) / x86_64  OK    OK    OK  UNNEEDED, same version is already published
palomino3Windows Server 2022 Datacenter / x64  OK    OK    OK    OK  UNNEEDED, same version is already published
lconwaymacOS 12.7.1 Monterey / x86_64  ERROR    ERROR  skippedskipped
kjohnson3macOS 13.6.5 Ventura / arm64see weekly results here
Package 84/173HostnameOS / ArchINSTALLBUILDCHECKBUILD BIN
miloR 2.0.0  (landing page)
Mike Morgan
git_last_commit: 97eb8a7
git_last_commit_date: 2024-04-30 11:34:02 -0400
nebbiolo1Linux (Ubuntu 22.04.3 LTS) / x86_64  OK    ERROR  skipped
palomino3Windows Server 2022 Datacenter / x64  OK    OK    OK    OK  UNNEEDED, same version is already published
lconwaymacOS 12.7.1 Monterey / x86_64  ERROR    ERROR  skippedskipped
kjohnson3macOS 13.6.5 Ventura / arm64see weekly results here
Package 85/173HostnameOS / ArchINSTALLBUILDCHECKBUILD BIN
miQC 1.12.0  (landing page)
Ariel Hippen
git_last_commit: 874ca37
git_last_commit_date: 2024-04-30 11:31:52 -0400
nebbiolo1Linux (Ubuntu 22.04.3 LTS) / x86_64  OK    OK    OK  UNNEEDED, same version is already published
palomino3Windows Server 2022 Datacenter / x64  OK    OK    OK    OK  UNNEEDED, same version is already published
lconwaymacOS 12.7.1 Monterey / x86_64  ERROR    ERROR  skippedskipped
kjohnson3macOS 13.6.5 Ventura / arm64see weekly results here
Package 86/173HostnameOS / ArchINSTALLBUILDCHECKBUILD BIN
MuData 1.8.0  (landing page)
Danila Bredikhin
git_last_commit: 1c442c2
git_last_commit_date: 2024-04-30 11:40:33 -0400
nebbiolo1Linux (Ubuntu 22.04.3 LTS) / x86_64  OK    OK    OK  UNNEEDED, same version is already published
palomino3Windows Server 2022 Datacenter / x64  OK    OK    OK    OK  UNNEEDED, same version is already published
lconwaymacOS 12.7.1 Monterey / x86_64  ERROR    ERROR  skippedskipped
kjohnson3macOS 13.6.5 Ventura / arm64see weekly results here
Package 87/173HostnameOS / ArchINSTALLBUILDCHECKBUILD BIN
mumosa 1.12.0  (landing page)
Aaron Lun
git_last_commit: bee34e6
git_last_commit_date: 2024-04-30 11:30:09 -0400
nebbiolo1Linux (Ubuntu 22.04.3 LTS) / x86_64  OK    OK    OK  UNNEEDED, same version is already published
palomino3Windows Server 2022 Datacenter / x64  OK    OK    OK    OK  UNNEEDED, same version is already published
lconwaymacOS 12.7.1 Monterey / x86_64  ERROR    ERROR  skippedskipped
kjohnson3macOS 13.6.5 Ventura / arm64see weekly results here
Package 88/173HostnameOS / ArchINSTALLBUILDCHECKBUILD BIN
muscat 1.18.0  (landing page)
Helena L. Crowell
git_last_commit: b9fcf7f
git_last_commit_date: 2024-04-30 11:16:47 -0400
nebbiolo1Linux (Ubuntu 22.04.3 LTS) / x86_64  OK    OK    OK  UNNEEDED, same version is already published
palomino3Windows Server 2022 Datacenter / x64  OK    OK    OK    OK  UNNEEDED, same version is already published
lconwaymacOS 12.7.1 Monterey / x86_64  ERROR    ERROR  skippedskipped
kjohnson3macOS 13.6.5 Ventura / arm64see weekly results here
Package 89/173HostnameOS / ArchINSTALLBUILDCHECKBUILD BIN
Nebulosa 1.14.0  (landing page)
Jose Alquicira-Hernandez
git_last_commit: 9d3aebf
git_last_commit_date: 2024-04-30 11:26:04 -0400
nebbiolo1Linux (Ubuntu 22.04.3 LTS) / x86_64  OK    OK    OK  UNNEEDED, same version is already published
palomino3Windows Server 2022 Datacenter / x64  OK    OK    OK    OK  UNNEEDED, same version is already published
lconwaymacOS 12.7.1 Monterey / x86_64  ERROR    ERROR  skippedskipped
kjohnson3macOS 13.6.5 Ventura / arm64see weekly results here
Package 90/173HostnameOS / ArchINSTALLBUILDCHECKBUILD BIN
netSmooth 1.24.0  (landing page)
Jonathan Ronen
git_last_commit: 6323412
git_last_commit_date: 2024-04-30 11:06:35 -0400
nebbiolo1Linux (Ubuntu 22.04.3 LTS) / x86_64  OK    OK    OK  UNNEEDED, same version is already published
palomino3Windows Server 2022 Datacenter / x64  OK    OK    OK    OK  UNNEEDED, same version is already published
lconwaymacOS 12.7.1 Monterey / x86_64  ERROR    ERROR  skippedskipped
kjohnson3macOS 13.6.5 Ventura / arm64see weekly results here
Package 91/173HostnameOS / ArchINSTALLBUILDCHECKBUILD BIN
NeuCA 1.10.0  (landing page)
Hao Feng
git_last_commit: 2c4f4c7
git_last_commit_date: 2024-04-30 11:35:52 -0400
nebbiolo1Linux (Ubuntu 22.04.3 LTS) / x86_64  OK    OK    OK  UNNEEDED, same version is already published
palomino3Windows Server 2022 Datacenter / x64  OK    OK    OK    OK  UNNEEDED, same version is already published
lconwaymacOS 12.7.1 Monterey / x86_64  ERROR    ERROR  skippedskipped
kjohnson3macOS 13.6.5 Ventura / arm64see weekly results here
Package 92/173HostnameOS / ArchINSTALLBUILDCHECKBUILD BIN
NewWave 1.14.0  (landing page)
Federico Agostinis
git_last_commit: 6e5903e
git_last_commit_date: 2024-04-30 11:29:21 -0400
nebbiolo1Linux (Ubuntu 22.04.3 LTS) / x86_64  OK    OK    OK  UNNEEDED, same version is already published
palomino3Windows Server 2022 Datacenter / x64  OK    OK    OK    OK  UNNEEDED, same version is already published
lconwaymacOS 12.7.1 Monterey / x86_64  ERROR    ERROR  skippedskipped
kjohnson3macOS 13.6.5 Ventura / arm64see weekly results here
Package 93/173HostnameOS / ArchINSTALLBUILDCHECKBUILD BIN
nnSVG 1.8.0  (landing page)
Lukas M. Weber
git_last_commit: ba201c7
git_last_commit_date: 2024-04-30 11:41:14 -0400
nebbiolo1Linux (Ubuntu 22.04.3 LTS) / x86_64  OK    OK    OK  UNNEEDED, same version is already published
palomino3Windows Server 2022 Datacenter / x64  OK    OK    OK    OK  UNNEEDED, same version is already published
lconwaymacOS 12.7.1 Monterey / x86_64  ERROR    ERROR  skippedskipped
kjohnson3macOS 13.6.5 Ventura / arm64see weekly results here
Package 94/173HostnameOS / ArchINSTALLBUILDCHECKBUILD BIN
partCNV 1.2.0  (landing page)
Ziyi Li
git_last_commit: fd57476
git_last_commit_date: 2024-04-30 11:49:46 -0400
nebbiolo1Linux (Ubuntu 22.04.3 LTS) / x86_64  OK    OK    OK  UNNEEDED, same version is already published
palomino3Windows Server 2022 Datacenter / x64  OK    OK    OK    OK  UNNEEDED, same version is already published
lconwaymacOS 12.7.1 Monterey / x86_64  ERROR    ERROR  skippedskipped
kjohnson3macOS 13.6.5 Ventura / arm64see weekly results here
Package 95/173HostnameOS / ArchINSTALLBUILDCHECKBUILD BIN
peco 1.16.0  (landing page)
Chiaowen Joyce Hsiao
git_last_commit: 9f5b8e3
git_last_commit_date: 2024-04-30 11:22:28 -0400
nebbiolo1Linux (Ubuntu 22.04.3 LTS) / x86_64  OK    OK    OK  UNNEEDED, same version is already published
palomino3Windows Server 2022 Datacenter / x64  OK    OK    OK    OK  UNNEEDED, same version is already published
lconwaymacOS 12.7.1 Monterey / x86_64  ERROR    ERROR  skippedskipped
kjohnson3macOS 13.6.5 Ventura / arm64see weekly results here
Package 96/173HostnameOS / ArchINSTALLBUILDCHECKBUILD BIN
phemd 1.20.0  (landing page)
William S Chen
git_last_commit: 69ceef8
git_last_commit_date: 2024-04-30 11:44:36 -0400
nebbiolo1Linux (Ubuntu 22.04.3 LTS) / x86_64  OK    ERROR  skipped
palomino3Windows Server 2022 Datacenter / x64  OK    ERROR  skippedskipped
lconwaymacOS 12.7.1 Monterey / x86_64  ERROR    ERROR  skippedskipped
kjohnson3macOS 13.6.5 Ventura / arm64see weekly results here
Package 97/173HostnameOS / ArchINSTALLBUILDCHECKBUILD BIN
pipeComp 1.14.0  (landing page)
Pierre-Luc Germain
git_last_commit: ca9f09f
git_last_commit_date: 2024-04-30 11:25:00 -0400
nebbiolo1Linux (Ubuntu 22.04.3 LTS) / x86_64  OK    OK    OK  UNNEEDED, same version is already published
palomino3Windows Server 2022 Datacenter / x64  OK    OK    OK    OK  UNNEEDED, same version is already published
lconwaymacOS 12.7.1 Monterey / x86_64  ERROR    ERROR  skippedskipped
kjohnson3macOS 13.6.5 Ventura / arm64see weekly results here
Package 98/173HostnameOS / ArchINSTALLBUILDCHECKBUILD BIN
POWSC 1.12.0  (landing page)
Kenong Su
git_last_commit: de45515
git_last_commit_date: 2024-04-30 11:34:18 -0400
nebbiolo1Linux (Ubuntu 22.04.3 LTS) / x86_64  OK    OK    OK  UNNEEDED, same version is already published
palomino3Windows Server 2022 Datacenter / x64  OK    OK    OK    OK  UNNEEDED, same version is already published
lconwaymacOS 12.7.1 Monterey / x86_64  ERROR    ERROR  skippedskipped
kjohnson3macOS 13.6.5 Ventura / arm64see weekly results here
Package 99/173HostnameOS / ArchINSTALLBUILDCHECKBUILD BIN
raer 1.2.0  (landing page)
Kent Riemondy
git_last_commit: c2ce20e
git_last_commit_date: 2024-04-30 11:52:24 -0400
nebbiolo1Linux (Ubuntu 22.04.3 LTS) / x86_64  OK    OK    OK  UNNEEDED, same version is already published
palomino3Windows Server 2022 Datacenter / x64  OK    OK    OK    OK  UNNEEDED, same version is already published
lconwaymacOS 12.7.1 Monterey / x86_64  ERROR    ERROR  skippedskipped
kjohnson3macOS 13.6.5 Ventura / arm64see weekly results here
Package 100/173HostnameOS / ArchINSTALLBUILDCHECKBUILD BIN
RCSL 1.12.0  (landing page)
Qinglin Mei
git_last_commit: 1a9e756
git_last_commit_date: 2024-04-30 11:35:11 -0400
nebbiolo1Linux (Ubuntu 22.04.3 LTS) / x86_64  OK    OK    OK  UNNEEDED, same version is already published
palomino3Windows Server 2022 Datacenter / x64  OK    OK    OK    OK  UNNEEDED, same version is already published
lconwaymacOS 12.7.1 Monterey / x86_64  ERROR    ERROR  skippedskipped
kjohnson3macOS 13.6.5 Ventura / arm64see weekly results here
Package 101/173HostnameOS / ArchINSTALLBUILDCHECKBUILD BIN
RegionalST 1.2.0  (landing page)
Ziyi Li
git_last_commit: 4a6fc9d
git_last_commit_date: 2024-04-30 11:50:45 -0400
nebbiolo1Linux (Ubuntu 22.04.3 LTS) / x86_64  OK    OK    OK  UNNEEDED, same version is already published
palomino3Windows Server 2022 Datacenter / x64  OK    OK    OK    OK  UNNEEDED, same version is already published
lconwaymacOS 12.7.1 Monterey / x86_64  ERROR    ERROR  skippedskipped
kjohnson3macOS 13.6.5 Ventura / arm64see weekly results here
Package 102/173HostnameOS / ArchINSTALLBUILDCHECKBUILD BIN
SC3 1.32.0  (landing page)
Vladimir Kiselev
git_last_commit: 2fb1166
git_last_commit_date: 2024-04-30 10:47:40 -0400
nebbiolo1Linux (Ubuntu 22.04.3 LTS) / x86_64  OK    OK    OK  UNNEEDED, same version is already published
palomino3Windows Server 2022 Datacenter / x64  OK    OK    OK    OK  UNNEEDED, same version is already published
lconwaymacOS 12.7.1 Monterey / x86_64  ERROR    ERROR  skippedskipped
kjohnson3macOS 13.6.5 Ventura / arm64see weekly results here
Package 103/173HostnameOS / ArchINSTALLBUILDCHECKBUILD BIN
scAnnotatR 1.10.0  (landing page)
Johannes Griss
git_last_commit: cc77d19
git_last_commit_date: 2024-04-30 11:36:58 -0400
nebbiolo1Linux (Ubuntu 22.04.3 LTS) / x86_64  OK    OK    WARNINGS  UNNEEDED, same version is already published
palomino3Windows Server 2022 Datacenter / x64  OK    OK    WARNINGS    OK  UNNEEDED, same version is already published
lconwaymacOS 12.7.1 Monterey / x86_64  ERROR    ERROR  skippedskipped
kjohnson3macOS 13.6.5 Ventura / arm64see weekly results here
Package 104/173HostnameOS / ArchINSTALLBUILDCHECKBUILD BIN
SCArray 1.12.0  (landing page)
Xiuwen Zheng
git_last_commit: c58ee8a
git_last_commit_date: 2024-04-30 11:30:24 -0400
nebbiolo1Linux (Ubuntu 22.04.3 LTS) / x86_64  OK    OK    OK  UNNEEDED, same version is already published
palomino3Windows Server 2022 Datacenter / x64  OK    OK    OK    OK  UNNEEDED, same version is already published
lconwaymacOS 12.7.1 Monterey / x86_64  ERROR    ERROR  skippedskipped
kjohnson3macOS 13.6.5 Ventura / arm64see weekly results here
Package 105/173HostnameOS / ArchINSTALLBUILDCHECKBUILD BIN
scater 1.32.0  (landing page)
Alan O'Callaghan
git_last_commit: 8256e28
git_last_commit_date: 2024-04-30 10:48:21 -0400
nebbiolo1Linux (Ubuntu 22.04.3 LTS) / x86_64  OK    OK    OK  UNNEEDED, same version is already published
palomino3Windows Server 2022 Datacenter / x64  OK    OK    OK    OK  UNNEEDED, same version is already published
lconwaymacOS 12.7.1 Monterey / x86_64  ERROR    ERROR  skippedskipped
kjohnson3macOS 13.6.5 Ventura / arm64see weekly results here
Package 106/173HostnameOS / ArchINSTALLBUILDCHECKBUILD BIN
scBFA 1.18.0  (landing page)
Ruoxin Li
git_last_commit: 44bc8e6
git_last_commit_date: 2024-04-30 11:16:14 -0400
nebbiolo1Linux (Ubuntu 22.04.3 LTS) / x86_64  OK    OK    OK  UNNEEDED, same version is already published
palomino3Windows Server 2022 Datacenter / x64  OK    OK    OK    OK  UNNEEDED, same version is already published
lconwaymacOS 12.7.1 Monterey / x86_64  ERROR    ERROR  skippedskipped
kjohnson3macOS 13.6.5 Ventura / arm64see weekly results here
Package 107/173HostnameOS / ArchINSTALLBUILDCHECKBUILD BIN
scCB2 1.14.0  (landing page)
Zijian Ni
git_last_commit: 805db9e
git_last_commit_date: 2024-04-30 11:25:13 -0400
nebbiolo1Linux (Ubuntu 22.04.3 LTS) / x86_64  OK    OK    OK  UNNEEDED, same version is already published
palomino3Windows Server 2022 Datacenter / x64  OK    ERROR  skippedskipped
lconwaymacOS 12.7.1 Monterey / x86_64  ERROR    ERROR  skippedskipped
kjohnson3macOS 13.6.5 Ventura / arm64see weekly results here
Package 108/173HostnameOS / ArchINSTALLBUILDCHECKBUILD BIN
sccomp 1.8.0  (landing page)
Stefano Mangiola
git_last_commit: dcbda58
git_last_commit_date: 2024-04-30 11:39:15 -0400
nebbiolo1Linux (Ubuntu 22.04.3 LTS) / x86_64  OK    OK    OK  UNNEEDED, same version is already published
palomino3Windows Server 2022 Datacenter / x64  OK    OK    OK    OK  UNNEEDED, same version is already published
lconwaymacOS 12.7.1 Monterey / x86_64  ERROR    ERROR  skippedskipped
kjohnson3macOS 13.6.5 Ventura / arm64see weekly results here
Package 109/173HostnameOS / ArchINSTALLBUILDCHECKBUILD BIN
scDataviz 1.14.0  (landing page)
Kevin Blighe
git_last_commit: 0659c61
git_last_commit_date: 2024-04-30 11:25:27 -0400
nebbiolo1Linux (Ubuntu 22.04.3 LTS) / x86_64  OK    OK    OK  UNNEEDED, same version is already published
palomino3Windows Server 2022 Datacenter / x64  OK    OK    OK    OK  UNNEEDED, same version is already published
lconwaymacOS 12.7.1 Monterey / x86_64  ERROR    ERROR  skippedskipped
kjohnson3macOS 13.6.5 Ventura / arm64see weekly results here
Package 110/173HostnameOS / ArchINSTALLBUILDCHECKBUILD BIN
scDblFinder 1.18.0  (landing page)
Pierre-Luc Germain
git_last_commit: 226a100
git_last_commit_date: 2024-04-30 11:18:45 -0400
nebbiolo1Linux (Ubuntu 22.04.3 LTS) / x86_64  OK    OK    OK  UNNEEDED, same version is already published
palomino3Windows Server 2022 Datacenter / x64  OK    OK    OK    OK  UNNEEDED, same version is already published
lconwaymacOS 12.7.1 Monterey / x86_64  ERROR    ERROR  skippedskipped
kjohnson3macOS 13.6.5 Ventura / arm64see weekly results here
Package 111/173HostnameOS / ArchINSTALLBUILDCHECKBUILD BIN
scDD 1.28.0  (landing page)
Keegan Korthauer
git_last_commit: e3269a6
git_last_commit_date: 2024-04-30 10:55:35 -0400
nebbiolo1Linux (Ubuntu 22.04.3 LTS) / x86_64  OK    OK    OK  UNNEEDED, same version is already published
palomino3Windows Server 2022 Datacenter / x64  OK    OK    OK    OK  UNNEEDED, same version is already published
lconwaymacOS 12.7.1 Monterey / x86_64  ERROR    ERROR  skippedskipped
kjohnson3macOS 13.6.5 Ventura / arm64see weekly results here
Package 112/173HostnameOS / ArchINSTALLBUILDCHECKBUILD BIN
scDDboost 1.6.0  (landing page)
Xiuyu Ma
git_last_commit: cc6a1ea
git_last_commit_date: 2024-04-30 11:42:59 -0400
nebbiolo1Linux (Ubuntu 22.04.3 LTS) / x86_64  OK    OK    OK  UNNEEDED, same version is already published
palomino3Windows Server 2022 Datacenter / x64  OK    OK    OK    OK  UNNEEDED, same version is already published
lconwaymacOS 12.7.1 Monterey / x86_64  ERROR    ERROR  skippedskipped
kjohnson3macOS 13.6.5 Ventura / arm64see weekly results here
Package 113/173HostnameOS / ArchINSTALLBUILDCHECKBUILD BIN
scDesign3 1.2.0  (landing page)
Dongyuan Song
git_last_commit: 7e54466
git_last_commit_date: 2024-04-30 11:52:48 -0400
nebbiolo1Linux (Ubuntu 22.04.3 LTS) / x86_64  OK    OK    OK  UNNEEDED, same version is already published
palomino3Windows Server 2022 Datacenter / x64  OK    OK    OK    OK  UNNEEDED, same version is already published
lconwaymacOS 12.7.1 Monterey / x86_64  ERROR    ERROR  skippedskipped
kjohnson3macOS 13.6.5 Ventura / arm64see weekly results here
Package 114/173HostnameOS / ArchINSTALLBUILDCHECKBUILD BIN
scds 1.20.0  (landing page)
Dennis Kostka
git_last_commit: 2694892
git_last_commit_date: 2024-04-30 11:12:45 -0400
nebbiolo1Linux (Ubuntu 22.04.3 LTS) / x86_64  OK    OK    OK  UNNEEDED, same version is already published
palomino3Windows Server 2022 Datacenter / x64  OK    OK    OK    OK  UNNEEDED, same version is already published
lconwaymacOS 12.7.1 Monterey / x86_64  ERROR    ERROR  skippedskipped
kjohnson3macOS 13.6.5 Ventura / arm64see weekly results here
Package 115/173HostnameOS / ArchINSTALLBUILDCHECKBUILD BIN
scGPS 1.18.0  (landing page)
Quan Nguyen
git_last_commit: 134d4c6
git_last_commit_date: 2024-04-30 11:16:01 -0400
nebbiolo1Linux (Ubuntu 22.04.3 LTS) / x86_64  OK    OK    OK  UNNEEDED, same version is already published
palomino3Windows Server 2022 Datacenter / x64  OK    OK    OK    OK  UNNEEDED, same version is already published
lconwaymacOS 12.7.1 Monterey / x86_64  ERROR    ERROR  skippedskipped
kjohnson3macOS 13.6.5 Ventura / arm64see weekly results here
Package 116/173HostnameOS / ArchINSTALLBUILDCHECKBUILD BIN
schex 1.18.0  (landing page)
Saskia Freytag
git_last_commit: 36b09d3
git_last_commit_date: 2024-04-30 11:18:31 -0400
nebbiolo1Linux (Ubuntu 22.04.3 LTS) / x86_64  OK    OK    OK  UNNEEDED, same version is already published
palomino3Windows Server 2022 Datacenter / x64  OK    OK    OK    OK  UNNEEDED, same version is already published
lconwaymacOS 12.7.1 Monterey / x86_64  ERROR    ERROR  skippedskipped
kjohnson3macOS 13.6.5 Ventura / arm64see weekly results here
Package 117/173HostnameOS / ArchINSTALLBUILDCHECKBUILD BIN
scHOT 1.16.0  (landing page)
Shila Ghazanfar
git_last_commit: 5e0fcbf
git_last_commit_date: 2024-04-30 11:22:50 -0400
nebbiolo1Linux (Ubuntu 22.04.3 LTS) / x86_64  OK    OK    OK  UNNEEDED, same version is already published
palomino3Windows Server 2022 Datacenter / x64  OK    OK    OK    OK  UNNEEDED, same version is already published
lconwaymacOS 12.7.1 Monterey / x86_64  ERROR    ERROR  skippedskipped
kjohnson3macOS 13.6.5 Ventura / arm64see weekly results here
Package 118/173HostnameOS / ArchINSTALLBUILDCHECKBUILD BIN
scmap 1.26.0  (landing page)
Vladimir Kiselev
git_last_commit: 5629783
git_last_commit_date: 2024-04-30 10:58:53 -0400
nebbiolo1Linux (Ubuntu 22.04.3 LTS) / x86_64  OK    OK    OK  UNNEEDED, same version is already published
palomino3Windows Server 2022 Datacenter / x64  OK    OK    OK    OK  UNNEEDED, same version is already published
lconwaymacOS 12.7.1 Monterey / x86_64  ERROR    ERROR  skippedskipped
kjohnson3macOS 13.6.5 Ventura / arm64see weekly results here
Package 119/173HostnameOS / ArchINSTALLBUILDCHECKBUILD BIN
scMerge 1.20.0  (landing page)
Yingxin Lin
git_last_commit: 0b5d058
git_last_commit_date: 2024-04-30 11:14:29 -0400
nebbiolo1Linux (Ubuntu 22.04.3 LTS) / x86_64  OK    OK    OK  UNNEEDED, same version is already published
palomino3Windows Server 2022 Datacenter / x64  OK    OK    OK    OK  UNNEEDED, same version is already published
lconwaymacOS 12.7.1 Monterey / x86_64  ERROR    ERROR  skippedskipped
kjohnson3macOS 13.6.5 Ventura / arm64see weekly results here
Package 120/173HostnameOS / ArchINSTALLBUILDCHECKBUILD BIN
scMET 1.6.0  (landing page)
Andreas C. Kapourani
git_last_commit: f3a4cd8
git_last_commit_date: 2024-04-30 11:43:50 -0400
nebbiolo1Linux (Ubuntu 22.04.3 LTS) / x86_64  OK    OK    OK  UNNEEDED, same version is already published
palomino3Windows Server 2022 Datacenter / x64  OK    OK    OK    OK  UNNEEDED, same version is already published
lconwaymacOS 12.7.1 Monterey / x86_64  ERROR    ERROR  skippedskipped
kjohnson3macOS 13.6.5 Ventura / arm64see weekly results here
Package 121/173HostnameOS / ArchINSTALLBUILDCHECKBUILD BIN
SCnorm 1.26.0  (landing page)
Rhonda Bacher
git_last_commit: 2dff202
git_last_commit_date: 2024-04-30 10:59:25 -0400
nebbiolo1Linux (Ubuntu 22.04.3 LTS) / x86_64  OK    OK    OK  UNNEEDED, same version is already published
palomino3Windows Server 2022 Datacenter / x64  OK    OK    OK    OK  UNNEEDED, same version is already published
lconwaymacOS 12.7.1 Monterey / x86_64  ERROR    ERROR  skippedskipped
kjohnson3macOS 13.6.5 Ventura / arm64see weekly results here
Package 122/173HostnameOS / ArchINSTALLBUILDCHECKBUILD BIN
scone 1.28.0  (landing page)
Davide Risso
git_last_commit: 298a397
git_last_commit_date: 2024-04-30 10:55:37 -0400
nebbiolo1Linux (Ubuntu 22.04.3 LTS) / x86_64  OK    OK    OK  UNNEEDED, same version is already published
palomino3Windows Server 2022 Datacenter / x64  OK    OK    OK    OK  UNNEEDED, same version is already published
lconwaymacOS 12.7.1 Monterey / x86_64  ERROR    ERROR  skippedskipped
kjohnson3macOS 13.6.5 Ventura / arm64see weekly results here
Package 123/173HostnameOS / ArchINSTALLBUILDCHECKBUILD BIN
scp 1.14.0  (landing page)
Christophe Vanderaa
git_last_commit: 15a429b
git_last_commit_date: 2024-04-30 11:28:01 -0400
nebbiolo1Linux (Ubuntu 22.04.3 LTS) / x86_64  OK    OK    OK  UNNEEDED, same version is already published
palomino3Windows Server 2022 Datacenter / x64  OK    OK    OK    OK  UNNEEDED, same version is already published
lconwaymacOS 12.7.1 Monterey / x86_64  ERROR    ERROR  skippedskipped
kjohnson3macOS 13.6.5 Ventura / arm64see weekly results here
Package 124/173HostnameOS / ArchINSTALLBUILDCHECKBUILD BIN
scPipe 2.4.0  (landing page)
Shian Su
git_last_commit: 1f02d19
git_last_commit_date: 2024-04-30 11:01:36 -0400
nebbiolo1Linux (Ubuntu 22.04.3 LTS) / x86_64  OK    OK    OK  UNNEEDED, same version is already published
palomino3Windows Server 2022 Datacenter / x64  OK    OK    OK    OK  UNNEEDED, same version is already published
lconwaymacOS 12.7.1 Monterey / x86_64  ERROR    ERROR  skippedskipped
kjohnson3macOS 13.6.5 Ventura / arm64see weekly results here
Package 125/173HostnameOS / ArchINSTALLBUILDCHECKBUILD BIN
scran 1.32.0  (landing page)
Aaron Lun
git_last_commit: 03deb61
git_last_commit_date: 2024-04-30 10:50:14 -0400
nebbiolo1Linux (Ubuntu 22.04.3 LTS) / x86_64  OK    OK    WARNINGS  UNNEEDED, same version is already published
palomino3Windows Server 2022 Datacenter / x64  OK    OK    WARNINGS    OK  UNNEEDED, same version is already published
lconwaymacOS 12.7.1 Monterey / x86_64  ERROR    ERROR  skippedskipped
kjohnson3macOS 13.6.5 Ventura / arm64see weekly results here
Package 126/173HostnameOS / ArchINSTALLBUILDCHECKBUILD BIN
scReClassify 1.10.0  (landing page)
Taiyun Kim
git_last_commit: 9e91689
git_last_commit_date: 2024-04-30 11:37:11 -0400
nebbiolo1Linux (Ubuntu 22.04.3 LTS) / x86_64  OK    OK    OK  UNNEEDED, same version is already published
palomino3Windows Server 2022 Datacenter / x64  OK    OK    OK    OK  UNNEEDED, same version is already published
lconwaymacOS 12.7.1 Monterey / x86_64  ERROR    ERROR  skippedskipped
kjohnson3macOS 13.6.5 Ventura / arm64see weekly results here
Package 127/173HostnameOS / ArchINSTALLBUILDCHECKBUILD BIN
scRepertoire 2.0.0  (landing page)
Nick Borcherding
git_last_commit: 52b5a50
git_last_commit_date: 2024-04-30 11:29:08 -0400
nebbiolo1Linux (Ubuntu 22.04.3 LTS) / x86_64  OK    OK    OK  UNNEEDED, same version is already published
palomino3Windows Server 2022 Datacenter / x64  OK    OK    OK    OK  UNNEEDED, same version is already published
lconwaymacOS 12.7.1 Monterey / x86_64  ERROR    ERROR  skippedskipped
kjohnson3macOS 13.6.5 Ventura / arm64see weekly results here
Package 128/173HostnameOS / ArchINSTALLBUILDCHECKBUILD BIN
scRNAseqApp 1.4.0  (landing page)
Jianhong Ou
git_last_commit: c90cf34
git_last_commit_date: 2024-04-30 11:46:47 -0400
nebbiolo1Linux (Ubuntu 22.04.3 LTS) / x86_64  OK    OK    OK  UNNEEDED, same version is already published
palomino3Windows Server 2022 Datacenter / x64  OK    OK    OK    OK  UNNEEDED, same version is already published
lconwaymacOS 12.7.1 Monterey / x86_64  ERROR    ERROR  skippedskipped
kjohnson3macOS 13.6.5 Ventura / arm64see weekly results here
Package 129/173HostnameOS / ArchINSTALLBUILDCHECKBUILD BIN
scruff 1.22.0  (landing page)
Zhe Wang
git_last_commit: 0c32919
git_last_commit_date: 2024-04-30 11:07:52 -0400
nebbiolo1Linux (Ubuntu 22.04.3 LTS) / x86_64  OK    OK    OK  UNNEEDED, same version is already published
palomino3Windows Server 2022 Datacenter / x64  OK    OK    OK    OK  UNNEEDED, same version is already published
lconwaymacOS 12.7.1 Monterey / x86_64  ERROR    ERROR  skippedskipped
kjohnson3macOS 13.6.5 Ventura / arm64see weekly results here
Package 130/173HostnameOS / ArchINSTALLBUILDCHECKBUILD BIN
scry 1.16.0  (landing page)
Kelly Street
git_last_commit: 122c4fb
git_last_commit_date: 2024-04-30 11:23:42 -0400
nebbiolo1Linux (Ubuntu 22.04.3 LTS) / x86_64  OK    OK    OK  UNNEEDED, same version is already published
palomino3Windows Server 2022 Datacenter / x64  OK    OK    OK    OK  UNNEEDED, same version is already published
lconwaymacOS 12.7.1 Monterey / x86_64  ERROR    ERROR  skippedskipped
kjohnson3macOS 13.6.5 Ventura / arm64see weekly results here
Package 131/173HostnameOS / ArchINSTALLBUILDCHECKBUILD BIN
scTensor 2.14.0  (landing page)
Koki Tsuyuzaki
git_last_commit: 5ee2a91
git_last_commit_date: 2024-04-30 11:11:18 -0400
nebbiolo1Linux (Ubuntu 22.04.3 LTS) / x86_64  OK    OK    WARNINGS  UNNEEDED, same version is already published
palomino3Windows Server 2022 Datacenter / x64  OK    OK    WARNINGS    OK  UNNEEDED, same version is already published
lconwaymacOS 12.7.1 Monterey / x86_64  ERROR    ERROR  skippedskipped
kjohnson3macOS 13.6.5 Ventura / arm64see weekly results here
Package 132/173HostnameOS / ArchINSTALLBUILDCHECKBUILD BIN
scTGIF 1.18.0  (landing page)
Koki Tsuyuzaki
git_last_commit: d06f176
git_last_commit_date: 2024-04-30 11:18:58 -0400
nebbiolo1Linux (Ubuntu 22.04.3 LTS) / x86_64  OK    OK    OK  UNNEEDED, same version is already published
palomino3Windows Server 2022 Datacenter / x64  OK    OK    OK    OK  UNNEEDED, same version is already published
lconwaymacOS 12.7.1 Monterey / x86_64  ERROR    ERROR  skippedskipped
kjohnson3macOS 13.6.5 Ventura / arm64see weekly results here
Package 133/173HostnameOS / ArchINSTALLBUILDCHECKBUILD BIN
scTreeViz 1.10.0  (landing page)
Jayaram Kancherla
git_last_commit: 2f5ac29
git_last_commit_date: 2024-04-30 11:37:42 -0400
nebbiolo1Linux (Ubuntu 22.04.3 LTS) / x86_64  OK    OK    OK  UNNEEDED, same version is already published
palomino3Windows Server 2022 Datacenter / x64  OK    OK    OK    OK  UNNEEDED, same version is already published
lconwaymacOS 12.7.1 Monterey / x86_64  ERROR    ERROR  skippedskipped
kjohnson3macOS 13.6.5 Ventura / arm64see weekly results here
Package 134/173HostnameOS / ArchINSTALLBUILDCHECKBUILD BIN
scuttle 1.14.0  (landing page)
Aaron Lun
git_last_commit: 7e2bcae
git_last_commit_date: 2024-04-30 11:24:27 -0400
nebbiolo1Linux (Ubuntu 22.04.3 LTS) / x86_64  OK    OK    OK  UNNEEDED, same version is already published
palomino3Windows Server 2022 Datacenter / x64  OK    OK    OK    OK  UNNEEDED, same version is already published
lconwaymacOS 12.7.1 Monterey / x86_64  ERROR    ERROR  skippedskipped
kjohnson3macOS 13.6.5 Ventura / arm64see weekly results here
Package 135/173HostnameOS / ArchINSTALLBUILDCHECKBUILD BIN
scviR 1.4.0  (landing page)
Vincent Carey
git_last_commit: c432439
git_last_commit_date: 2024-04-30 11:47:51 -0400
nebbiolo1Linux (Ubuntu 22.04.3 LTS) / x86_64  OK    OK    OK  UNNEEDED, same version is already published
palomino3Windows Server 2022 Datacenter / x64... NOT SUPPORTED ...
lconwaymacOS 12.7.1 Monterey / x86_64  ERROR    ERROR  skippedskipped
kjohnson3macOS 13.6.5 Ventura / arm64see weekly results here
Package 136/173HostnameOS / ArchINSTALLBUILDCHECKBUILD BIN
simPIC 1.0.0  (landing page)
Sagrika Chugh
git_last_commit: 51db9ff
git_last_commit_date: 2024-04-30 11:54:48 -0400
nebbiolo1Linux (Ubuntu 22.04.3 LTS) / x86_64  OK    OK    OK  UNNEEDED, same version is already published
palomino3Windows Server 2022 Datacenter / x64  OK    OK    OK    OK  UNNEEDED, same version is already published
lconwaymacOS 12.7.1 Monterey / x86_64  ERROR    ERROR  skippedskipped
kjohnson3macOS 13.6.5 Ventura / arm64see weekly results here
Package 137/173HostnameOS / ArchINSTALLBUILDCHECKBUILD BIN
SingleCellAlleleExperiment 1.0.0  (landing page)
Jonas Schuck
git_last_commit: 46535f8
git_last_commit_date: 2024-04-30 11:56:29 -0400
nebbiolo1Linux (Ubuntu 22.04.3 LTS) / x86_64  OK    OK    OK  UNNEEDED, same version is already published
palomino3Windows Server 2022 Datacenter / x64  OK    ERROR  skippedskipped
lconwaymacOS 12.7.1 Monterey / x86_64  ERROR    ERROR  skippedskipped
kjohnson3macOS 13.6.5 Ventura / arm64see weekly results here
Package 138/173HostnameOS / ArchINSTALLBUILDCHECKBUILD BIN
singleCellTK 2.14.0  (landing page)
Joshua David Campbell
git_last_commit: cd29b84
git_last_commit_date: 2024-04-30 11:06:02 -0400
nebbiolo1Linux (Ubuntu 22.04.3 LTS) / x86_64  OK    OK    OK  UNNEEDED, same version is already published
palomino3Windows Server 2022 Datacenter / x64  OK    OK    OK    OK  UNNEEDED, same version is already published
lconwaymacOS 12.7.1 Monterey / x86_64  ERROR    ERROR  skippedskipped
kjohnson3macOS 13.6.5 Ventura / arm64see weekly results here
Package 139/173HostnameOS / ArchINSTALLBUILDCHECKBUILD BIN
SiPSiC 1.4.0  (landing page)
Daniel Davis
git_last_commit: 092f808
git_last_commit_date: 2024-04-30 11:48:34 -0400
nebbiolo1Linux (Ubuntu 22.04.3 LTS) / x86_64  OK    OK    OK  UNNEEDED, same version is already published
palomino3Windows Server 2022 Datacenter / x64  OK    OK    OK    OK  UNNEEDED, same version is already published
lconwaymacOS 12.7.1 Monterey / x86_64  ERROR    ERROR  skippedskipped
kjohnson3macOS 13.6.5 Ventura / arm64see weekly results here
Package 140/173HostnameOS / ArchINSTALLBUILDCHECKBUILD BIN
slalom 1.26.0  (landing page)
Davis McCarthy
git_last_commit: 12039da
git_last_commit_date: 2024-04-30 11:01:27 -0400
nebbiolo1Linux (Ubuntu 22.04.3 LTS) / x86_64  OK    OK    OK  UNNEEDED, same version is already published
palomino3Windows Server 2022 Datacenter / x64  OK    OK    OK    OK  UNNEEDED, same version is already published
lconwaymacOS 12.7.1 Monterey / x86_64  ERROR    ERROR  skippedskipped
kjohnson3macOS 13.6.5 Ventura / arm64see weekly results here
Package 141/173HostnameOS / ArchINSTALLBUILDCHECKBUILD BIN
slingshot 2.12.0  (landing page)
Kelly Street
git_last_commit: 2e8da38
git_last_commit_date: 2024-04-30 11:07:02 -0400
nebbiolo1Linux (Ubuntu 22.04.3 LTS) / x86_64  OK    OK    OK  UNNEEDED, same version is already published
palomino3Windows Server 2022 Datacenter / x64  OK    OK    OK    OK  UNNEEDED, same version is already published
lconwaymacOS 12.7.1 Monterey / x86_64  ERROR    ERROR  skippedskipped
kjohnson3macOS 13.6.5 Ventura / arm64see weekly results here
Package 142/173HostnameOS / ArchINSTALLBUILDCHECKBUILD BIN
Spaniel 1.18.0  (landing page)
Rachel Queen
git_last_commit: d05a808
git_last_commit_date: 2024-04-30 11:17:35 -0400
nebbiolo1Linux (Ubuntu 22.04.3 LTS) / x86_64  OK    OK    OK  UNNEEDED, same version is already published
palomino3Windows Server 2022 Datacenter / x64  OK    OK    OK    OK  UNNEEDED, same version is already published
lconwaymacOS 12.7.1 Monterey / x86_64  ERROR    ERROR  skippedskipped
kjohnson3macOS 13.6.5 Ventura / arm64see weekly results here
Package 143/173HostnameOS / ArchINSTALLBUILDCHECKBUILD BIN
SpatialExperiment 1.14.0  (landing page)
Dario Righelli
git_last_commit: 24e181e
git_last_commit_date: 2024-04-30 11:25:35 -0400
nebbiolo1Linux (Ubuntu 22.04.3 LTS) / x86_64  OK    OK    OK  UNNEEDED, same version is already published
palomino3Windows Server 2022 Datacenter / x64  OK    OK    OK    OK  UNNEEDED, same version is already published
lconwaymacOS 12.7.1 Monterey / x86_64  ERROR    ERROR  skippedskipped
kjohnson3macOS 13.6.5 Ventura / arm64see weekly results here
Package 144/173HostnameOS / ArchINSTALLBUILDCHECKBUILD BIN
SpatialFeatureExperiment 1.6.1  (landing page)
Lambda Moses
git_last_commit: 116207a
git_last_commit_date: 2024-05-14 23:02:52 -0400
nebbiolo1Linux (Ubuntu 22.04.3 LTS) / x86_64  OK    OK    OK  UNNEEDED, same version is already published
palomino3Windows Server 2022 Datacenter / x64  OK    OK    ERROR    OK  
lconwaymacOS 12.7.1 Monterey / x86_64  ERROR    ERROR  skippedskipped
kjohnson3macOS 13.6.5 Ventura / arm64see weekly results here
Package 145/173HostnameOS / ArchINSTALLBUILDCHECKBUILD BIN
spatialHeatmap 2.10.0  (landing page)
Jianhai Zhang
git_last_commit: 59bbb65
git_last_commit_date: 2024-04-30 11:27:48 -0400
nebbiolo1Linux (Ubuntu 22.04.3 LTS) / x86_64  OK    OK    OK  UNNEEDED, same version is already published
palomino3Windows Server 2022 Datacenter / x64  OK    OK    OK    OK  UNNEEDED, same version is already published
lconwaymacOS 12.7.1 Monterey / x86_64  ERROR    ERROR  skippedskipped
kjohnson3macOS 13.6.5 Ventura / arm64see weekly results here
Package 146/173HostnameOS / ArchINSTALLBUILDCHECKBUILD BIN
speckle 1.4.0  (landing page)
Belinda Phipson
git_last_commit: b3b2933
git_last_commit_date: 2024-04-30 11:46:22 -0400
nebbiolo1Linux (Ubuntu 22.04.3 LTS) / x86_64  OK    OK    OK  UNNEEDED, same version is already published
palomino3Windows Server 2022 Datacenter / x64  OK    OK    OK    OK  UNNEEDED, same version is already published
lconwaymacOS 12.7.1 Monterey / x86_64  ERROR    ERROR  skippedskipped
kjohnson3macOS 13.6.5 Ventura / arm64see weekly results here
Package 147/173HostnameOS / ArchINSTALLBUILDCHECKBUILD BIN
spicyR 1.16.1  (landing page)
Ellis Patrick
git_last_commit: 64a2b90
git_last_commit_date: 2024-05-19 23:27:56 -0400
nebbiolo1Linux (Ubuntu 22.04.3 LTS) / x86_64  OK    OK    OK  UNNEEDED, same version is already published
palomino3Windows Server 2022 Datacenter / x64  OK    OK    OK    OK  UNNEEDED, same version is already published
lconwaymacOS 12.7.1 Monterey / x86_64  ERROR    ERROR  skippedskipped
kjohnson3macOS 13.6.5 Ventura / arm64see weekly results here
Package 148/173HostnameOS / ArchINSTALLBUILDCHECKBUILD BIN
splatter 1.28.0  (landing page)
Luke Zappia
git_last_commit: 5e5b43e
git_last_commit_date: 2024-04-30 10:56:03 -0400
nebbiolo1Linux (Ubuntu 22.04.3 LTS) / x86_64  OK    OK    OK  UNNEEDED, same version is already published
palomino3Windows Server 2022 Datacenter / x64  OK    OK    OK    OK  UNNEEDED, same version is already published
lconwaymacOS 12.7.1 Monterey / x86_64  ERROR    ERROR  skippedskipped
kjohnson3macOS 13.6.5 Ventura / arm64see weekly results here
Package 149/173HostnameOS / ArchINSTALLBUILDCHECKBUILD BIN
SPOTlight 1.8.0  (landing page)
Marc Elosua-Bayes
git_last_commit: 142bae8
git_last_commit_date: 2024-04-30 11:41:51 -0400
nebbiolo1Linux (Ubuntu 22.04.3 LTS) / x86_64  OK    OK    OK  UNNEEDED, same version is already published
palomino3Windows Server 2022 Datacenter / x64  OK    OK    OK    OK  UNNEEDED, same version is already published
lconwaymacOS 12.7.1 Monterey / x86_64  ERROR    ERROR  skippedskipped
kjohnson3macOS 13.6.5 Ventura / arm64see weekly results here
Package 150/173HostnameOS / ArchINSTALLBUILDCHECKBUILD BIN
SpotSweeper 1.0.0  (landing page)
Michael Totty
git_last_commit: 935948f
git_last_commit_date: 2024-04-30 11:56:16 -0400
nebbiolo1Linux (Ubuntu 22.04.3 LTS) / x86_64  OK    OK    OK  UNNEEDED, same version is already published
palomino3Windows Server 2022 Datacenter / x64  OK    OK    OK    OK  UNNEEDED, same version is already published
lconwaymacOS 12.7.1 Monterey / x86_64  ERROR    ERROR  skippedskipped
kjohnson3macOS 13.6.5 Ventura / arm64see weekly results here
Package 151/173HostnameOS / ArchINSTALLBUILDCHECKBUILD BIN
SPsimSeq 1.14.0  (landing page)
Joris Meys
git_last_commit: d820dc6
git_last_commit_date: 2024-04-30 11:24:41 -0400
nebbiolo1Linux (Ubuntu 22.04.3 LTS) / x86_64  OK    OK    OK  UNNEEDED, same version is already published
palomino3Windows Server 2022 Datacenter / x64  OK    OK    OK    OK  UNNEEDED, same version is already published
lconwaymacOS 12.7.1 Monterey / x86_64  ERROR    ERROR  skippedskipped
kjohnson3macOS 13.6.5 Ventura / arm64see weekly results here
Package 152/173HostnameOS / ArchINSTALLBUILDCHECKBUILD BIN
standR 1.8.0  (landing page)
Ning Liu
git_last_commit: 897a04b
git_last_commit_date: 2024-04-30 11:41:38 -0400
nebbiolo1Linux (Ubuntu 22.04.3 LTS) / x86_64  OK    OK    OK  UNNEEDED, same version is already published
palomino3Windows Server 2022 Datacenter / x64  OK    OK    OK    OK  UNNEEDED, same version is already published
lconwaymacOS 12.7.1 Monterey / x86_64  ERROR    ERROR  skippedskipped
kjohnson3macOS 13.6.5 Ventura / arm64see weekly results here
Package 153/173HostnameOS / ArchINSTALLBUILDCHECKBUILD BIN
Statial 1.6.0  (landing page)
Farhan Ameen
git_last_commit: ab82d2f
git_last_commit_date: 2024-04-30 11:46:00 -0400
nebbiolo1Linux (Ubuntu 22.04.3 LTS) / x86_64  OK    ERROR  skipped
palomino3Windows Server 2022 Datacenter / x64  OK    ERROR  skippedskipped
lconwaymacOS 12.7.1 Monterey / x86_64  ERROR    ERROR  skippedskipped
kjohnson3macOS 13.6.5 Ventura / arm64see weekly results here
Package 154/173HostnameOS / ArchINSTALLBUILDCHECKBUILD BIN
switchde 1.30.0  (landing page)
Kieran Campbell
git_last_commit: b293bbf
git_last_commit_date: 2024-04-30 10:52:57 -0400
nebbiolo1Linux (Ubuntu 22.04.3 LTS) / x86_64  OK    OK    OK  UNNEEDED, same version is already published
palomino3Windows Server 2022 Datacenter / x64  OK    OK    OK    OK  UNNEEDED, same version is already published
lconwaymacOS 12.7.1 Monterey / x86_64  ERROR    ERROR  skippedskipped
kjohnson3macOS 13.6.5 Ventura / arm64see weekly results here
Package 155/173HostnameOS / ArchINSTALLBUILDCHECKBUILD BIN
TENxIO 1.6.0  (landing page)
Marcel Ramos
git_last_commit: 2372980
git_last_commit_date: 2024-04-30 11:45:22 -0400
nebbiolo1Linux (Ubuntu 22.04.3 LTS) / x86_64  OK    OK    OK  UNNEEDED, same version is already published
palomino3Windows Server 2022 Datacenter / x64  OK    OK    OK    OK  UNNEEDED, same version is already published
lconwaymacOS 12.7.1 Monterey / x86_64  ERROR    ERROR  skippedskipped
kjohnson3macOS 13.6.5 Ventura / arm64see weekly results here
Package 156/173HostnameOS / ArchINSTALLBUILDCHECKBUILD BIN
tidySingleCellExperiment 1.14.0  (landing page)
Stefano Mangiola
git_last_commit: 610372f
git_last_commit_date: 2024-04-30 11:29:05 -0400
nebbiolo1Linux (Ubuntu 22.04.3 LTS) / x86_64  OK    OK    OK  UNNEEDED, same version is already published
palomino3Windows Server 2022 Datacenter / x64  OK    OK    OK    OK  UNNEEDED, same version is already published
lconwaymacOS 12.7.1 Monterey / x86_64  ERROR    ERROR  skippedskipped
kjohnson3macOS 13.6.5 Ventura / arm64see weekly results here
Package 157/173HostnameOS / ArchINSTALLBUILDCHECKBUILD BIN
tidySpatialExperiment 1.0.0  (landing page)
William Hutchison
git_last_commit: 20c10db
git_last_commit_date: 2024-04-30 11:53:47 -0400
nebbiolo1Linux (Ubuntu 22.04.3 LTS) / x86_64  OK    OK    OK  UNNEEDED, same version is already published
palomino3Windows Server 2022 Datacenter / x64  OK    OK    OK    OK  UNNEEDED, same version is already published
lconwaymacOS 12.7.1 Monterey / x86_64  ERROR    ERROR  skippedskipped
kjohnson3macOS 13.6.5 Ventura / arm64see weekly results here
Package 158/173HostnameOS / ArchINSTALLBUILDCHECKBUILD BIN
tpSVG 1.0.0  (landing page)
Boyi Guo
git_last_commit: 59acc73
git_last_commit_date: 2024-04-30 11:54:40 -0400
nebbiolo1Linux (Ubuntu 22.04.3 LTS) / x86_64  OK    OK    OK  UNNEEDED, same version is already published
palomino3Windows Server 2022 Datacenter / x64  OK    OK    OK    OK  UNNEEDED, same version is already published
lconwaymacOS 12.7.1 Monterey / x86_64  ERROR    ERROR  skippedskipped
kjohnson3macOS 13.6.5 Ventura / arm64see weekly results here
Package 159/173HostnameOS / ArchINSTALLBUILDCHECKBUILD BIN
tradeSeq 1.18.0  (landing page)
Hector Roux de Bezieux
git_last_commit: 41b77d8
git_last_commit_date: 2024-04-30 11:19:07 -0400
nebbiolo1Linux (Ubuntu 22.04.3 LTS) / x86_64  OK    OK    OK  UNNEEDED, same version is already published
palomino3Windows Server 2022 Datacenter / x64  OK    OK    OK    OK  UNNEEDED, same version is already published
lconwaymacOS 12.7.1 Monterey / x86_64  ERROR    ERROR  skippedskipped
kjohnson3macOS 13.6.5 Ventura / arm64see weekly results here
Package 160/173HostnameOS / ArchINSTALLBUILDCHECKBUILD BIN
TrajectoryUtils 1.12.0  (landing page)
Aaron Lun
git_last_commit: 25a9ce1
git_last_commit_date: 2024-04-30 11:30:56 -0400
nebbiolo1Linux (Ubuntu 22.04.3 LTS) / x86_64  OK    OK    OK  UNNEEDED, same version is already published
palomino3Windows Server 2022 Datacenter / x64  OK    OK    OK    OK  UNNEEDED, same version is already published
lconwaymacOS 12.7.1 Monterey / x86_64  ERROR    ERROR  skippedskipped
kjohnson3macOS 13.6.5 Ventura / arm64see weekly results here
Package 161/173HostnameOS / ArchINSTALLBUILDCHECKBUILD BIN
traviz 1.10.0  (landing page)
Koen Van den Berge
git_last_commit: febaec3
git_last_commit_date: 2024-04-30 11:36:34 -0400
nebbiolo1Linux (Ubuntu 22.04.3 LTS) / x86_64  OK    OK    OK  UNNEEDED, same version is already published
palomino3Windows Server 2022 Datacenter / x64  OK    OK    OK    OK  UNNEEDED, same version is already published
lconwaymacOS 12.7.1 Monterey / x86_64  ERROR    ERROR  skippedskipped
kjohnson3macOS 13.6.5 Ventura / arm64see weekly results here
Package 162/173HostnameOS / ArchINSTALLBUILDCHECKBUILD BIN
treekoR 1.12.0  (landing page)
Adam Chan
git_last_commit: 7408f62
git_last_commit_date: 2024-04-30 11:33:24 -0400
nebbiolo1Linux (Ubuntu 22.04.3 LTS) / x86_64  OK    OK    OK  UNNEEDED, same version is already published
palomino3Windows Server 2022 Datacenter / x64  OK    OK    OK    OK  UNNEEDED, same version is already published
lconwaymacOS 12.7.1 Monterey / x86_64  ERROR    ERROR  skippedskipped
kjohnson3macOS 13.6.5 Ventura / arm64see weekly results here
Package 163/173HostnameOS / ArchINSTALLBUILDCHECKBUILD BIN
TreeSummarizedExperiment 2.12.0  (landing page)
Ruizhu Huang
git_last_commit: f701923
git_last_commit_date: 2024-04-30 11:15:10 -0400
nebbiolo1Linux (Ubuntu 22.04.3 LTS) / x86_64  OK    OK    OK  UNNEEDED, same version is already published
palomino3Windows Server 2022 Datacenter / x64  OK    OK    OK    OK  UNNEEDED, same version is already published
lconwaymacOS 12.7.1 Monterey / x86_64  ERROR    ERROR  skippedskipped
kjohnson3macOS 13.6.5 Ventura / arm64see weekly results here
Package 164/173HostnameOS / ArchINSTALLBUILDCHECKBUILD BIN
tricycle 1.12.0  (landing page)
Shijie Zheng
git_last_commit: b8b8f3b
git_last_commit_date: 2024-04-30 11:33:19 -0400
nebbiolo1Linux (Ubuntu 22.04.3 LTS) / x86_64  OK    OK    OK  UNNEEDED, same version is already published
palomino3Windows Server 2022 Datacenter / x64  OK    OK    OK    OK  UNNEEDED, same version is already published
lconwaymacOS 12.7.1 Monterey / x86_64  ERROR    ERROR  skippedskipped
kjohnson3macOS 13.6.5 Ventura / arm64see weekly results here
Package 165/173HostnameOS / ArchINSTALLBUILDCHECKBUILD BIN
TSCAN 1.42.0  (landing page)
Zhicheng Ji
git_last_commit: 14c47f5
git_last_commit_date: 2024-04-30 10:38:44 -0400
nebbiolo1Linux (Ubuntu 22.04.3 LTS) / x86_64  OK    OK    WARNINGS  UNNEEDED, same version is already published
palomino3Windows Server 2022 Datacenter / x64  OK    OK    WARNINGS    OK  UNNEEDED, same version is already published
lconwaymacOS 12.7.1 Monterey / x86_64  ERROR    ERROR  skippedskipped
kjohnson3macOS 13.6.5 Ventura / arm64see weekly results here
Package 166/173HostnameOS / ArchINSTALLBUILDCHECKBUILD BIN
UCell 2.8.0  (landing page)
Massimo Andreatta
git_last_commit: 36118e6
git_last_commit_date: 2024-04-30 11:40:43 -0400
nebbiolo1Linux (Ubuntu 22.04.3 LTS) / x86_64  OK    OK    OK  UNNEEDED, same version is already published
palomino3Windows Server 2022 Datacenter / x64  OK    OK    OK    OK  UNNEEDED, same version is already published
lconwaymacOS 12.7.1 Monterey / x86_64  ERROR    ERROR  skippedskipped
kjohnson3macOS 13.6.5 Ventura / arm64see weekly results here
Package 167/173HostnameOS / ArchINSTALLBUILDCHECKBUILD BIN
VAExprs 1.10.0  (landing page)
Dongmin Jung
git_last_commit: e637622
git_last_commit_date: 2024-04-30 11:36:10 -0400
nebbiolo1Linux (Ubuntu 22.04.3 LTS) / x86_64  OK    OK    OK  UNNEEDED, same version is already published
palomino3Windows Server 2022 Datacenter / x64  OK    OK    OK    OK  UNNEEDED, same version is already published
lconwaymacOS 12.7.1 Monterey / x86_64  ERROR    ERROR  skippedskipped
kjohnson3macOS 13.6.5 Ventura / arm64see weekly results here
Package 168/173HostnameOS / ArchINSTALLBUILDCHECKBUILD BIN
VDJdive 1.6.0  (landing page)
Kelly Street
git_last_commit: 61940e4
git_last_commit_date: 2024-04-30 11:44:23 -0400
nebbiolo1Linux (Ubuntu 22.04.3 LTS) / x86_64  OK    OK    OK  UNNEEDED, same version is already published
palomino3Windows Server 2022 Datacenter / x64  OK    OK    OK    OK  UNNEEDED, same version is already published
lconwaymacOS 12.7.1 Monterey / x86_64  ERROR    ERROR  skippedskipped
kjohnson3macOS 13.6.5 Ventura / arm64see weekly results here
Package 169/173HostnameOS / ArchINSTALLBUILDCHECKBUILD BIN
velociraptor 1.14.0  (landing page)
Kevin Rue-Albrecht
git_last_commit: aa6cc78
git_last_commit_date: 2024-04-30 11:27:28 -0400
nebbiolo1Linux (Ubuntu 22.04.3 LTS) / x86_64  OK    OK    OK  UNNEEDED, same version is already published
palomino3Windows Server 2022 Datacenter / x64  OK    OK    OK    OK  UNNEEDED, same version is already published
lconwaymacOS 12.7.1 Monterey / x86_64  ERROR    ERROR  skippedskipped
kjohnson3macOS 13.6.5 Ventura / arm64see weekly results here
Package 170/173HostnameOS / ArchINSTALLBUILDCHECKBUILD BIN
Voyager 1.6.0  (landing page)
Lambda Moses
git_last_commit: 230f4ab
git_last_commit_date: 2024-04-30 11:45:12 -0400
nebbiolo1Linux (Ubuntu 22.04.3 LTS) / x86_64  OK    OK    OK  UNNEEDED, same version is already published
palomino3Windows Server 2022 Datacenter / x64  OK    OK    OK    OK  UNNEEDED, same version is already published
lconwaymacOS 12.7.1 Monterey / x86_64  ERROR    ERROR  skippedskipped
kjohnson3macOS 13.6.5 Ventura / arm64see weekly results here
Package 171/173HostnameOS / ArchINSTALLBUILDCHECKBUILD BIN
waddR 1.18.0  (landing page)
Julian Flesch
git_last_commit: 08c5d0f
git_last_commit_date: 2024-04-30 11:18:25 -0400
nebbiolo1Linux (Ubuntu 22.04.3 LTS) / x86_64  OK    OK    OK  UNNEEDED, same version is already published
palomino3Windows Server 2022 Datacenter / x64  OK    ERROR  skippedskipped
lconwaymacOS 12.7.1 Monterey / x86_64  ERROR    ERROR  skippedskipped
kjohnson3macOS 13.6.5 Ventura / arm64see weekly results here
Package 172/173HostnameOS / ArchINSTALLBUILDCHECKBUILD BIN
zellkonverter 1.14.0  (landing page)
Luke Zappia
git_last_commit: 9254458
git_last_commit_date: 2024-04-30 11:26:15 -0400
nebbiolo1Linux (Ubuntu 22.04.3 LTS) / x86_64  OK    OK    OK  UNNEEDED, same version is already published
palomino3Windows Server 2022 Datacenter / x64  OK    OK    OK    OK  UNNEEDED, same version is already published
lconwaymacOS 12.7.1 Monterey / x86_64  ERROR    ERROR  skippedskipped
kjohnson3macOS 13.6.5 Ventura / arm64see weekly results here
Package 173/173HostnameOS / ArchINSTALLBUILDCHECKBUILD BIN
zinbwave 1.26.0  (landing page)
Davide Risso
git_last_commit: 59373ed
git_last_commit_date: 2024-04-30 10:58:36 -0400
nebbiolo1Linux (Ubuntu 22.04.3 LTS) / x86_64  OK    OK    OK  UNNEEDED, same version is already published
palomino3Windows Server 2022 Datacenter / x64  OK    OK    OK    OK  UNNEEDED, same version is already published
lconwaymacOS 12.7.1 Monterey / x86_64  ERROR    ERROR  skippedskipped
kjohnson3macOS 13.6.5 Ventura / arm64see weekly results here