Back to Multiple platform build/check report for BioC 3.19:   simplified   long
ABCDEFGHIJKLMNOPQR[S]TUVWXYZ

This page was generated on 2024-07-19 17:38 -0400 (Fri, 19 Jul 2024).

HostnameOSArch (*)R versionInstalled pkgs
nebbiolo1Linux (Ubuntu 22.04.3 LTS)x86_644.4.1 (2024-06-14) -- "Race for Your Life" 4742
palomino7Windows Server 2022 Datacenterx644.4.1 (2024-06-14 ucrt) -- "Race for Your Life" 4484
merida1macOS 12.7.5 Montereyx86_644.4.1 (2024-06-14) -- "Race for Your Life" 4513
kjohnson1macOS 13.6.6 Venturaarm644.4.1 (2024-06-14) -- "Race for Your Life" 4462
Click on any hostname to see more info about the system (e.g. compilers)      (*) as reported by 'uname -p', except on Windows and Mac OS X

Package 1978/2300HostnameOS / ArchINSTALLBUILDCHECKBUILD BIN
SimBu 1.6.0  (landing page)
Alexander Dietrich
Snapshot Date: 2024-07-17 14:00 -0400 (Wed, 17 Jul 2024)
git_url: https://git.bioconductor.org/packages/SimBu
git_branch: RELEASE_3_19
git_last_commit: 15b2ed9
git_last_commit_date: 2024-04-30 11:44:04 -0400 (Tue, 30 Apr 2024)
nebbiolo1Linux (Ubuntu 22.04.3 LTS) / x86_64  OK    OK    OK  UNNEEDED, same version is already published
palomino7Windows Server 2022 Datacenter / x64  OK    OK    OK    OK  
merida1macOS 12.7.5 Monterey / x86_64  OK    OK    OK    OK  UNNEEDED, same version is already published
kjohnson1macOS 13.6.6 Ventura / arm64  OK    OK    OK    NA  


CHECK results for SimBu on nebbiolo1

To the developers/maintainers of the SimBu package:
- Allow up to 24 hours (and sometimes 48 hours) for your latest push to git@git.bioconductor.org:packages/SimBu.git to reflect on this report. See Troubleshooting Build Report for more information.
- Use the following Renviron settings to reproduce errors and warnings.
- If 'R CMD check' started to fail recently on the Linux builder(s) over a missing dependency, add the missing dependency to 'Suggests:' in your DESCRIPTION file. See Renviron.bioc for more information.

raw results


Summary

Package: SimBu
Version: 1.6.0
Command: /home/biocbuild/bbs-3.19-bioc/R/bin/R CMD check --install=check:SimBu.install-out.txt --library=/home/biocbuild/bbs-3.19-bioc/R/site-library --timings SimBu_1.6.0.tar.gz
StartedAt: 2024-07-18 04:19:06 -0400 (Thu, 18 Jul 2024)
EndedAt: 2024-07-18 04:22:52 -0400 (Thu, 18 Jul 2024)
EllapsedTime: 225.5 seconds
RetCode: 0
Status:   OK  
CheckDir: SimBu.Rcheck
Warnings: 0

Command output

##############################################################################
##############################################################################
###
### Running command:
###
###   /home/biocbuild/bbs-3.19-bioc/R/bin/R CMD check --install=check:SimBu.install-out.txt --library=/home/biocbuild/bbs-3.19-bioc/R/site-library --timings SimBu_1.6.0.tar.gz
###
##############################################################################
##############################################################################


* using log directory ‘/home/biocbuild/bbs-3.19-bioc/meat/SimBu.Rcheck’
* using R version 4.4.1 (2024-06-14)
* using platform: x86_64-pc-linux-gnu
* R was compiled by
    gcc (Ubuntu 11.4.0-1ubuntu1~22.04) 11.4.0
    GNU Fortran (Ubuntu 11.4.0-1ubuntu1~22.04) 11.4.0
* running under: Ubuntu 22.04.4 LTS
* using session charset: UTF-8
* checking for file ‘SimBu/DESCRIPTION’ ... OK
* this is package ‘SimBu’ version ‘1.6.0’
* package encoding: UTF-8
* checking package namespace information ... OK
* checking package dependencies ... OK
* checking if this is a source package ... OK
* checking if there is a namespace ... OK
* checking for hidden files and directories ... NOTE
Found the following hidden files and directories:
  .BBSoptions
  .pre-commit-config.yaml
  .prettierignore
These were most likely included in error. See section ‘Package
structure’ in the ‘Writing R Extensions’ manual.
* checking for portable file names ... OK
* checking for sufficient/correct file permissions ... OK
* checking whether package ‘SimBu’ can be installed ... NOTE
Found the following notes/warnings:
  Non-staged installation was used
See ‘/home/biocbuild/bbs-3.19-bioc/meat/SimBu.Rcheck/00install.out’ for details.
* checking installed package size ... OK
* checking package directory ... OK
* checking ‘build’ directory ... OK
* checking DESCRIPTION meta-information ... OK
* checking top-level files ... OK
* checking for left-over files ... OK
* checking index information ... OK
* checking package subdirectories ... OK
* checking code files for non-ASCII characters ... OK
* checking R files for syntax errors ... OK
* checking whether the package can be loaded ... OK
* checking whether the package can be loaded with stated dependencies ... OK
* checking whether the package can be unloaded cleanly ... OK
* checking whether the namespace can be loaded with stated dependencies ... OK
* checking whether the namespace can be unloaded cleanly ... OK
* checking loading without being on the library search path ... OK
* checking dependencies in R code ... OK
* checking S3 generic/method consistency ... OK
* checking replacement functions ... OK
* checking foreign function calls ... OK
* checking R code for possible problems ... OK
* checking Rd files ... OK
* checking Rd metadata ... OK
* checking Rd cross-references ... OK
* checking for missing documentation entries ... OK
* checking for code/documentation mismatches ... OK
* checking Rd \usage sections ... OK
* checking Rd contents ... OK
* checking for unstated dependencies in examples ... OK
* checking line endings in shell scripts ... OK
* checking files in ‘vignettes’ ... OK
* checking examples ... OK
Examples with CPU (user + system) or elapsed time > 5s
                user system elapsed
simulate_bulk 18.193  1.568  19.761
setup_sfaira  10.317  1.920  17.197
dataset        6.807  0.536   7.343
* checking for unstated dependencies in ‘tests’ ... OK
* checking tests ...
  Running ‘testthat.R’
 OK
* checking for unstated dependencies in vignettes ... OK
* checking package vignettes ... OK
* checking re-building of vignette outputs ... OK
* checking PDF version of manual ... OK
* DONE

Status: 2 NOTEs
See
  ‘/home/biocbuild/bbs-3.19-bioc/meat/SimBu.Rcheck/00check.log’
for details.


Installation output

SimBu.Rcheck/00install.out

##############################################################################
##############################################################################
###
### Running command:
###
###   /home/biocbuild/bbs-3.19-bioc/R/bin/R CMD INSTALL SimBu
###
##############################################################################
##############################################################################


* installing to library ‘/home/biocbuild/bbs-3.19-bioc/R/site-library’
* installing *source* package ‘SimBu’ ...
** using non-staged installation via StagedInstall field
** R
** inst
** byte-compile and prepare package for lazy loading
** help
*** installing help indices
** building package indices
** installing vignettes
** testing if installed package can be loaded
* DONE (SimBu)

Tests output

SimBu.Rcheck/tests/testthat.Rout


R version 4.4.1 (2024-06-14) -- "Race for Your Life"
Copyright (C) 2024 The R Foundation for Statistical Computing
Platform: x86_64-pc-linux-gnu

R is free software and comes with ABSOLUTELY NO WARRANTY.
You are welcome to redistribute it under certain conditions.
Type 'license()' or 'licence()' for distribution details.

R is a collaborative project with many contributors.
Type 'contributors()' for more information and
'citation()' on how to cite R or R packages in publications.

Type 'demo()' for some demos, 'help()' for on-line help, or
'help.start()' for an HTML browser interface to help.
Type 'q()' to quit R.

> library(testthat)
> library(SimBu)
> 
> test_check("SimBu")
Loading required package: MatrixGenerics
Loading required package: matrixStats

Attaching package: 'MatrixGenerics'

The following objects are masked from 'package:matrixStats':

    colAlls, colAnyNAs, colAnys, colAvgsPerRowSet, colCollapse,
    colCounts, colCummaxs, colCummins, colCumprods, colCumsums,
    colDiffs, colIQRDiffs, colIQRs, colLogSumExps, colMadDiffs,
    colMads, colMaxs, colMeans2, colMedians, colMins, colOrderStats,
    colProds, colQuantiles, colRanges, colRanks, colSdDiffs, colSds,
    colSums2, colTabulates, colVarDiffs, colVars, colWeightedMads,
    colWeightedMeans, colWeightedMedians, colWeightedSds,
    colWeightedVars, rowAlls, rowAnyNAs, rowAnys, rowAvgsPerColSet,
    rowCollapse, rowCounts, rowCummaxs, rowCummins, rowCumprods,
    rowCumsums, rowDiffs, rowIQRDiffs, rowIQRs, rowLogSumExps,
    rowMadDiffs, rowMads, rowMaxs, rowMeans2, rowMedians, rowMins,
    rowOrderStats, rowProds, rowQuantiles, rowRanges, rowRanks,
    rowSdDiffs, rowSds, rowSums2, rowTabulates, rowVarDiffs, rowVars,
    rowWeightedMads, rowWeightedMeans, rowWeightedMedians,
    rowWeightedSds, rowWeightedVars

Loading required package: GenomicRanges
Loading required package: stats4
Loading required package: BiocGenerics

Attaching package: 'BiocGenerics'

The following objects are masked from 'package:stats':

    IQR, mad, sd, var, xtabs

The following objects are masked from 'package:base':

    Filter, Find, Map, Position, Reduce, anyDuplicated, aperm, append,
    as.data.frame, basename, cbind, colnames, dirname, do.call,
    duplicated, eval, evalq, get, grep, grepl, intersect, is.unsorted,
    lapply, mapply, match, mget, order, paste, pmax, pmax.int, pmin,
    pmin.int, rank, rbind, rownames, sapply, setdiff, table, tapply,
    union, unique, unsplit, which.max, which.min

Loading required package: S4Vectors

Attaching package: 'S4Vectors'

The following objects are masked from 'package:Matrix':

    expand, unname

The following object is masked from 'package:utils':

    findMatches

The following objects are masked from 'package:base':

    I, expand.grid, unname

Loading required package: IRanges
Loading required package: GenomeInfoDb
Loading required package: Biobase
Welcome to Bioconductor

    Vignettes contain introductory material; view with
    'browseVignettes()'. To cite Bioconductor, see
    'citation("Biobase")', and for packages 'citation("pkgname")'.


Attaching package: 'Biobase'

The following object is masked from 'package:MatrixGenerics':

    rowMedians

The following objects are masked from 'package:matrixStats':

    anyMissing, rowMedians

Filtering genes...
Created dataset.
Filtering genes...
Created dataset.
Filtering genes...
Created dataset.
Filtering genes...
Created dataset.
Filtering genes...
Created dataset.
Filtering genes...
Created dataset.
Filtering genes...
Created dataset.
Filtering genes...
Created dataset.
Filtering genes...
Created dataset.
Filtering genes...
Created dataset.
Finished simulation.
Finished simulation.
Finished simulation.
Finished simulation.
Finished simulation.
Finished simulation.
Finished simulation.
Finished simulation.
Finished simulation.
Finished simulation.
Finished simulation.
Finished simulation.
Found more than one class "dist" in cache; using the first, from namespace 'BiocGenerics'
Also defined by 'spam'
You set `rngseed` to FALSE. Make sure you've set & recorded
 the random seed of your session for reproducibility.
See `?set.seed`

...
You set `rngseed` to FALSE. Make sure you've set & recorded
 the random seed of your session for reproducibility.
See `?set.seed`

...
You set `rngseed` to FALSE. Make sure you've set & recorded
 the random seed of your session for reproducibility.
See `?set.seed`

...
You set `rngseed` to FALSE. Make sure you've set & recorded
 the random seed of your session for reproducibility.
See `?set.seed`

...
You set `rngseed` to FALSE. Make sure you've set & recorded
 the random seed of your session for reproducibility.
See `?set.seed`

...
You set `rngseed` to FALSE. Make sure you've set & recorded
 the random seed of your session for reproducibility.
See `?set.seed`

...
You set `rngseed` to FALSE. Make sure you've set & recorded
 the random seed of your session for reproducibility.
See `?set.seed`

...
You set `rngseed` to FALSE. Make sure you've set & recorded
 the random seed of your session for reproducibility.
See `?set.seed`

...
You set `rngseed` to FALSE. Make sure you've set & recorded
 the random seed of your session for reproducibility.
See `?set.seed`

...
You set `rngseed` to FALSE. Make sure you've set & recorded
 the random seed of your session for reproducibility.
See `?set.seed`

...
Finished simulation.
You set `rngseed` to FALSE. Make sure you've set & recorded
 the random seed of your session for reproducibility.
See `?set.seed`

...
You set `rngseed` to FALSE. Make sure you've set & recorded
 the random seed of your session for reproducibility.
See `?set.seed`

...
You set `rngseed` to FALSE. Make sure you've set & recorded
 the random seed of your session for reproducibility.
See `?set.seed`

...
You set `rngseed` to FALSE. Make sure you've set & recorded
 the random seed of your session for reproducibility.
See `?set.seed`

...
You set `rngseed` to FALSE. Make sure you've set & recorded
 the random seed of your session for reproducibility.
See `?set.seed`

...
You set `rngseed` to FALSE. Make sure you've set & recorded
 the random seed of your session for reproducibility.
See `?set.seed`

...
You set `rngseed` to FALSE. Make sure you've set & recorded
 the random seed of your session for reproducibility.
See `?set.seed`

...
You set `rngseed` to FALSE. Make sure you've set & recorded
 the random seed of your session for reproducibility.
See `?set.seed`

...
You set `rngseed` to FALSE. Make sure you've set & recorded
 the random seed of your session for reproducibility.
See `?set.seed`

...
You set `rngseed` to FALSE. Make sure you've set & recorded
 the random seed of your session for reproducibility.
See `?set.seed`

...
Finished simulation.
Finished simulation.
Finished simulation.
Finished simulation.
Finished simulation.
Finished simulation.
Finished simulation.
Finished simulation.
Finished simulation.
Finished simulation.
Finished simulation.
Finished simulation.
Finished simulation.
Using EPIC scaling factors.
Finished simulation.
Using EPIC scaling factors.
Finished simulation.
Using ABIS scaling factors.
Finished simulation.
Using quanTIseq scaling factors.
Finished simulation.
Using quanTIseq scaling factors.
Finished simulation.
Using custom scaling factors.
Finished simulation.
Finished simulation.
Finished simulation.
Finished simulation.
Finished simulation.
Finished simulation.
Finished simulation.
[ FAIL 0 | WARN 0 | SKIP 0 | PASS 31 ]
> 
> proc.time()
   user  system elapsed 
 90.285   2.474  92.749 

Example timings

SimBu.Rcheck/SimBu-Ex.timings

nameusersystemelapsed
census1.7680.0921.861
dataset6.8070.5367.343
dataset_h5ad000
dataset_merge1.7960.0961.892
dataset_seurat4.3000.2114.513
dataset_sfaira000
dataset_sfaira_multiple000
merge_simulations4.0770.0524.130
plot_simulation2.3040.0842.388
save_simulation2.0670.0282.096
setup_sfaira10.317 1.92017.197
sfaira_overview000
simulate_bulk18.193 1.56819.761