Index of /checkResults/3.19/bioc-LATEST/SPOTlight/raw-results/kunpeng2

[ICO]NameLast modifiedSizeDescription

[DIR]Parent Directory  -  
[TXT]buildsrc-out.txt10-May-2024 00:41 824  
[   ]buildsrc-summary.dcf10-May-2024 00:41 433  
[TXT]checksrc-out.txt09-May-2024 00:41 3.5K 
[   ]checksrc-summary.dcf09-May-2024 00:41 457  
[TXT]install-out.txt10-May-2024 00:41 1.0K 
[   ]install-summary.dcf10-May-2024 00:41 273