Index of /checkResults/3.19/bioc-LATEST/SELEX/raw-results/palomino3

[ICO]NameLast modifiedSizeDescription

[DIR]Parent Directory  -  
[TXT]buildbin-out.txt29-Jun-2024 06:42 1.0K 
[   ]buildbin-summary.dcf29-Jun-2024 06:42 503  
[TXT]buildsrc-out.txt29-Jun-2024 06:42 829  
[   ]buildsrc-summary.dcf29-Jun-2024 06:42 444  
[TXT]checksrc-out.txt29-Jun-2024 06:42 17K 
[   ]checksrc-summary.dcf29-Jun-2024 06:42 439  
[TXT]install-out.txt29-Jun-2024 06:42 956  
[   ]install-summary.dcf29-Jun-2024 06:42 264