Index of /checkResults/3.19/bioc-LATEST/SELEX/raw-results/nebbiolo1

[ICO]NameLast modifiedSizeDescription

[DIR]Parent Directory  -  
[TXT]buildsrc-out.txt20-Jul-2024 06:38 798  
[   ]buildsrc-summary.dcf20-Jul-2024 06:38 411  
[TXT]checksrc-out.txt20-Jul-2024 06:38 16K 
[   ]checksrc-summary.dcf20-Jul-2024 06:38 406  
[TXT]install-out.txt20-Jul-2024 06:38 946  
[   ]install-summary.dcf20-Jul-2024 06:38 255