Back to Multiple platform build/check report for BioC 3.19:   simplified   long
ABCDEFGHIJKLMNOPQR[S]TUVWXYZ

This page was generated on 2024-06-18 17:59 -0400 (Tue, 18 Jun 2024).

HostnameOSArch (*)R versionInstalled pkgs
nebbiolo1Linux (Ubuntu 22.04.3 LTS)x86_644.4.0 (2024-04-24) -- "Puppy Cup" 4758
palomino3Windows Server 2022 Datacenterx644.4.0 (2024-04-24 ucrt) -- "Puppy Cup" 4492
merida1macOS 12.7.4 Montereyx86_644.4.0 (2024-04-24) -- "Puppy Cup" 4464
kjohnson1macOS 13.6.6 Venturaarm644.4.0 (2024-04-24) -- "Puppy Cup" 4464
Click on any hostname to see more info about the system (e.g. compilers)      (*) as reported by 'uname -p', except on Windows and Mac OS X

Package 1934/2300HostnameOS / ArchINSTALLBUILDCHECKBUILD BIN
SELEX 1.36.0  (landing page)
Harmen J. Bussemaker
Snapshot Date: 2024-06-16 14:00 -0400 (Sun, 16 Jun 2024)
git_url: https://git.bioconductor.org/packages/SELEX
git_branch: RELEASE_3_19
git_last_commit: ee8e854
git_last_commit_date: 2024-04-30 10:41:48 -0400 (Tue, 30 Apr 2024)
nebbiolo1Linux (Ubuntu 22.04.3 LTS) / x86_64  OK    OK    OK  UNNEEDED, same version is already published
palomino3Windows Server 2022 Datacenter / x64  OK    OK    OK    OK  UNNEEDED, same version is already published
merida1macOS 12.7.4 Monterey / x86_64  OK    OK    OK    OK  UNNEEDED, same version is already published
kjohnson1macOS 13.6.6 Ventura / arm64  OK    OK    OK    OK  UNNEEDED, same version is already published


CHECK results for SELEX on palomino3

To the developers/maintainers of the SELEX package:
- Allow up to 24 hours (and sometimes 48 hours) for your latest push to git@git.bioconductor.org:packages/SELEX.git to reflect on this report. See Troubleshooting Build Report for more information.
- Use the following Renviron settings to reproduce errors and warnings.
- If 'R CMD check' started to fail recently on the Linux builder(s) over a missing dependency, add the missing dependency to 'Suggests:' in your DESCRIPTION file. See Renviron.bioc for more information.

raw results


Summary

Package: SELEX
Version: 1.36.0
Command: F:\biocbuild\bbs-3.19-bioc\R\bin\R.exe CMD check --no-multiarch --install=check:SELEX.install-out.txt --library=F:\biocbuild\bbs-3.19-bioc\R\library --no-vignettes --timings SELEX_1.36.0.tar.gz
StartedAt: 2024-06-17 11:32:28 -0400 (Mon, 17 Jun 2024)
EndedAt: 2024-06-17 11:37:58 -0400 (Mon, 17 Jun 2024)
EllapsedTime: 330.9 seconds
RetCode: 0
Status:   OK  
CheckDir: SELEX.Rcheck
Warnings: 0

Command output

##############################################################################
##############################################################################
###
### Running command:
###
###   F:\biocbuild\bbs-3.19-bioc\R\bin\R.exe CMD check --no-multiarch --install=check:SELEX.install-out.txt --library=F:\biocbuild\bbs-3.19-bioc\R\library --no-vignettes --timings SELEX_1.36.0.tar.gz
###
##############################################################################
##############################################################################


* using log directory 'F:/biocbuild/bbs-3.19-bioc/meat/SELEX.Rcheck'
* using R version 4.4.0 (2024-04-24 ucrt)
* using platform: x86_64-w64-mingw32
* R was compiled by
    gcc.exe (GCC) 13.2.0
    GNU Fortran (GCC) 13.2.0
* running under: Windows Server 2022 x64 (build 20348)
* using session charset: UTF-8
* using option '--no-vignettes'
* checking for file 'SELEX/DESCRIPTION' ... OK
* this is package 'SELEX' version '1.36.0'
* checking package namespace information ... OK
* checking package dependencies ... OK
* checking if this is a source package ... OK
* checking if there is a namespace ... OK
* checking for hidden files and directories ... OK
* checking for portable file names ... OK
* checking whether package 'SELEX' can be installed ... OK
* checking installed package size ... OK
* checking package directory ... OK
* checking 'build' directory ... OK
* checking DESCRIPTION meta-information ... OK
* checking top-level files ... OK
* checking for left-over files ... OK
* checking index information ... OK
* checking package subdirectories ... OK
* checking code files for non-ASCII characters ... OK
* checking R files for syntax errors ... OK
* checking whether the package can be loaded ... OK
* checking whether the package can be loaded with stated dependencies ... OK
* checking whether the package can be unloaded cleanly ... OK
* checking whether the namespace can be loaded with stated dependencies ... OK
* checking whether the namespace can be unloaded cleanly ... OK
* checking whether startup messages can be suppressed ... OK
* checking dependencies in R code ... OK
* checking S3 generic/method consistency ... OK
* checking replacement functions ... OK
* checking foreign function calls ... OK
* checking R code for possible problems ... OK
* checking Rd files ... NOTE
checkRd: (-1) SELEX.Rd:114: Lost braces
   114 | \href{http://www.ncbi.nlm.nih.gov/pubmed/22153072}{{C}ofactor binding evokes latent differences in {D}{N}{A} binding specificity between {H}ox proteins.}
       |                                                                                                       ^
checkRd: (-1) SELEX.Rd:114: Lost braces
   114 | \href{http://www.ncbi.nlm.nih.gov/pubmed/22153072}{{C}ofactor binding evokes latent differences in {D}{N}{A} binding specificity between {H}ox proteins.}
       |                                                                                                          ^
checkRd: (-1) SELEX.Rd:118: Lost braces
   118 | \href{http://www.ncbi.nlm.nih.gov/pubmed/25151169}{{S}{E}{L}{E}{X}-seq: a method for characterizing the complete repertoire of binding site preferences for transcription factor complexes.}
       |                                                       ^
checkRd: (-1) SELEX.Rd:118: Lost braces
   118 | \href{http://www.ncbi.nlm.nih.gov/pubmed/25151169}{{S}{E}{L}{E}{X}-seq: a method for characterizing the complete repertoire of binding site preferences for transcription factor complexes.}
       |                                                          ^
checkRd: (-1) SELEX.Rd:118: Lost braces
   118 | \href{http://www.ncbi.nlm.nih.gov/pubmed/25151169}{{S}{E}{L}{E}{X}-seq: a method for characterizing the complete repertoire of binding site preferences for transcription factor complexes.}
       |                                                             ^
checkRd: (-1) SELEX.Rd:118: Lost braces
   118 | \href{http://www.ncbi.nlm.nih.gov/pubmed/25151169}{{S}{E}{L}{E}{X}-seq: a method for characterizing the complete repertoire of binding site preferences for transcription factor complexes.}
       |                                                                ^
checkRd: (-1) selex.affinities.Rd:33: Lost braces
    33 | \href{http://www.ncbi.nlm.nih.gov/pubmed/22153072}{{C}ofactor binding evokes latent differences in {D}{N}{A} binding specificity between {H}ox proteins.}
       |                                                                                                       ^
checkRd: (-1) selex.affinities.Rd:33: Lost braces
    33 | \href{http://www.ncbi.nlm.nih.gov/pubmed/22153072}{{C}ofactor binding evokes latent differences in {D}{N}{A} binding specificity between {H}ox proteins.}
       |                                                                                                          ^
checkRd: (-1) selex.affinities.Rd:37: Lost braces
    37 | \href{http://www.ncbi.nlm.nih.gov/pubmed/25151169}{{S}{E}{L}{E}{X}-seq: a method for characterizing the complete repertoire of binding site preferences for transcription factor complexes.}
       |                                                       ^
checkRd: (-1) selex.affinities.Rd:37: Lost braces
    37 | \href{http://www.ncbi.nlm.nih.gov/pubmed/25151169}{{S}{E}{L}{E}{X}-seq: a method for characterizing the complete repertoire of binding site preferences for transcription factor complexes.}
       |                                                          ^
checkRd: (-1) selex.affinities.Rd:37: Lost braces
    37 | \href{http://www.ncbi.nlm.nih.gov/pubmed/25151169}{{S}{E}{L}{E}{X}-seq: a method for characterizing the complete repertoire of binding site preferences for transcription factor complexes.}
       |                                                             ^
checkRd: (-1) selex.affinities.Rd:37: Lost braces
    37 | \href{http://www.ncbi.nlm.nih.gov/pubmed/25151169}{{S}{E}{L}{E}{X}-seq: a method for characterizing the complete repertoire of binding site preferences for transcription factor complexes.}
       |                                                                ^
checkRd: (-1) selex.counts.Rd:38: Lost braces
    38 | \href{http://www.ncbi.nlm.nih.gov/pubmed/22153072}{{C}ofactor binding evokes latent differences in {D}{N}{A} binding specificity between {H}ox proteins.}
       |                                                                                                       ^
checkRd: (-1) selex.counts.Rd:38: Lost braces
    38 | \href{http://www.ncbi.nlm.nih.gov/pubmed/22153072}{{C}ofactor binding evokes latent differences in {D}{N}{A} binding specificity between {H}ox proteins.}
       |                                                                                                          ^
checkRd: (-1) selex.counts.Rd:42: Lost braces
    42 | \href{http://www.ncbi.nlm.nih.gov/pubmed/25151169}{{S}{E}{L}{E}{X}-seq: a method for characterizing the complete repertoire of binding site preferences for transcription factor complexes.}
       |                                                       ^
checkRd: (-1) selex.counts.Rd:42: Lost braces
    42 | \href{http://www.ncbi.nlm.nih.gov/pubmed/25151169}{{S}{E}{L}{E}{X}-seq: a method for characterizing the complete repertoire of binding site preferences for transcription factor complexes.}
       |                                                          ^
checkRd: (-1) selex.counts.Rd:42: Lost braces
    42 | \href{http://www.ncbi.nlm.nih.gov/pubmed/25151169}{{S}{E}{L}{E}{X}-seq: a method for characterizing the complete repertoire of binding site preferences for transcription factor complexes.}
       |                                                             ^
checkRd: (-1) selex.counts.Rd:42: Lost braces
    42 | \href{http://www.ncbi.nlm.nih.gov/pubmed/25151169}{{S}{E}{L}{E}{X}-seq: a method for characterizing the complete repertoire of binding site preferences for transcription factor complexes.}
       |                                                                ^
checkRd: (-1) selex.infogain.Rd:27: Lost braces
    27 | \href{http://www.ncbi.nlm.nih.gov/pubmed/22153072}{{C}ofactor binding evokes latent differences in {D}{N}{A} binding specificity between {H}ox proteins.}
       |                                                                                                       ^
checkRd: (-1) selex.infogain.Rd:27: Lost braces
    27 | \href{http://www.ncbi.nlm.nih.gov/pubmed/22153072}{{C}ofactor binding evokes latent differences in {D}{N}{A} binding specificity between {H}ox proteins.}
       |                                                                                                          ^
checkRd: (-1) selex.infogain.Rd:31: Lost braces
    31 | \href{http://www.ncbi.nlm.nih.gov/pubmed/25151169}{{S}{E}{L}{E}{X}-seq: a method for characterizing the complete repertoire of binding site preferences for transcription factor complexes.}
       |                                                       ^
checkRd: (-1) selex.infogain.Rd:31: Lost braces
    31 | \href{http://www.ncbi.nlm.nih.gov/pubmed/25151169}{{S}{E}{L}{E}{X}-seq: a method for characterizing the complete repertoire of binding site preferences for transcription factor complexes.}
       |                                                          ^
checkRd: (-1) selex.infogain.Rd:31: Lost braces
    31 | \href{http://www.ncbi.nlm.nih.gov/pubmed/25151169}{{S}{E}{L}{E}{X}-seq: a method for characterizing the complete repertoire of binding site preferences for transcription factor complexes.}
       |                                                             ^
checkRd: (-1) selex.infogain.Rd:31: Lost braces
    31 | \href{http://www.ncbi.nlm.nih.gov/pubmed/25151169}{{S}{E}{L}{E}{X}-seq: a method for characterizing the complete repertoire of binding site preferences for transcription factor complexes.}
       |                                                                ^
checkRd: (-1) selex.mm.Rd:60: Lost braces
    60 | \href{http://www.ncbi.nlm.nih.gov/pubmed/22153072}{{C}ofactor binding evokes latent differences in {D}{N}{A} binding specificity between {H}ox proteins.}
       |                                                                                                       ^
checkRd: (-1) selex.mm.Rd:60: Lost braces
    60 | \href{http://www.ncbi.nlm.nih.gov/pubmed/22153072}{{C}ofactor binding evokes latent differences in {D}{N}{A} binding specificity between {H}ox proteins.}
       |                                                                                                          ^
checkRd: (-1) selex.mm.Rd:64: Lost braces
    64 | \href{http://www.ncbi.nlm.nih.gov/pubmed/25151169}{{S}{E}{L}{E}{X}-seq: a method for characterizing the complete repertoire of binding site preferences for transcription factor complexes.}
       |                                                       ^
checkRd: (-1) selex.mm.Rd:64: Lost braces
    64 | \href{http://www.ncbi.nlm.nih.gov/pubmed/25151169}{{S}{E}{L}{E}{X}-seq: a method for characterizing the complete repertoire of binding site preferences for transcription factor complexes.}
       |                                                          ^
checkRd: (-1) selex.mm.Rd:64: Lost braces
    64 | \href{http://www.ncbi.nlm.nih.gov/pubmed/25151169}{{S}{E}{L}{E}{X}-seq: a method for characterizing the complete repertoire of binding site preferences for transcription factor complexes.}
       |                                                             ^
checkRd: (-1) selex.mm.Rd:64: Lost braces
    64 | \href{http://www.ncbi.nlm.nih.gov/pubmed/25151169}{{S}{E}{L}{E}{X}-seq: a method for characterizing the complete repertoire of binding site preferences for transcription factor complexes.}
       |                                                                ^
checkRd: (-1) selex.mmProb.Rd:39: Lost braces
    39 | \href{http://www.ncbi.nlm.nih.gov/pubmed/22153072}{{C}ofactor binding evokes latent differences in {D}{N}{A} binding specificity between {H}ox proteins.}
       |                                                                                                       ^
checkRd: (-1) selex.mmProb.Rd:39: Lost braces
    39 | \href{http://www.ncbi.nlm.nih.gov/pubmed/22153072}{{C}ofactor binding evokes latent differences in {D}{N}{A} binding specificity between {H}ox proteins.}
       |                                                                                                          ^
checkRd: (-1) selex.mmProb.Rd:43: Lost braces
    43 | \href{http://www.ncbi.nlm.nih.gov/pubmed/25151169}{{S}{E}{L}{E}{X}-seq: a method for characterizing the complete repertoire of binding site preferences for transcription factor complexes.}
       |                                                       ^
checkRd: (-1) selex.mmProb.Rd:43: Lost braces
    43 | \href{http://www.ncbi.nlm.nih.gov/pubmed/25151169}{{S}{E}{L}{E}{X}-seq: a method for characterizing the complete repertoire of binding site preferences for transcription factor complexes.}
       |                                                          ^
checkRd: (-1) selex.mmProb.Rd:43: Lost braces
    43 | \href{http://www.ncbi.nlm.nih.gov/pubmed/25151169}{{S}{E}{L}{E}{X}-seq: a method for characterizing the complete repertoire of binding site preferences for transcription factor complexes.}
       |                                                             ^
checkRd: (-1) selex.mmProb.Rd:43: Lost braces
    43 | \href{http://www.ncbi.nlm.nih.gov/pubmed/25151169}{{S}{E}{L}{E}{X}-seq: a method for characterizing the complete repertoire of binding site preferences for transcription factor complexes.}
       |                                                                ^
checkRd: (-1) selex.run.Rd:34: Lost braces
    34 | \href{http://www.ncbi.nlm.nih.gov/pubmed/22153072}{{C}ofactor binding evokes latent differences in {D}{N}{A} binding specificity between {H}ox proteins.}
       |                                                                                                       ^
checkRd: (-1) selex.run.Rd:34: Lost braces
    34 | \href{http://www.ncbi.nlm.nih.gov/pubmed/22153072}{{C}ofactor binding evokes latent differences in {D}{N}{A} binding specificity between {H}ox proteins.}
       |                                                                                                          ^
checkRd: (-1) selex.run.Rd:38: Lost braces
    38 | \href{http://www.ncbi.nlm.nih.gov/pubmed/25151169}{{S}{E}{L}{E}{X}-seq: a method for characterizing the complete repertoire of binding site preferences for transcription factor complexes.}
       |                                                       ^
checkRd: (-1) selex.run.Rd:38: Lost braces
    38 | \href{http://www.ncbi.nlm.nih.gov/pubmed/25151169}{{S}{E}{L}{E}{X}-seq: a method for characterizing the complete repertoire of binding site preferences for transcription factor complexes.}
       |                                                          ^
checkRd: (-1) selex.run.Rd:38: Lost braces
    38 | \href{http://www.ncbi.nlm.nih.gov/pubmed/25151169}{{S}{E}{L}{E}{X}-seq: a method for characterizing the complete repertoire of binding site preferences for transcription factor complexes.}
       |                                                             ^
checkRd: (-1) selex.run.Rd:38: Lost braces
    38 | \href{http://www.ncbi.nlm.nih.gov/pubmed/25151169}{{S}{E}{L}{E}{X}-seq: a method for characterizing the complete repertoire of binding site preferences for transcription factor complexes.}
       |                                                                ^
* checking Rd metadata ... OK
* checking Rd cross-references ... OK
* checking for missing documentation entries ... OK
* checking for code/documentation mismatches ... OK
* checking Rd \usage sections ... OK
* checking Rd contents ... OK
* checking for unstated dependencies in examples ... OK
* checking line endings in Makefiles ... OK
* checking for GNU extensions in Makefiles ... OK
* checking include directives in Makefiles ... OK
* checking sizes of PDF files under 'inst/doc' ... OK
* checking files in 'vignettes' ... NOTE
The following directory looks like a leftover from 'knitr':
  'cache'
Please remove from your package.
* checking examples ... OK
Examples with CPU (user + system) or elapsed time > 5s
                 user system elapsed
SELEX           21.56   3.52   10.48
selex.seqfilter  9.87   1.85    4.28
* checking for unstated dependencies in vignettes ... OK
* checking package vignettes ... OK
* checking running R code from vignettes ... SKIPPED
* checking re-building of vignette outputs ... SKIPPED
* checking PDF version of manual ... OK
* DONE

Status: 2 NOTEs
See
  'F:/biocbuild/bbs-3.19-bioc/meat/SELEX.Rcheck/00check.log'
for details.


Installation output

SELEX.Rcheck/00install.out

##############################################################################
##############################################################################
###
### Running command:
###
###   F:\biocbuild\bbs-3.19-bioc\R\bin\R.exe CMD INSTALL SELEX
###
##############################################################################
##############################################################################


* installing to library 'F:/biocbuild/bbs-3.19-bioc/R/library'
* installing *source* package 'SELEX' ...
** using staged installation
** R
** inst
** byte-compile and prepare package for lazy loading
** help
*** installing help indices
** building package indices
** installing vignettes
** testing if installed package can be loaded from temporary location
** testing if installed package can be loaded from final location
** testing if installed package keeps a record of temporary installation path
* DONE (SELEX)

Tests output


Example timings

SELEX.Rcheck/SELEX-Ex.timings

nameusersystemelapsed
SELEX21.56 3.5210.48
selex.affinities0.660.060.36
selex.config0.080.000.03
selex.countSummary1.120.030.33
selex.counts1.890.060.60
selex.defineSample0.160.000.07
selex.exampledata0.110.050.05
selex.fastqPSFM0.950.010.36
selex.getAttributes0.190.020.06
selex.getRound00.330.030.13
selex.getSeqfilter0.080.030.03
selex.infogain2.030.100.52
selex.infogainSummary0.890.050.31
selex.jvmStatus0.150.000.07
selex.kmax1.690.581.09
selex.kmerPSFM0.330.060.27
selex.loadAnnotation0.140.000.10
selex.mm0.410.050.22
selex.mmProb0.460.050.26
selex.mmSummary0.560.030.30
selex.revcomp0.470.020.41
selex.run1.280.120.62
selex.sample0.230.020.11
selex.samplePSFM0.500.000.22
selex.sampleSummary0.280.030.11
selex.saveAnnotation0.130.010.05
selex.seqfilter9.871.854.28
selex.setwd0.070.010.03
selex.split0.360.030.17
selex.summary0.730.080.61