Index of /checkResults/3.19/bioc-LATEST/Rmmquant/raw-results/palomino3

[ICO]NameLast modifiedSizeDescription

[DIR]Parent Directory  -  
[TXT]buildbin-out.txt29-Jun-2024 06:42 2.0K 
[   ]buildbin-summary.dcf29-Jun-2024 06:42 521  
[TXT]buildsrc-out.txt29-Jun-2024 06:42 913  
[   ]buildsrc-summary.dcf29-Jun-2024 06:42 456  
[TXT]checksrc-out.txt29-Jun-2024 06:42 4.4K 
[   ]checksrc-summary.dcf29-Jun-2024 06:42 451  
[TXT]install-out.txt29-Jun-2024 06:42 1.9K 
[   ]install-summary.dcf29-Jun-2024 06:42 270