Index of /checkResults/3.19/bioc-LATEST/Rmmquant/raw-results/nebbiolo1

[ICO]NameLast modifiedSizeDescription

[DIR]Parent Directory  -  
[TXT]buildsrc-out.txt10-Jul-2024 06:39 880  
[   ]buildsrc-summary.dcf10-Jul-2024 06:39 420  
[TXT]checksrc-out.txt10-Jul-2024 06:39 3.8K 
[   ]checksrc-summary.dcf10-Jul-2024 06:39 418  
[TXT]install-out.txt10-Jul-2024 06:39 1.8K 
[   ]install-summary.dcf10-Jul-2024 06:39 261