Index of /checkResults/3.19/bioc-LATEST/Rmmquant/raw-results/lconway

[ICO]NameLast modifiedSizeDescription

[DIR]Parent Directory  -  
[TXT]buildbin-out.txt12-Jun-2024 03:42 4.4K 
[   ]buildbin-summary.dcf12-Jun-2024 03:42 536  
[TXT]buildsrc-out.txt12-Jun-2024 03:42 890  
[   ]buildsrc-summary.dcf12-Jun-2024 03:42 430  
[TXT]checksrc-out.txt12-Jun-2024 03:42 3.9K 
[   ]checksrc-summary.dcf12-Jun-2024 03:42 448  
[TXT]install-out.txt12-Jun-2024 03:42 2.2K 
[   ]install-summary.dcf12-Jun-2024 03:42 271