Index of /checkResults/3.19/bioc-LATEST/Rmmquant/raw-results/kjohnson3

[ICO]NameLast modifiedSizeDescription

[DIR]Parent Directory  -  
[TXT]buildbin-out.txt12-Jun-2024 03:44 4.3K 
[   ]buildbin-summary.dcf12-Jun-2024 03:44 537  
[TXT]buildsrc-out.txt12-Jun-2024 03:44 890  
[   ]buildsrc-summary.dcf12-Jun-2024 03:44 430  
[TXT]checksrc-out.txt12-Jun-2024 03:44 3.9K 
[   ]checksrc-summary.dcf12-Jun-2024 03:44 448  
[TXT]install-out.txt12-Jun-2024 03:44 2.1K 
[   ]install-summary.dcf12-Jun-2024 03:44 271