Index of /checkResults/3.19/bioc-LATEST/Rmmquant/raw-results/kjohnson1

[ICO]NameLast modifiedSizeDescription

[DIR]Parent Directory  -  
[TXT]buildbin-out.txt10-Jul-2024 06:43 4.3K 
[   ]buildbin-summary.dcf10-Jul-2024 06:43 536  
[TXT]buildsrc-out.txt10-Jul-2024 06:43 890  
[   ]buildsrc-summary.dcf10-Jul-2024 06:43 430  
[TXT]checksrc-out.txt10-Jul-2024 06:43 3.9K 
[   ]checksrc-summary.dcf10-Jul-2024 06:43 448  
[TXT]install-out.txt10-Jul-2024 06:43 2.1K 
[   ]install-summary.dcf10-Jul-2024 06:43 271