Index of /checkResults/3.19/bioc-LATEST/ReUseData/raw-results/kjohnson1

[ICO]NameLast modifiedSizeDescription

[DIR]Parent Directory  -  
[TXT]buildbin-out.txt17-Jul-2024 06:42 1.2K 
[   ]buildbin-summary.dcf17-Jul-2024 06:42 539  
[TXT]buildsrc-out.txt20-Jul-2024 06:41 823  
[   ]buildsrc-summary.dcf20-Jul-2024 06:41 431  
[TXT]checksrc-out.txt20-Jul-2024 06:41 3.5K 
[   ]checksrc-summary.dcf20-Jul-2024 06:41 450  
[TXT]install-out.txt20-Jul-2024 06:41 1.0K 
[   ]install-summary.dcf20-Jul-2024 06:41 272