Back to Multiple platform build/check report for BioC 3.19:   simplified   long
ABCDEFGHIJKLMNOPQ[R]STUVWXYZ

This page was generated on 2024-05-18 11:37:14 -0400 (Sat, 18 May 2024).

HostnameOSArch (*)R versionInstalled pkgs
nebbiolo1Linux (Ubuntu 22.04.3 LTS)x86_644.4.0 (2024-04-24) -- "Puppy Cup" 4751
palomino3Windows Server 2022 Datacenterx644.4.0 (2024-04-24 ucrt) -- "Puppy Cup" 4485
lconwaymacOS 12.7.1 Montereyx86_644.4.0 (2024-04-24) -- "Puppy Cup" 4515
Click on any hostname to see more info about the system (e.g. compilers)      (*) as reported by 'uname -p', except on Windows and Mac OS X

Package 1678/2300HostnameOS / ArchINSTALLBUILDCHECKBUILD BIN
RareVariantVis 2.32.0  (landing page)
Tomasz Stokowy
Snapshot Date: 2024-05-17 14:00:11 -0400 (Fri, 17 May 2024)
git_url: https://git.bioconductor.org/packages/RareVariantVis
git_branch: RELEASE_3_19
git_last_commit: f7dd347
git_last_commit_date: 2024-04-30 10:44:10 -0400 (Tue, 30 Apr 2024)
nebbiolo1Linux (Ubuntu 22.04.3 LTS) / x86_64  OK    OK    OK  UNNEEDED, same version is already published
palomino3Windows Server 2022 Datacenter / x64  OK    OK    OK    OK  UNNEEDED, same version is already published
lconwaymacOS 12.7.1 Monterey / x86_64  OK    OK    OK    OK  UNNEEDED, same version is already published
kjohnson3macOS 13.6.5 Ventura / arm64see weekly results here

BUILD BIN results for RareVariantVis on palomino3


To the developers/maintainers of the RareVariantVis package:
- Allow up to 24 hours (and sometimes 48 hours) for your latest push to git@git.bioconductor.org:packages/RareVariantVis.git to reflect on this report. See Troubleshooting Build Report for more information.
- Use the following Renviron settings to reproduce errors and warnings.
- If 'R CMD check' started to fail recently on the Linux builder(s) over a missing dependency, add the missing dependency to 'Suggests:' in your DESCRIPTION file. See Renviron.bioc for more information.

raw results


Summary

Package: RareVariantVis
Version: 2.32.0
Command: rm -rf RareVariantVis.buildbin-libdir && mkdir RareVariantVis.buildbin-libdir && F:\biocbuild\bbs-3.19-bioc\R\bin\R.exe CMD INSTALL --build --library=RareVariantVis.buildbin-libdir RareVariantVis_2.32.0.tar.gz
StartedAt: 2024-05-18 09:16:24 -0400 (Sat, 18 May 2024)
EndedAt: 2024-05-18 09:17:34 -0400 (Sat, 18 May 2024)
EllapsedTime: 70.0 seconds
RetCode: 0
Status:   OK  
PackageFile: RareVariantVis_2.32.0.zip
PackageFileSize: 2.724 MiB

Command output

##############################################################################
##############################################################################
###
### Running command:
###
###   rm -rf RareVariantVis.buildbin-libdir && mkdir RareVariantVis.buildbin-libdir && F:\biocbuild\bbs-3.19-bioc\R\bin\R.exe CMD INSTALL --build --library=RareVariantVis.buildbin-libdir RareVariantVis_2.32.0.tar.gz
###
##############################################################################
##############################################################################


* installing *source* package 'RareVariantVis' ...
** using staged installation
** R
** inst
** byte-compile and prepare package for lazy loading
Warning: replacing previous import 'utils::findMatches' by 'S4Vectors::findMatches' when loading 'phastCons100way.UCSC.hg19'
** help
*** installing help indices
** building package indices
** installing vignettes
** testing if installed package can be loaded from temporary location
Warning: replacing previous import 'utils::findMatches' by 'S4Vectors::findMatches' when loading 'phastCons100way.UCSC.hg19'
** testing if installed package can be loaded from final location
Warning: replacing previous import 'utils::findMatches' by 'S4Vectors::findMatches' when loading 'phastCons100way.UCSC.hg19'
** testing if installed package keeps a record of temporary installation path
* MD5 sums
packaged installation of 'RareVariantVis' as RareVariantVis_2.32.0.zip
* DONE (RareVariantVis)