Index of /checkResults/3.19/bioc-LATEST/RGraph2js/raw-results/nebbiolo1

[ICO]NameLast modifiedSizeDescription

[DIR]Parent Directory  -  
[TXT]buildsrc-out.txt19-Jun-2024 06:58 814  
[   ]buildsrc-summary.dcf19-Jun-2024 06:58 423  
[TXT]checksrc-out.txt19-Jun-2024 06:58 3.8K 
[   ]checksrc-summary.dcf19-Jun-2024 06:58 421  
[TXT]install-out.txt19-Jun-2024 06:58 958  
[   ]install-summary.dcf19-Jun-2024 06:58 262