Index of /checkResults/3.19/bioc-LATEST/RGraph2js/raw-results/kjohnson3

[ICO]NameLast modifiedSizeDescription

[DIR]Parent Directory  -  
[TXT]buildbin-out.txt12-Jun-2024 03:44 1.2K 
[   ]buildbin-summary.dcf12-Jun-2024 03:44 541  
[TXT]buildsrc-out.txt12-Jun-2024 03:44 824  
[   ]buildsrc-summary.dcf12-Jun-2024 03:44 433  
[TXT]checksrc-out.txt12-Jun-2024 03:44 3.9K 
[   ]checksrc-summary.dcf12-Jun-2024 03:44 451  
[TXT]install-out.txt12-Jun-2024 03:44 1.0K 
[   ]install-summary.dcf12-Jun-2024 03:44 272