Index of /checkResults/3.19/bioc-LATEST/RGraph2js/raw-results/kjohnson1

[ICO]NameLast modifiedSizeDescription

[DIR]Parent Directory  -  
[TXT]buildbin-out.txt10-Jul-2024 06:43 1.2K 
[   ]buildbin-summary.dcf10-Jul-2024 06:43 541  
[TXT]buildsrc-out.txt10-Jul-2024 06:43 824  
[   ]buildsrc-summary.dcf10-Jul-2024 06:43 433  
[TXT]checksrc-out.txt10-Jul-2024 06:43 3.9K 
[   ]checksrc-summary.dcf10-Jul-2024 06:43 451  
[TXT]install-out.txt10-Jul-2024 06:43 1.0K 
[   ]install-summary.dcf10-Jul-2024 06:43 272