Index of /checkResults/3.19/bioc-LATEST/RGraph2js/raw-results

[ICO]NameLast modifiedSizeDescription

[DIR]Parent Directory  -  
[DIR]palomino7/10-Jul-2024 06:41 -  
[DIR]palomino3/29-Jun-2024 06:42 -  
[DIR]nebbiolo1/10-Jul-2024 06:39 -  
[DIR]merida1/10-Jul-2024 06:42 -  
[DIR]lconway/12-Jun-2024 03:42 -  
[DIR]kunpeng2/10-May-2024 00:41 -  
[DIR]kjohnson3/12-Jun-2024 03:44 -  
[DIR]kjohnson1/10-Jul-2024 06:43 -  
[   ]info.dcf10-Jul-2024 06:38 275