Back to Multiple platform build/check report for BioC 3.19:   simplified   long
ABCDEFGHIJKLMNOP[Q]RSTUVWXYZ

This page was generated on 2024-07-16 17:42 -0400 (Tue, 16 Jul 2024).

HostnameOSArch (*)R versionInstalled pkgs
nebbiolo1Linux (Ubuntu 22.04.3 LTS)x86_644.4.1 (2024-06-14) -- "Race for Your Life" 4742
palomino7Windows Server 2022 Datacenterx644.4.1 (2024-06-14 ucrt) -- "Race for Your Life" 4484
merida1macOS 12.7.4 Montereyx86_644.4.1 (2024-06-14) -- "Race for Your Life" 4513
kjohnson1macOS 13.6.6 Venturaarm644.4.1 (2024-06-14) -- "Race for Your Life" 4462
Click on any hostname to see more info about the system (e.g. compilers)      (*) as reported by 'uname -p', except on Windows and Mac OS X

Package 1657/2300HostnameOS / ArchINSTALLBUILDCHECKBUILD BIN
QuasR 1.44.0  (landing page)
Michael Stadler
Snapshot Date: 2024-07-14 14:00 -0400 (Sun, 14 Jul 2024)
git_url: https://git.bioconductor.org/packages/QuasR
git_branch: RELEASE_3_19
git_last_commit: 7508987
git_last_commit_date: 2024-04-30 10:30:09 -0400 (Tue, 30 Apr 2024)
nebbiolo1Linux (Ubuntu 22.04.3 LTS) / x86_64  OK    OK    WARNINGS  UNNEEDED, same version is already published
palomino7Windows Server 2022 Datacenter / x64  OK    OK    WARNINGS    OK  
merida1macOS 12.7.4 Monterey / x86_64  OK    OK    WARNINGS    OK  UNNEEDED, same version is already published
kjohnson1macOS 13.6.6 Ventura / arm64  OK    OK    WARNINGS    OK  UNNEEDED, same version is already published


BUILD results for QuasR on kjohnson1

To the developers/maintainers of the QuasR package:
- Allow up to 24 hours (and sometimes 48 hours) for your latest push to git@git.bioconductor.org:packages/QuasR.git to reflect on this report. See Troubleshooting Build Report for more information.
- Use the following Renviron settings to reproduce errors and warnings.
- If 'R CMD check' started to fail recently on the Linux builder(s) over a missing dependency, add the missing dependency to 'Suggests:' in your DESCRIPTION file. See Renviron.bioc for more information.

raw results


Summary

Package: QuasR
Version: 1.44.0
Command: /Library/Frameworks/R.framework/Resources/bin/R CMD build --keep-empty-dirs --no-resave-data QuasR
StartedAt: 2024-07-15 05:49:52 -0400 (Mon, 15 Jul 2024)
EndedAt: 2024-07-15 05:55:26 -0400 (Mon, 15 Jul 2024)
EllapsedTime: 333.6 seconds
RetCode: 0
Status:   OK  
PackageFile: QuasR_1.44.0.tar.gz
PackageFileSize: 2.406 MiB

Command output

##############################################################################
##############################################################################
###
### Running command:
###
###   /Library/Frameworks/R.framework/Resources/bin/R CMD build --keep-empty-dirs --no-resave-data QuasR
###
##############################################################################
##############################################################################


* checking for file ‘QuasR/DESCRIPTION’ ... OK
* preparing ‘QuasR’:
* checking DESCRIPTION meta-information ... OK
* cleaning src
* installing the package to build vignettes
* creating vignettes ... OK
* cleaning src
* checking for LF line-endings in source and make files and shell scripts
* checking for empty or unneeded directories
WARNING: directory ‘QuasR/inst/AlignerIndexPkg-template/R’ is empty
* building ‘QuasR_1.44.0.tar.gz’