Back to Multiple platform build/check report for BioC 3.19:   simplified   long
ABCDEFGHIJKLMNOP[Q]RSTUVWXYZ

This page was generated on 2024-07-12 17:41 -0400 (Fri, 12 Jul 2024).

HostnameOSArch (*)R versionInstalled pkgs
nebbiolo1Linux (Ubuntu 22.04.3 LTS)x86_644.4.1 (2024-06-14) -- "Race for Your Life" 4741
palomino7Windows Server 2022 Datacenterx644.4.1 (2024-06-14 ucrt) -- "Race for Your Life" 4483
merida1macOS 12.7.4 Montereyx86_644.4.1 (2024-06-14) -- "Race for Your Life" 4512
kjohnson1macOS 13.6.6 Venturaarm644.4.1 (2024-06-14) -- "Race for Your Life" 4461
Click on any hostname to see more info about the system (e.g. compilers)      (*) as reported by 'uname -p', except on Windows and Mac OS X

Package 1649/2300HostnameOS / ArchINSTALLBUILDCHECKBUILD BIN
QSutils 1.22.0  (landing page)
Mercedes Guerrero-Murillo
Snapshot Date: 2024-07-10 14:00 -0400 (Wed, 10 Jul 2024)
git_url: https://git.bioconductor.org/packages/QSutils
git_branch: RELEASE_3_19
git_last_commit: e5e3765
git_last_commit_date: 2024-04-30 11:10:22 -0400 (Tue, 30 Apr 2024)
nebbiolo1Linux (Ubuntu 22.04.3 LTS) / x86_64  OK    OK    OK  UNNEEDED, same version is already published
palomino7Windows Server 2022 Datacenter / x64  OK    OK    OK    OK  
merida1macOS 12.7.4 Monterey / x86_64  OK    OK    OK    OK  UNNEEDED, same version is already published
kjohnson1macOS 13.6.6 Ventura / arm64  OK    OK    OK    OK  UNNEEDED, same version is already published


BUILD BIN results for QSutils on merida1

To the developers/maintainers of the QSutils package:
- Allow up to 24 hours (and sometimes 48 hours) for your latest push to git@git.bioconductor.org:packages/QSutils.git to reflect on this report. See Troubleshooting Build Report for more information.
- Use the following Renviron settings to reproduce errors and warnings.
- If 'R CMD check' started to fail recently on the Linux builder(s) over a missing dependency, add the missing dependency to 'Suggests:' in your DESCRIPTION file. See Renviron.bioc for more information.

raw results


Summary

Package: QSutils
Version: 1.22.0
Command: rm -rf QSutils.buildbin-libdir && mkdir QSutils.buildbin-libdir && /Users/biocbuild/BBS/utils/build-universal.sh QSutils_1.22.0.tar.gz /Library/Frameworks/R.framework/Resources/bin/R QSutils.buildbin-libdir
StartedAt: 2024-07-11 15:18:04 -0400 (Thu, 11 Jul 2024)
EndedAt: 2024-07-11 15:18:34 -0400 (Thu, 11 Jul 2024)
EllapsedTime: 30.2 seconds
RetCode: 0
Status:   OK  
PackageFile: QSutils_1.22.0.tgz
PackageFileSize: 1.431 MiB

Command output

##############################################################################
##############################################################################
###
### Running command:
###
###   rm -rf QSutils.buildbin-libdir && mkdir QSutils.buildbin-libdir && /Users/biocbuild/BBS/utils/build-universal.sh QSutils_1.22.0.tar.gz /Library/Frameworks/R.framework/Resources/bin/R QSutils.buildbin-libdir
###
##############################################################################
##############################################################################


>>>>>>> 
>>>>>>> INSTALLATION WITH 'R CMD INSTALL --preclean --no-multiarch --library=QSutils.buildbin-libdir QSutils_1.22.0.tar.gz'
>>>>>>> 

* installing *source* package ‘QSutils’ ...
** using staged installation
** R
** inst
** byte-compile and prepare package for lazy loading
** help
*** installing help indices
** building package indices
** installing vignettes
** testing if installed package can be loaded from temporary location
** testing if installed package can be loaded from final location
** testing if installed package keeps a record of temporary installation path
* DONE (QSutils)