Index of /checkResults/3.19/bioc-LATEST/QDNAseq/raw-results/nebbiolo1

[ICO]NameLast modifiedSizeDescription

[DIR]Parent Directory  -  
[TXT]buildsrc-out.txt20-Jul-2024 06:37 869  
[   ]buildsrc-summary.dcf20-Jul-2024 06:37 417  
[TXT]checksrc-out.txt20-Jul-2024 06:37 3.9K 
[   ]checksrc-summary.dcf20-Jul-2024 06:37 414  
[TXT]install-out.txt20-Jul-2024 06:37 960  
[   ]install-summary.dcf20-Jul-2024 06:37 259