Index of /checkResults/3.19/bioc-LATEST/QDNAseq/raw-results/kjohnson3

[ICO]NameLast modifiedSizeDescription

[DIR]Parent Directory  -  
[TXT]buildbin-out.txt12-Jun-2024 03:44 1.2K 
[   ]buildbin-summary.dcf12-Jun-2024 03:44 530  
[TXT]buildsrc-out.txt12-Jun-2024 03:44 879  
[   ]buildsrc-summary.dcf12-Jun-2024 03:44 427  
[TXT]checksrc-out.txt12-Jun-2024 03:44 4.0K 
[   ]checksrc-summary.dcf12-Jun-2024 03:44 444  
[TXT]install-out.txt12-Jun-2024 03:44 1.0K 
[   ]install-summary.dcf12-Jun-2024 03:44 269