Index of /checkResults/3.19/bioc-LATEST/OMICsPCA/raw-results/palomino3

[ICO]NameLast modifiedSizeDescription

[DIR]Parent Directory  -  
[TXT]buildbin-out.txt19-Jun-2024 06:59 1.1K 
[   ]buildbin-summary.dcf19-Jun-2024 06:59 522  
[TXT]buildsrc-out.txt19-Jun-2024 06:59 881  
[   ]buildsrc-summary.dcf19-Jun-2024 06:59 458  
[TXT]checksrc-out.txt19-Jun-2024 06:59 3.5K 
[   ]checksrc-summary.dcf19-Jun-2024 06:59 451  
[TXT]install-out.txt19-Jun-2024 06:59 965  
[   ]install-summary.dcf19-Jun-2024 06:59 270