Index of /checkResults/3.19/bioc-LATEST/OMICsPCA/raw-results/nebbiolo1

[ICO]NameLast modifiedSizeDescription

[DIR]Parent Directory  -  
[TXT]buildsrc-out.txt22-Jun-2024 06:38 850  
[   ]buildsrc-summary.dcf22-Jun-2024 06:38 421  
[TXT]checksrc-out.txt22-Jun-2024 06:38 3.6K 
[   ]checksrc-summary.dcf22-Jun-2024 06:38 418  
[TXT]install-out.txt22-Jun-2024 06:38 955  
[   ]install-summary.dcf22-Jun-2024 06:38 261