Index of /checkResults/3.19/bioc-LATEST/MoleculeExperiment/raw-results/nebbiolo1

[ICO]NameLast modifiedSizeDescription

[DIR]Parent Directory  -  
[TXT]buildsrc-out.txt13-Jul-2024 06:38 1.2K 
[   ]buildsrc-summary.dcf13-Jul-2024 06:38 449  
[TXT]checksrc-out.txt13-Jul-2024 06:38 5.1K 
[   ]checksrc-summary.dcf13-Jul-2024 06:38 456  
[TXT]install-out.txt13-Jul-2024 06:38 1.0K 
[   ]install-summary.dcf13-Jul-2024 06:38 280