Back to Multiple platform build/check report for BioC 3.19:   simplified   long
ABCDEFGHIJKL[M]NOPQRSTUVWXYZ

This page was generated on 2024-05-17 11:35:25 -0400 (Fri, 17 May 2024).

HostnameOSArch (*)R versionInstalled pkgs
nebbiolo1Linux (Ubuntu 22.04.3 LTS)x86_644.4.0 (2024-04-24) -- "Puppy Cup" 4751
palomino3Windows Server 2022 Datacenterx644.4.0 (2024-04-24 ucrt) -- "Puppy Cup" 4485
lconwaymacOS 12.7.1 Montereyx86_644.4.0 (2024-04-24) -- "Puppy Cup" 4515
Click on any hostname to see more info about the system (e.g. compilers)      (*) as reported by 'uname -p', except on Windows and Mac OS X

All results for package MetaboCoreUtils


To the developers/maintainers of the MetaboCoreUtils package:
- Allow up to 24 hours (and sometimes 48 hours) for your latest push to git@git.bioconductor.org:packages/MetaboCoreUtils.git to reflect on this report. See Troubleshooting Build Report for more information.
- Use the following Renviron settings to reproduce errors and warnings.
- If 'R CMD check' started to fail recently on the Linux builder(s) over a missing dependency, add the missing dependency to 'Suggests:' in your DESCRIPTION file. See Renviron.bioc for more information.

raw results

Package 1209/2300HostnameOS / ArchINSTALLBUILDCHECKBUILD BIN
MetaboCoreUtils 1.12.0  (landing page)
Johannes Rainer
Snapshot Date: 2024-05-16 14:00:15 -0400 (Thu, 16 May 2024)
git_url: https://git.bioconductor.org/packages/MetaboCoreUtils
git_branch: RELEASE_3_19
git_last_commit: e512f76
git_last_commit_date: 2024-04-30 11:30:59 -0400 (Tue, 30 Apr 2024)
nebbiolo1Linux (Ubuntu 22.04.3 LTS) / x86_64  OK    OK    OK  UNNEEDED, same version is already published
palomino3Windows Server 2022 Datacenter / x64  OK    OK    OK    OK  UNNEEDED, same version is already published
lconwaymacOS 12.7.1 Monterey / x86_64  OK    OK    OK    OK  UNNEEDED, same version is already published
kjohnson3macOS 13.6.5 Ventura / arm64see weekly results here

Results for Bioconductor software packages that depend directly on package MetaboCoreUtils

QUICK STATSOS / ArchINSTALLBUILDCHECKBUILD BIN
nebbiolo1Linux (Ubuntu 22.04.3 LTS) / x86_64
005
005
0104
palomino3Windows Server 2022 Datacenter / x64
005
005
0113
005
lconwaymacOS 12.7.1 Monterey / x86_64
005
005
0104
005
Package 1/5HostnameOS / ArchINSTALLBUILDCHECKBUILD BIN
CompoundDb 1.8.0  (landing page)
Johannes Rainer
git_last_commit: c4266c8
git_last_commit_date: 2024-04-30 11:40:04 -0400
nebbiolo1Linux (Ubuntu 22.04.3 LTS) / x86_64  OK    OK    OK  UNNEEDED, same version is already published
palomino3Windows Server 2022 Datacenter / x64  OK    OK    OK    OK  UNNEEDED, same version is already published
lconwaymacOS 12.7.1 Monterey / x86_64  OK    OK    OK    OK  UNNEEDED, same version is already published
kjohnson3macOS 13.6.5 Ventura / arm64see weekly results here
Package 2/5HostnameOS / ArchINSTALLBUILDCHECKBUILD BIN
MetaboAnnotation 1.8.1  (landing page)
Johannes Rainer
git_last_commit: 7f5a960
git_last_commit_date: 2024-05-15 03:19:21 -0400
nebbiolo1Linux (Ubuntu 22.04.3 LTS) / x86_64  OK    OK    OK  UNNEEDED, same version is already published
palomino3Windows Server 2022 Datacenter / x64  OK    OK    OK    OK  UNNEEDED, same version is already published
lconwaymacOS 12.7.1 Monterey / x86_64  OK    OK    OK    OK  UNNEEDED, same version is already published
kjohnson3macOS 13.6.5 Ventura / arm64see weekly results here
Package 3/5HostnameOS / ArchINSTALLBUILDCHECKBUILD BIN
MobilityTransformR 1.8.0  (landing page)
Liesa Salzer
git_last_commit: ef16930
git_last_commit_date: 2024-04-30 11:40:36 -0400
nebbiolo1Linux (Ubuntu 22.04.3 LTS) / x86_64  OK    OK    ERROR  
palomino3Windows Server 2022 Datacenter / x64  OK    OK    ERROR    OK  
lconwaymacOS 12.7.1 Monterey / x86_64  OK    OK    ERROR    OK  
kjohnson3macOS 13.6.5 Ventura / arm64see weekly results here
Package 4/5HostnameOS / ArchINSTALLBUILDCHECKBUILD BIN
Spectra 1.14.1  (landing page)
RforMassSpectrometry Package Maintainer
git_last_commit: 3f9fa69
git_last_commit_date: 2024-05-16 04:13:30 -0400
nebbiolo1Linux (Ubuntu 22.04.3 LTS) / x86_64  OK    OK    OK  YES
palomino3Windows Server 2022 Datacenter / x64  OK    OK    OK    OK  YES
lconwaymacOS 12.7.1 Monterey / x86_64  OK    OK    OK    OK  YES
kjohnson3macOS 13.6.5 Ventura / arm64see weekly results here
Package 5/5HostnameOS / ArchINSTALLBUILDCHECKBUILD BIN
xcms 4.2.1  (landing page)
Steffen Neumann
git_last_commit: 386bd40
git_last_commit_date: 2024-05-13 05:02:10 -0400
nebbiolo1Linux (Ubuntu 22.04.3 LTS) / x86_64  OK    OK    OK  UNNEEDED, same version is already published
palomino3Windows Server 2022 Datacenter / x64  OK    OK    WARNINGS    OK  UNNEEDED, same version is already published
lconwaymacOS 12.7.1 Monterey / x86_64  OK    OK    OK    OK  UNNEEDED, same version is already published
kjohnson3macOS 13.6.5 Ventura / arm64see weekly results here