Back to Multiple platform build/check report for BioC 3.19:   simplified   long
ABCDEFGHIJKL[M]NOPQRSTUVWXYZ

This page was generated on 2024-05-22 11:34:10 -0400 (Wed, 22 May 2024).

HostnameOSArch (*)R versionInstalled pkgs
nebbiolo1Linux (Ubuntu 22.04.3 LTS)x86_644.4.0 (2024-04-24) -- "Puppy Cup" 4751
palomino3Windows Server 2022 Datacenterx644.4.0 (2024-04-24 ucrt) -- "Puppy Cup" 4485
lconwaymacOS 12.7.1 Montereyx86_644.4.0 (2024-04-24) -- "Puppy Cup" 3444
Click on any hostname to see more info about the system (e.g. compilers)      (*) as reported by 'uname -p', except on Windows and Mac OS X

All results for package MatrixGenerics


To the developers/maintainers of the MatrixGenerics package:
- Allow up to 24 hours (and sometimes 48 hours) for your latest push to git@git.bioconductor.org:packages/MatrixGenerics.git to reflect on this report. See Troubleshooting Build Report for more information.
- Use the following Renviron settings to reproduce errors and warnings.
- If 'R CMD check' started to fail recently on the Linux builder(s) over a missing dependency, add the missing dependency to 'Suggests:' in your DESCRIPTION file. See Renviron.bioc for more information.

raw results

Package 1172/2300HostnameOS / ArchINSTALLBUILDCHECKBUILD BIN
MatrixGenerics 1.16.0  (landing page)
Peter Hickey
Snapshot Date: 2024-05-21 14:00:15 -0400 (Tue, 21 May 2024)
git_url: https://git.bioconductor.org/packages/MatrixGenerics
git_branch: RELEASE_3_19
git_last_commit: 80e0be9
git_last_commit_date: 2024-04-30 11:22:36 -0400 (Tue, 30 Apr 2024)
nebbiolo1Linux (Ubuntu 22.04.3 LTS) / x86_64  OK    OK    OK  UNNEEDED, same version is already published
palomino3Windows Server 2022 Datacenter / x64  OK    OK    OK    OK  UNNEEDED, same version is already published
lconwaymacOS 12.7.1 Monterey / x86_64  OK    OK    ERROR    OK  
kjohnson3macOS 13.6.5 Ventura / arm64see weekly results here

Results for Bioconductor software packages that depend directly on package MatrixGenerics

QUICK STATSOS / ArchINSTALLBUILDCHECKBUILD BIN
nebbiolo1Linux (Ubuntu 22.04.3 LTS) / x86_64
0043
0142
00735
palomino3Windows Server 2022 Datacenter / x64
0042
0042
01734
0042
lconwaymacOS 12.7.1 Monterey / x86_64
0403
0412
0011
002
Package 1/43HostnameOS / ArchINSTALLBUILDCHECKBUILD BIN
atena 1.10.0  (landing page)
Robert Castelo
git_last_commit: 7e1c59e
git_last_commit_date: 2024-04-30 11:37:21 -0400
nebbiolo1Linux (Ubuntu 22.04.3 LTS) / x86_64  OK    OK    OK  UNNEEDED, same version is already published
palomino3Windows Server 2022 Datacenter / x64  OK    OK    OK    OK  UNNEEDED, same version is already published
lconwaymacOS 12.7.1 Monterey / x86_64  ERROR    ERROR  skippedskipped
kjohnson3macOS 13.6.5 Ventura / arm64see weekly results here
Package 2/43HostnameOS / ArchINSTALLBUILDCHECKBUILD BIN
CoreGx 2.8.0  (landing page)
Benjamin Haibe-Kains
git_last_commit: 8383850
git_last_commit_date: 2024-04-30 11:23:55 -0400
nebbiolo1Linux (Ubuntu 22.04.3 LTS) / x86_64  OK    OK    OK  UNNEEDED, same version is already published
palomino3Windows Server 2022 Datacenter / x64  OK    OK    OK    OK  UNNEEDED, same version is already published
lconwaymacOS 12.7.1 Monterey / x86_64  ERROR    ERROR  skippedskipped
kjohnson3macOS 13.6.5 Ventura / arm64see weekly results here
Package 3/43HostnameOS / ArchINSTALLBUILDCHECKBUILD BIN
crisprDesign 1.6.0  (landing page)
Jean-Philippe Fortin
git_last_commit: 9c8b631
git_last_commit_date: 2024-04-30 11:43:47 -0400
nebbiolo1Linux (Ubuntu 22.04.3 LTS) / x86_64  OK    OK    OK  UNNEEDED, same version is already published
palomino3Windows Server 2022 Datacenter / x64  OK    OK    OK    OK  UNNEEDED, same version is already published
lconwaymacOS 12.7.1 Monterey / x86_64  ERROR    ERROR  skippedskipped
kjohnson3macOS 13.6.5 Ventura / arm64see weekly results here
Package 4/43HostnameOS / ArchINSTALLBUILDCHECKBUILD BIN
CTexploreR 1.0.0  (landing page)
Axelle Loriot
git_last_commit: 7af29e4
git_last_commit_date: 2024-04-30 11:53:09 -0400
nebbiolo1Linux (Ubuntu 22.04.3 LTS) / x86_64  OK    OK    OK  UNNEEDED, same version is already published
palomino3Windows Server 2022 Datacenter / x64  OK    OK    OK    OK  UNNEEDED, same version is already published
lconwaymacOS 12.7.1 Monterey / x86_64  ERROR    ERROR  skippedskipped
kjohnson3macOS 13.6.5 Ventura / arm64see weekly results here
Package 5/43HostnameOS / ArchINSTALLBUILDCHECKBUILD BIN
DelayedArray 0.30.1  (landing page)
Hervé Pagès
git_last_commit: 099a643
git_last_commit_date: 2024-05-06 19:22:25 -0400
nebbiolo1Linux (Ubuntu 22.04.3 LTS) / x86_64  OK    OK    WARNINGS  UNNEEDED, same version is already published
palomino3Windows Server 2022 Datacenter / x64  OK    OK    WARNINGS    OK  UNNEEDED, same version is already published
lconwaymacOS 12.7.1 Monterey / x86_64  ERROR    ERROR  skippedskipped
kjohnson3macOS 13.6.5 Ventura / arm64see weekly results here
Package 6/43HostnameOS / ArchINSTALLBUILDCHECKBUILD BIN
DelayedMatrixStats 1.26.0  (landing page)
Peter Hickey
git_last_commit: 5774778
git_last_commit_date: 2024-04-30 11:01:46 -0400
nebbiolo1Linux (Ubuntu 22.04.3 LTS) / x86_64  OK    OK    OK  UNNEEDED, same version is already published
palomino3Windows Server 2022 Datacenter / x64  OK    OK    OK    OK  UNNEEDED, same version is already published
lconwaymacOS 12.7.1 Monterey / x86_64  ERROR    ERROR  skippedskipped
kjohnson3macOS 13.6.5 Ventura / arm64see weekly results here
Package 7/43HostnameOS / ArchINSTALLBUILDCHECKBUILD BIN
demuxSNP 1.2.0  (landing page)
Michael Lynch
git_last_commit: 197fc63
git_last_commit_date: 2024-04-30 11:49:40 -0400
nebbiolo1Linux (Ubuntu 22.04.3 LTS) / x86_64  OK    OK    OK  UNNEEDED, same version is already published
palomino3Windows Server 2022 Datacenter / x64  OK    OK    OK    OK  UNNEEDED, same version is already published
lconwaymacOS 12.7.1 Monterey / x86_64  ERROR    ERROR  skippedskipped
kjohnson3macOS 13.6.5 Ventura / arm64see weekly results here
Package 8/43HostnameOS / ArchINSTALLBUILDCHECKBUILD BIN
DESeq2 1.44.0  (landing page)
Michael Love
git_last_commit: 5facd30
git_last_commit_date: 2024-04-30 10:30:41 -0400
nebbiolo1Linux (Ubuntu 22.04.3 LTS) / x86_64  OK    OK    OK  UNNEEDED, same version is already published
palomino3Windows Server 2022 Datacenter / x64  OK    OK    OK    OK  UNNEEDED, same version is already published
lconwaymacOS 12.7.1 Monterey / x86_64  ERROR    ERROR  skippedskipped
kjohnson3macOS 13.6.5 Ventura / arm64see weekly results here
Package 9/43HostnameOS / ArchINSTALLBUILDCHECKBUILD BIN
dreamlet 1.2.0  (landing page)
Gabriel Hoffman
git_last_commit: c23624e
git_last_commit_date: 2024-04-30 11:51:18 -0400
nebbiolo1Linux (Ubuntu 22.04.3 LTS) / x86_64  OK    OK    OK  UNNEEDED, same version is already published
palomino3Windows Server 2022 Datacenter / x64  OK    OK    OK    OK  UNNEEDED, same version is already published
lconwaymacOS 12.7.1 Monterey / x86_64  ERROR    ERROR  skippedskipped
kjohnson3macOS 13.6.5 Ventura / arm64see weekly results here
Package 10/43HostnameOS / ArchINSTALLBUILDCHECKBUILD BIN
escape 2.0.0  (landing page)
Nick Borcherding
git_last_commit: d314a29
git_last_commit_date: 2024-04-30 11:25:33 -0400
nebbiolo1Linux (Ubuntu 22.04.3 LTS) / x86_64  OK    OK    OK  UNNEEDED, same version is already published
palomino3Windows Server 2022 Datacenter / x64  OK    OK    OK    OK  UNNEEDED, same version is already published
lconwaymacOS 12.7.1 Monterey / x86_64  ERROR    ERROR  skippedskipped
kjohnson3macOS 13.6.5 Ventura / arm64see weekly results here
Package 11/43HostnameOS / ArchINSTALLBUILDCHECKBUILD BIN
genefilter 1.86.0  (landing page)
Bioconductor Package Maintainer
git_last_commit: 43d41cb
git_last_commit_date: 2024-04-30 10:10:51 -0400
nebbiolo1Linux (Ubuntu 22.04.3 LTS) / x86_64  OK    OK    WARNINGS  UNNEEDED, same version is already published
palomino3Windows Server 2022 Datacenter / x64  OK    OK    WARNINGS    OK  UNNEEDED, same version is already published
lconwaymacOS 12.7.1 Monterey / x86_64  OK    OK    WARNINGS    OK  UNNEEDED, same version is already published
kjohnson3macOS 13.6.5 Ventura / arm64see weekly results here
Package 12/43HostnameOS / ArchINSTALLBUILDCHECKBUILD BIN
GenomicFiles 1.40.0  (landing page)
Bioconductor Package Maintainer
git_last_commit: 9799abf
git_last_commit_date: 2024-04-30 10:36:19 -0400
nebbiolo1Linux (Ubuntu 22.04.3 LTS) / x86_64  OK    OK    WARNINGS  UNNEEDED, same version is already published
palomino3Windows Server 2022 Datacenter / x64  OK    OK    ERROR    OK  
lconwaymacOS 12.7.1 Monterey / x86_64  ERROR    ERROR  skippedskipped
kjohnson3macOS 13.6.5 Ventura / arm64see weekly results here
Package 13/43HostnameOS / ArchINSTALLBUILDCHECKBUILD BIN
glmGamPoi 1.16.0  (landing page)
Constantin Ahlmann-Eltze
git_last_commit: 50d5e6f
git_last_commit_date: 2024-04-30 11:22:42 -0400
nebbiolo1Linux (Ubuntu 22.04.3 LTS) / x86_64  OK    OK    OK  UNNEEDED, same version is already published
palomino3Windows Server 2022 Datacenter / x64  OK    OK    OK    OK  UNNEEDED, same version is already published
lconwaymacOS 12.7.1 Monterey / x86_64  ERROR    ERROR  skippedskipped
kjohnson3macOS 13.6.5 Ventura / arm64see weekly results here
Package 14/43HostnameOS / ArchINSTALLBUILDCHECKBUILD BIN
imcRtools 1.10.0  (landing page)
Daniel Schulz
git_last_commit: 39e011c
git_last_commit_date: 2024-04-30 11:37:34 -0400
nebbiolo1Linux (Ubuntu 22.04.3 LTS) / x86_64  OK    OK    OK  UNNEEDED, same version is already published
palomino3Windows Server 2022 Datacenter / x64  OK    OK    OK    OK  UNNEEDED, same version is already published
lconwaymacOS 12.7.1 Monterey / x86_64  ERROR    ERROR  skippedskipped
kjohnson3macOS 13.6.5 Ventura / arm64see weekly results here
Package 15/43HostnameOS / ArchINSTALLBUILDCHECKBUILD BIN
lemur 1.2.0  (landing page)
Constantin Ahlmann-Eltze
git_last_commit: 452a483
git_last_commit_date: 2024-04-30 11:52:37 -0400
nebbiolo1Linux (Ubuntu 22.04.3 LTS) / x86_64  OK    OK    OK  UNNEEDED, same version is already published
palomino3Windows Server 2022 Datacenter / x64  OK    OK    OK    OK  UNNEEDED, same version is already published
lconwaymacOS 12.7.1 Monterey / x86_64  ERROR    ERROR  skippedskipped
kjohnson3macOS 13.6.5 Ventura / arm64see weekly results here
Package 16/43HostnameOS / ArchINSTALLBUILDCHECKBUILD BIN
lineagespot 1.8.0  (landing page)
Nikolaos Pechlivanis
git_last_commit: e1f8b2b
git_last_commit_date: 2024-04-30 11:40:15 -0400
nebbiolo1Linux (Ubuntu 22.04.3 LTS) / x86_64  OK    OK    OK  UNNEEDED, same version is already published
palomino3Windows Server 2022 Datacenter / x64  OK    OK    OK    OK  UNNEEDED, same version is already published
lconwaymacOS 12.7.1 Monterey / x86_64  ERROR    ERROR  skippedskipped
kjohnson3macOS 13.6.5 Ventura / arm64see weekly results here
Package 17/43HostnameOS / ArchINSTALLBUILDCHECKBUILD BIN
mia 1.12.0  (landing page)
Tuomas Borman
git_last_commit: 38dad1b
git_last_commit_date: 2024-04-30 11:32:24 -0400
nebbiolo1Linux (Ubuntu 22.04.3 LTS) / x86_64  OK    OK    OK  UNNEEDED, same version is already published
palomino3Windows Server 2022 Datacenter / x64  OK    OK    OK    OK  UNNEEDED, same version is already published
lconwaymacOS 12.7.1 Monterey / x86_64  ERROR    ERROR  skippedskipped
kjohnson3macOS 13.6.5 Ventura / arm64see weekly results here
Package 18/43HostnameOS / ArchINSTALLBUILDCHECKBUILD BIN
miaSim 1.10.0  (landing page)
Yagmur Simsek
git_last_commit: 53e4ffe
git_last_commit_date: 2024-04-30 11:38:22 -0400
nebbiolo1Linux (Ubuntu 22.04.3 LTS) / x86_64  OK    OK    OK  UNNEEDED, same version is already published
palomino3Windows Server 2022 Datacenter / x64  OK    OK    OK    OK  UNNEEDED, same version is already published
lconwaymacOS 12.7.1 Monterey / x86_64  ERROR    ERROR  skippedskipped
kjohnson3macOS 13.6.5 Ventura / arm64see weekly results here
Package 19/43HostnameOS / ArchINSTALLBUILDCHECKBUILD BIN
miloR 2.0.0  (landing page)
Mike Morgan
git_last_commit: 97eb8a7
git_last_commit_date: 2024-04-30 11:34:02 -0400
nebbiolo1Linux (Ubuntu 22.04.3 LTS) / x86_64  OK    ERROR  skipped
palomino3Windows Server 2022 Datacenter / x64  OK    OK    OK    OK  UNNEEDED, same version is already published
lconwaymacOS 12.7.1 Monterey / x86_64  ERROR    ERROR  skippedskipped
kjohnson3macOS 13.6.5 Ventura / arm64see weekly results here
Package 20/43HostnameOS / ArchINSTALLBUILDCHECKBUILD BIN
MinimumDistance 1.48.0  (landing page)
Robert Scharpf
git_last_commit: d036459
git_last_commit_date: 2024-04-30 10:27:38 -0400
nebbiolo1Linux (Ubuntu 22.04.3 LTS) / x86_64  OK    OK    WARNINGS  UNNEEDED, same version is already published
palomino3Windows Server 2022 Datacenter / x64  OK    OK    WARNINGS    OK  UNNEEDED, same version is already published
lconwaymacOS 12.7.1 Monterey / x86_64  ERROR    ERROR  skippedskipped
kjohnson3macOS 13.6.5 Ventura / arm64see weekly results here
Package 21/43HostnameOS / ArchINSTALLBUILDCHECKBUILD BIN
PDATK 1.12.0  (landing page)
Benjamin Haibe-Kains
git_last_commit: 857690d
git_last_commit_date: 2024-04-30 11:31:36 -0400
nebbiolo1Linux (Ubuntu 22.04.3 LTS) / x86_64  OK    OK    WARNINGS  UNNEEDED, same version is already published
palomino3Windows Server 2022 Datacenter / x64  OK    OK    WARNINGS    OK  UNNEEDED, same version is already published
lconwaymacOS 12.7.1 Monterey / x86_64  ERROR    ERROR  skippedskipped
kjohnson3macOS 13.6.5 Ventura / arm64see weekly results here
Package 22/43HostnameOS / ArchINSTALLBUILDCHECKBUILD BIN
RaggedExperiment 1.28.0  (landing page)
Marcel Ramos
git_last_commit: 0928c6d
git_last_commit_date: 2024-04-30 10:57:31 -0400
nebbiolo1Linux (Ubuntu 22.04.3 LTS) / x86_64  OK    OK    OK  UNNEEDED, same version is already published
palomino3Windows Server 2022 Datacenter / x64  OK    OK    OK    OK  UNNEEDED, same version is already published
lconwaymacOS 12.7.1 Monterey / x86_64  ERROR    ERROR  skippedskipped
kjohnson3macOS 13.6.5 Ventura / arm64see weekly results here
Package 23/43HostnameOS / ArchINSTALLBUILDCHECKBUILD BIN
RAIDS 1.2.0  (landing page)
Pascal Belleau
git_last_commit: a9ec943
git_last_commit_date: 2024-04-30 11:51:55 -0400
nebbiolo1Linux (Ubuntu 22.04.3 LTS) / x86_64  OK    OK    OK  UNNEEDED, same version is already published
palomino3Windows Server 2022 Datacenter / x64  OK    OK    OK    OK  UNNEEDED, same version is already published
lconwaymacOS 12.7.1 Monterey / x86_64  ERROR    ERROR  skippedskipped
kjohnson3macOS 13.6.5 Ventura / arm64see weekly results here
Package 24/43HostnameOS / ArchINSTALLBUILDCHECKBUILD BIN
RCSL 1.12.0  (landing page)
Qinglin Mei
git_last_commit: 1a9e756
git_last_commit_date: 2024-04-30 11:35:11 -0400
nebbiolo1Linux (Ubuntu 22.04.3 LTS) / x86_64  OK    OK    OK  UNNEEDED, same version is already published
palomino3Windows Server 2022 Datacenter / x64  OK    OK    OK    OK  UNNEEDED, same version is already published
lconwaymacOS 12.7.1 Monterey / x86_64  ERROR    ERROR  skippedskipped
kjohnson3macOS 13.6.5 Ventura / arm64see weekly results here
Package 25/43HostnameOS / ArchINSTALLBUILDCHECKBUILD BIN
saseR 1.0.0  (landing page)
Alexandre Segers
git_last_commit: 83a2bb6
git_last_commit_date: 2024-04-30 11:53:31 -0400
nebbiolo1Linux (Ubuntu 22.04.3 LTS) / x86_64  OK    OK    WARNINGS  UNNEEDED, same version is already published
palomino3Windows Server 2022 Datacenter / x64  OK    OK    WARNINGS    OK  UNNEEDED, same version is already published
lconwaymacOS 12.7.1 Monterey / x86_64  ERROR    ERROR  skippedskipped
kjohnson3macOS 13.6.5 Ventura / arm64see weekly results here
Package 26/43HostnameOS / ArchINSTALLBUILDCHECKBUILD BIN
scater 1.32.0  (landing page)
Alan O'Callaghan
git_last_commit: 8256e28
git_last_commit_date: 2024-04-30 10:48:21 -0400
nebbiolo1Linux (Ubuntu 22.04.3 LTS) / x86_64  OK    OK    OK  UNNEEDED, same version is already published
palomino3Windows Server 2022 Datacenter / x64  OK    OK    OK    OK  UNNEEDED, same version is already published
lconwaymacOS 12.7.1 Monterey / x86_64  ERROR    ERROR  skippedskipped
kjohnson3macOS 13.6.5 Ventura / arm64see weekly results here
Package 27/43HostnameOS / ArchINSTALLBUILDCHECKBUILD BIN
scFeatures 1.4.0  (landing page)
Yue Cao
git_last_commit: b3d1905
git_last_commit_date: 2024-04-30 11:47:00 -0400
nebbiolo1Linux (Ubuntu 22.04.3 LTS) / x86_64  OK    OK    OK  UNNEEDED, same version is already published
palomino3Windows Server 2022 Datacenter / x64  OK    OK    OK    OK  UNNEEDED, same version is already published
lconwaymacOS 12.7.1 Monterey / x86_64  ERROR    ERROR  skippedskipped
kjohnson3macOS 13.6.5 Ventura / arm64see weekly results here
Package 28/43HostnameOS / ArchINSTALLBUILDCHECKBUILD BIN
scone 1.28.0  (landing page)
Davide Risso
git_last_commit: 298a397
git_last_commit_date: 2024-04-30 10:55:37 -0400
nebbiolo1Linux (Ubuntu 22.04.3 LTS) / x86_64  OK    OK    OK  UNNEEDED, same version is already published
palomino3Windows Server 2022 Datacenter / x64  OK    OK    OK    OK  UNNEEDED, same version is already published
lconwaymacOS 12.7.1 Monterey / x86_64  ERROR    ERROR  skippedskipped
kjohnson3macOS 13.6.5 Ventura / arm64see weekly results here
Package 29/43HostnameOS / ArchINSTALLBUILDCHECKBUILD BIN
scPCA 1.18.0  (landing page)
Philippe Boileau
git_last_commit: 6e7f916
git_last_commit_date: 2024-04-30 11:18:48 -0400
nebbiolo1Linux (Ubuntu 22.04.3 LTS) / x86_64  OK    OK    OK  UNNEEDED, same version is already published
palomino3Windows Server 2022 Datacenter / x64  OK    OK    OK    OK  UNNEEDED, same version is already published
lconwaymacOS 12.7.1 Monterey / x86_64  ERROR    ERROR  skippedskipped
kjohnson3macOS 13.6.5 Ventura / arm64see weekly results here
Package 30/43HostnameOS / ArchINSTALLBUILDCHECKBUILD BIN
scviR 1.4.0  (landing page)
Vincent Carey
git_last_commit: c432439
git_last_commit_date: 2024-04-30 11:47:51 -0400
nebbiolo1Linux (Ubuntu 22.04.3 LTS) / x86_64  OK    OK    OK  UNNEEDED, same version is already published
palomino3Windows Server 2022 Datacenter / x64... NOT SUPPORTED ...
lconwaymacOS 12.7.1 Monterey / x86_64  ERROR    ERROR  skippedskipped
kjohnson3macOS 13.6.5 Ventura / arm64see weekly results here
Package 31/43HostnameOS / ArchINSTALLBUILDCHECKBUILD BIN
shinyMethyl 1.40.0  (landing page)
Jean-Philippe Fortin
git_last_commit: 8f38f59
git_last_commit_date: 2024-04-30 10:37:25 -0400
nebbiolo1Linux (Ubuntu 22.04.3 LTS) / x86_64  OK    OK    OK  UNNEEDED, same version is already published
palomino3Windows Server 2022 Datacenter / x64  OK    OK    OK    OK  UNNEEDED, same version is already published
lconwaymacOS 12.7.1 Monterey / x86_64  ERROR    ERROR  skippedskipped
kjohnson3macOS 13.6.5 Ventura / arm64see weekly results here
Package 32/43HostnameOS / ArchINSTALLBUILDCHECKBUILD BIN
SparseArray 1.4.5  (landing page)
Hervé Pagès
git_last_commit: 100c34e
git_last_commit_date: 2024-05-21 13:34:38 -0400
nebbiolo1Linux (Ubuntu 22.04.3 LTS) / x86_64  OK    OK    OK  UNNEEDED, same version is already published
palomino3Windows Server 2022 Datacenter / x64  OK    OK    WARNINGS    OK  UNNEEDED, same version is already published
lconwaymacOS 12.7.1 Monterey / x86_64  ERROR    ERROR  skippedskipped
kjohnson3macOS 13.6.5 Ventura / arm64see weekly results here
Package 33/43HostnameOS / ArchINSTALLBUILDCHECKBUILD BIN
sparseMatrixStats 1.16.0  (landing page)
Constantin Ahlmann-Eltze
git_last_commit: 2ad650c
git_last_commit_date: 2024-04-30 11:22:33 -0400
nebbiolo1Linux (Ubuntu 22.04.3 LTS) / x86_64  OK    OK    OK  UNNEEDED, same version is already published
palomino3Windows Server 2022 Datacenter / x64  OK    OK    OK    OK  UNNEEDED, same version is already published
lconwaymacOS 12.7.1 Monterey / x86_64  OK    OK    OK    OK  UNNEEDED, same version is already published
kjohnson3macOS 13.6.5 Ventura / arm64see weekly results here
Package 34/43HostnameOS / ArchINSTALLBUILDCHECKBUILD BIN
spatzie 1.10.0  (landing page)
Jennifer Hammelman
git_last_commit: adb0b9b
git_last_commit_date: 2024-04-30 11:36:15 -0400
nebbiolo1Linux (Ubuntu 22.04.3 LTS) / x86_64  OK    OK    OK  UNNEEDED, same version is already published
palomino3Windows Server 2022 Datacenter / x64  OK    OK    OK    OK  UNNEEDED, same version is already published
lconwaymacOS 12.7.1 Monterey / x86_64  ERROR    ERROR  skippedskipped
kjohnson3macOS 13.6.5 Ventura / arm64see weekly results here
Package 35/43HostnameOS / ArchINSTALLBUILDCHECKBUILD BIN
SummarizedExperiment 1.34.0  (landing page)
Hervé Pagès
git_last_commit: 503f180
git_last_commit_date: 2024-04-30 14:50:20 -0400
nebbiolo1Linux (Ubuntu 22.04.3 LTS) / x86_64  OK    OK    OK  UNNEEDED, same version is already published
palomino3Windows Server 2022 Datacenter / x64  OK    OK    OK    OK  UNNEEDED, same version is already published
lconwaymacOS 12.7.1 Monterey / x86_64  ERROR    ERROR  skippedskipped
kjohnson3macOS 13.6.5 Ventura / arm64see weekly results here
Package 36/43HostnameOS / ArchINSTALLBUILDCHECKBUILD BIN
tadar 1.2.0  (landing page)
Lachlan Baer
git_last_commit: 1986d48
git_last_commit_date: 2024-04-30 11:51:44 -0400
nebbiolo1Linux (Ubuntu 22.04.3 LTS) / x86_64  OK    OK    OK  UNNEEDED, same version is already published
palomino3Windows Server 2022 Datacenter / x64  OK    OK    OK    OK  UNNEEDED, same version is already published
lconwaymacOS 12.7.1 Monterey / x86_64  ERROR    ERROR  skippedskipped
kjohnson3macOS 13.6.5 Ventura / arm64see weekly results here
Package 37/43HostnameOS / ArchINSTALLBUILDCHECKBUILD BIN
TENxIO 1.6.0  (landing page)
Marcel Ramos
git_last_commit: 2372980
git_last_commit_date: 2024-04-30 11:45:22 -0400
nebbiolo1Linux (Ubuntu 22.04.3 LTS) / x86_64  OK    OK    OK  UNNEEDED, same version is already published
palomino3Windows Server 2022 Datacenter / x64  OK    OK    OK    OK  UNNEEDED, same version is already published
lconwaymacOS 12.7.1 Monterey / x86_64  ERROR    ERROR  skippedskipped
kjohnson3macOS 13.6.5 Ventura / arm64see weekly results here
Package 38/43HostnameOS / ArchINSTALLBUILDCHECKBUILD BIN
tLOH 1.12.0  (landing page)
Michelle Webb
git_last_commit: 677831a
git_last_commit_date: 2024-04-30 11:33:45 -0400
nebbiolo1Linux (Ubuntu 22.04.3 LTS) / x86_64  OK    OK    OK  UNNEEDED, same version is already published
palomino3Windows Server 2022 Datacenter / x64  OK    OK    OK    OK  UNNEEDED, same version is already published
lconwaymacOS 12.7.1 Monterey / x86_64  ERROR    ERROR  skippedskipped
kjohnson3macOS 13.6.5 Ventura / arm64see weekly results here
Package 39/43HostnameOS / ArchINSTALLBUILDCHECKBUILD BIN
tpSVG 1.0.0  (landing page)
Boyi Guo
git_last_commit: 59acc73
git_last_commit_date: 2024-04-30 11:54:40 -0400
nebbiolo1Linux (Ubuntu 22.04.3 LTS) / x86_64  OK    OK    OK  UNNEEDED, same version is already published
palomino3Windows Server 2022 Datacenter / x64  OK    OK    OK    OK  UNNEEDED, same version is already published
lconwaymacOS 12.7.1 Monterey / x86_64  ERROR    ERROR  skippedskipped
kjohnson3macOS 13.6.5 Ventura / arm64see weekly results here
Package 40/43HostnameOS / ArchINSTALLBUILDCHECKBUILD BIN
transformGamPoi 1.10.0  (landing page)
Constantin Ahlmann-Eltze
git_last_commit: d1872ad
git_last_commit_date: 2024-04-30 11:37:13 -0400
nebbiolo1Linux (Ubuntu 22.04.3 LTS) / x86_64  OK    OK    OK  UNNEEDED, same version is already published
palomino3Windows Server 2022 Datacenter / x64  OK    OK    OK    OK  UNNEEDED, same version is already published
lconwaymacOS 12.7.1 Monterey / x86_64  ERROR    ERROR  skippedskipped
kjohnson3macOS 13.6.5 Ventura / arm64see weekly results here
Package 41/43HostnameOS / ArchINSTALLBUILDCHECKBUILD BIN
universalmotif 1.22.0  (landing page)
Benjamin Jean-Marie Tremblay
git_last_commit: e6c220a
git_last_commit_date: 2024-04-30 11:10:57 -0400
nebbiolo1Linux (Ubuntu 22.04.3 LTS) / x86_64  OK    OK    OK  UNNEEDED, same version is already published
palomino3Windows Server 2022 Datacenter / x64  OK    OK    OK    OK  UNNEEDED, same version is already published
lconwaymacOS 12.7.1 Monterey / x86_64  OK    ERROR  skippedskipped
kjohnson3macOS 13.6.5 Ventura / arm64see weekly results here
Package 42/43HostnameOS / ArchINSTALLBUILDCHECKBUILD BIN
VanillaICE 1.66.0  (landing page)
Robert Scharpf
git_last_commit: 7ff0406
git_last_commit_date: 2024-04-30 10:17:20 -0400
nebbiolo1Linux (Ubuntu 22.04.3 LTS) / x86_64  OK    OK    OK  UNNEEDED, same version is already published
palomino3Windows Server 2022 Datacenter / x64  OK    OK    OK    OK  UNNEEDED, same version is already published
lconwaymacOS 12.7.1 Monterey / x86_64  ERROR    ERROR  skippedskipped
kjohnson3macOS 13.6.5 Ventura / arm64see weekly results here
Package 43/43HostnameOS / ArchINSTALLBUILDCHECKBUILD BIN
VariantAnnotation 1.50.0  (landing page)
Bioconductor Package Maintainer
git_last_commit: 7805cec
git_last_commit_date: 2024-04-30 10:25:08 -0400
nebbiolo1Linux (Ubuntu 22.04.3 LTS) / x86_64  OK    OK    WARNINGS  UNNEEDED, same version is already published
palomino3Windows Server 2022 Datacenter / x64  OK    OK    WARNINGS    OK  UNNEEDED, same version is already published
lconwaymacOS 12.7.1 Monterey / x86_64  ERROR    ERROR  skippedskipped
kjohnson3macOS 13.6.5 Ventura / arm64see weekly results here