Back to Multiple platform build/check report for BioC 3.19:   simplified   long
ABCDEFGHIJKL[M]NOPQRSTUVWXYZ

This page was generated on 2024-05-22 11:36:42 -0400 (Wed, 22 May 2024).

HostnameOSArch (*)R versionInstalled pkgs
nebbiolo1Linux (Ubuntu 22.04.3 LTS)x86_644.4.0 (2024-04-24) -- "Puppy Cup" 4751
palomino3Windows Server 2022 Datacenterx644.4.0 (2024-04-24 ucrt) -- "Puppy Cup" 4485
lconwaymacOS 12.7.1 Montereyx86_644.4.0 (2024-04-24) -- "Puppy Cup" 3444
Click on any hostname to see more info about the system (e.g. compilers)      (*) as reported by 'uname -p', except on Windows and Mac OS X

Package 1169/2300HostnameOS / ArchINSTALLBUILDCHECKBUILD BIN
MAST 1.30.0  (landing page)
Andrew McDavid
Snapshot Date: 2024-05-21 14:00:15 -0400 (Tue, 21 May 2024)
git_url: https://git.bioconductor.org/packages/MAST
git_branch: RELEASE_3_19
git_last_commit: da42c5a
git_last_commit_date: 2024-04-30 10:54:15 -0400 (Tue, 30 Apr 2024)
nebbiolo1Linux (Ubuntu 22.04.3 LTS) / x86_64  OK    OK    WARNINGS  UNNEEDED, same version is already published
palomino3Windows Server 2022 Datacenter / x64  OK    OK    WARNINGS    OK  UNNEEDED, same version is already published
lconwaymacOS 12.7.1 Monterey / x86_64  ERROR    ERROR  skippedskipped
kjohnson3macOS 13.6.5 Ventura / arm64see weekly results here

INSTALL results for MAST on lconway


To the developers/maintainers of the MAST package:
- Allow up to 24 hours (and sometimes 48 hours) for your latest push to git@git.bioconductor.org:packages/MAST.git to reflect on this report. See Troubleshooting Build Report for more information.
- Use the following Renviron settings to reproduce errors and warnings.
- If 'R CMD check' started to fail recently on the Linux builder(s) over a missing dependency, add the missing dependency to 'Suggests:' in your DESCRIPTION file. See Renviron.bioc for more information.

raw results


Summary

Package: MAST
Version: 1.30.0
Command: /Library/Frameworks/R.framework/Resources/bin/R CMD INSTALL MAST
StartedAt: 2024-05-21 15:10:17 -0400 (Tue, 21 May 2024)
EndedAt: 2024-05-21 15:10:26 -0400 (Tue, 21 May 2024)
EllapsedTime: 9.3 seconds
RetCode: 1
Status:   ERROR  

Command output

##############################################################################
##############################################################################
###
### Running command:
###
###   /Library/Frameworks/R.framework/Resources/bin/R CMD INSTALL MAST
###
##############################################################################
##############################################################################


* installing to library ‘/Library/Frameworks/R.framework/Versions/4.4-x86_64/Resources/library’
ERROR: dependencies ‘SingleCellExperiment’, ‘SummarizedExperiment’ are not available for package ‘MAST’
* removing ‘/Library/Frameworks/R.framework/Versions/4.4-x86_64/Resources/library/MAST’