Back to Multiple platform build/check report for BioC 3.19:   simplified   long
ABCDEFGHIJKL[M]NOPQRSTUVWXYZ

This page was generated on 2024-05-21 11:38:09 -0400 (Tue, 21 May 2024).

HostnameOSArch (*)R versionInstalled pkgs
nebbiolo1Linux (Ubuntu 22.04.3 LTS)x86_644.4.0 (2024-04-24) -- "Puppy Cup" 4751
palomino3Windows Server 2022 Datacenterx644.4.0 (2024-04-24 ucrt) -- "Puppy Cup" 4485
lconwaymacOS 12.7.1 Montereyx86_644.4.0 (2024-04-24) -- "Puppy Cup" 4515
Click on any hostname to see more info about the system (e.g. compilers)      (*) as reported by 'uname -p', except on Windows and Mac OS X

Package 1169/2300HostnameOS / ArchINSTALLBUILDCHECKBUILD BIN
MAST 1.30.0  (landing page)
Andrew McDavid
Snapshot Date: 2024-05-20 14:00:15 -0400 (Mon, 20 May 2024)
git_url: https://git.bioconductor.org/packages/MAST
git_branch: RELEASE_3_19
git_last_commit: da42c5a
git_last_commit_date: 2024-04-30 10:54:15 -0400 (Tue, 30 Apr 2024)
nebbiolo1Linux (Ubuntu 22.04.3 LTS) / x86_64  OK    OK    WARNINGS  UNNEEDED, same version is already published
palomino3Windows Server 2022 Datacenter / x64  OK    OK    WARNINGS    OK  UNNEEDED, same version is already published
lconwaymacOS 12.7.1 Monterey / x86_64  OK    OK    WARNINGS    OK  UNNEEDED, same version is already published
kjohnson3macOS 13.6.5 Ventura / arm64see weekly results here

BUILD BIN results for MAST on lconway


To the developers/maintainers of the MAST package:
- Allow up to 24 hours (and sometimes 48 hours) for your latest push to git@git.bioconductor.org:packages/MAST.git to reflect on this report. See Troubleshooting Build Report for more information.
- Use the following Renviron settings to reproduce errors and warnings.
- If 'R CMD check' started to fail recently on the Linux builder(s) over a missing dependency, add the missing dependency to 'Suggests:' in your DESCRIPTION file. See Renviron.bioc for more information.

raw results


Summary

Package: MAST
Version: 1.30.0
Command: rm -rf MAST.buildbin-libdir && mkdir MAST.buildbin-libdir && /Users/biocbuild/BBS/utils/build-universal.sh MAST_1.30.0.tar.gz /Library/Frameworks/R.framework/Resources/bin/R MAST.buildbin-libdir
StartedAt: 2024-05-21 01:20:16 -0400 (Tue, 21 May 2024)
EndedAt: 2024-05-21 01:21:22 -0400 (Tue, 21 May 2024)
EllapsedTime: 65.5 seconds
RetCode: 0
Status:   OK  
PackageFile: MAST_1.30.0.tgz
PackageFileSize: 7.911 MiB

Command output

##############################################################################
##############################################################################
###
### Running command:
###
###   rm -rf MAST.buildbin-libdir && mkdir MAST.buildbin-libdir && /Users/biocbuild/BBS/utils/build-universal.sh MAST_1.30.0.tar.gz /Library/Frameworks/R.framework/Resources/bin/R MAST.buildbin-libdir
###
##############################################################################
##############################################################################


>>>>>>> 
>>>>>>> INSTALLATION WITH 'R CMD INSTALL --preclean --no-multiarch --library=MAST.buildbin-libdir MAST_1.30.0.tar.gz'
>>>>>>> 

* installing *source* package ‘MAST’ ...
** using staged installation
** R
** data
*** moving datasets to lazyload DB
** inst
** byte-compile and prepare package for lazy loading
** help
*** installing help indices
** building package indices
** installing vignettes
** testing if installed package can be loaded from temporary location
** testing if installed package can be loaded from final location
** testing if installed package keeps a record of temporary installation path
* DONE (MAST)