Back to Multiple platform build/check report for BioC 3.19:   simplified   long
ABCDEFGHIJK[L]MNOPQRSTUVWXYZ

This page was generated on 2024-06-11 14:39 -0400 (Tue, 11 Jun 2024).

HostnameOSArch (*)R versionInstalled pkgs
nebbiolo1Linux (Ubuntu 22.04.3 LTS)x86_644.4.0 (2024-04-24) -- "Puppy Cup" 4757
palomino3Windows Server 2022 Datacenterx644.4.0 (2024-04-24 ucrt) -- "Puppy Cup" 4491
lconwaymacOS 12.7.1 Montereyx86_644.4.0 (2024-04-24) -- "Puppy Cup" 4522
kjohnson3macOS 13.6.5 Venturaarm644.4.0 (2024-04-24) -- "Puppy Cup" 4468
Click on any hostname to see more info about the system (e.g. compilers)      (*) as reported by 'uname -p', except on Windows and Mac OS X

Package 1122/2300HostnameOS / ArchINSTALLBUILDCHECKBUILD BIN
LOBSTAHS 1.30.0  (landing page)
Henry Holm
Snapshot Date: 2024-06-09 14:00 -0400 (Sun, 09 Jun 2024)
git_url: https://git.bioconductor.org/packages/LOBSTAHS
git_branch: RELEASE_3_19
git_last_commit: c5b570d
git_last_commit_date: 2024-04-30 10:52:17 -0400 (Tue, 30 Apr 2024)
nebbiolo1Linux (Ubuntu 22.04.3 LTS) / x86_64  OK    OK    WARNINGS  UNNEEDED, same version is already published
palomino3Windows Server 2022 Datacenter / x64  OK    OK    WARNINGS    OK  UNNEEDED, same version is already published
lconwaymacOS 12.7.1 Monterey / x86_64  OK    OK    WARNINGS    OK  UNNEEDED, same version is already published
kjohnson3macOS 13.6.5 Ventura / arm64  OK    OK    WARNINGS    OK  NO, package depends on 'xcms' which is only available as a source package that needs compilation


BUILD results for LOBSTAHS on nebbiolo1

To the developers/maintainers of the LOBSTAHS package:
- Allow up to 24 hours (and sometimes 48 hours) for your latest push to git@git.bioconductor.org:packages/LOBSTAHS.git to reflect on this report. See Troubleshooting Build Report for more information.
- Use the following Renviron settings to reproduce errors and warnings.
- If 'R CMD check' started to fail recently on the Linux builder(s) over a missing dependency, add the missing dependency to 'Suggests:' in your DESCRIPTION file. See Renviron.bioc for more information.

raw results


Summary

Package: LOBSTAHS
Version: 1.30.0
Command: /home/biocbuild/bbs-3.19-bioc/R/bin/R CMD build --keep-empty-dirs --no-resave-data LOBSTAHS
StartedAt: 2024-06-09 18:04:18 -0400 (Sun, 09 Jun 2024)
EndedAt: 2024-06-09 18:05:19 -0400 (Sun, 09 Jun 2024)
EllapsedTime: 60.1 seconds
RetCode: 0
Status:   OK  
PackageFile: LOBSTAHS_1.30.0.tar.gz
PackageFileSize: 2.902 MiB

Command output

##############################################################################
##############################################################################
###
### Running command:
###
###   /home/biocbuild/bbs-3.19-bioc/R/bin/R CMD build --keep-empty-dirs --no-resave-data LOBSTAHS
###
##############################################################################
##############################################################################


* checking for file ‘LOBSTAHS/DESCRIPTION’ ... OK
* preparing ‘LOBSTAHS’:
* checking DESCRIPTION meta-information ... OK
* installing the package to build vignettes
* creating vignettes ... OK
* checking for LF line-endings in source and make files and shell scripts
* checking for empty or unneeded directories
* looking to see if a ‘data/datalist’ file should be added
* building ‘LOBSTAHS_1.30.0.tar.gz’